BEGIN:VCALENDAR
VERSION:2.0
PRODID:-//Bridge of Life - ECPv6.15.14//NONSGML v1.0//EN
CALSCALE:GREGORIAN
METHOD:PUBLISH
X-WR-CALNAME:Bridge of Life
X-ORIGINAL-URL:https://bridgeoflife.org
X-WR-CALDESC:Events for Bridge of Life
REFRESH-INTERVAL;VALUE=DURATION:PT1H
X-Robots-Tag:noindex
X-PUBLISHED-TTL:PT1H
BEGIN:VTIMEZONE
TZID:America/New_York
BEGIN:DAYLIGHT
TZOFFSETFROM:-0500
TZOFFSETTO:-0400
TZNAME:EDT
DTSTART:20230312T070000
END:DAYLIGHT
BEGIN:STANDARD
TZOFFSETFROM:-0400
TZOFFSETTO:-0500
TZNAME:EST
DTSTART:20231105T060000
END:STANDARD
BEGIN:DAYLIGHT
TZOFFSETFROM:-0500
TZOFFSETTO:-0400
TZNAME:EDT
DTSTART:20240310T070000
END:DAYLIGHT
BEGIN:STANDARD
TZOFFSETFROM:-0400
TZOFFSETTO:-0500
TZNAME:EST
DTSTART:20241103T060000
END:STANDARD
BEGIN:DAYLIGHT
TZOFFSETFROM:-0500
TZOFFSETTO:-0400
TZNAME:EDT
DTSTART:20250309T070000
END:DAYLIGHT
BEGIN:STANDARD
TZOFFSETFROM:-0400
TZOFFSETTO:-0500
TZNAME:EST
DTSTART:20251102T060000
END:STANDARD
END:VTIMEZONE
BEGIN:VEVENT
DTSTART;TZID=America/New_York:20240420T180000
DTEND;TZID=America/New_York:20240420T200000
DTSTAMP:20260425T155755
CREATED:20240327T120712Z
LAST-MODIFIED:20240419T102936Z
UID:35353-1713636000-1713643200@bridgeoflife.org
SUMMARY:The Chosen Season 4 - Episodes 3 & 4 sponsored by One Accord Youth
DESCRIPTION:We are excited to announce that Bridge of Life will be showing The Chosen Season 4 for free this spring!\nApril 20th will be a Youth Fundraiser Night\, our One Accord Youth Group will be providing flavored popcorn\, pretzels\, and more to collect money for their missions trip to Kentucky this summer! \nCome and support us! \nUpdate:\nThe showings on May 4 and 18 have been temporarily postponed. Unfortunately\, due to the legal issues between the companies that bring us The Chosen\, episodes 5-8 have not been released to us yet. We will send out updates whenever we have more information.
URL:https://bridgeoflife.org/calendar/the-chosen-season-4-episodes-3-4/
CATEGORIES:Churchwide Events,Outreach Events,Youth Events
END:VEVENT
BEGIN:VEVENT
DTSTART;TZID=America/New_York:20240421T120000
DTEND;TZID=America/New_York:20240421T133000
DTSTAMP:20260425T155755
CREATED:20240311T194808Z
LAST-MODIFIED:20240404T150642Z
UID:35229-1713700800-1713706200@bridgeoflife.org
SUMMARY:Spaghetti Lunch Youth Fundraiser
DESCRIPTION:Help support our Youth Group with a delicious Spaghetti Lunch in the Annex directly after service. Our youth members will serve you with spaghetti\, meatballs\, salad\, and more!\nAdmission is by donation\, everything you give goes 100% to support our youth group for their missions trip to Kentucky this summer!
URL:https://bridgeoflife.org/calendar/spaghetti-lunch-youth-fundraiser/
LOCATION:Bridge of Life King’s Room\, 6 South Potomac Street\, Hagerstown\, MD\, 21740\, United States
CATEGORIES:Churchwide Events,Youth Events
END:VEVENT
END:VCALENDAR