BEGIN:VCALENDAR
VERSION:2.0
PRODID:-//Bridge of Life - ECPv6.15.14//NONSGML v1.0//EN
CALSCALE:GREGORIAN
METHOD:PUBLISH
X-WR-CALNAME:Bridge of Life
X-ORIGINAL-URL:https://bridgeoflife.org
X-WR-CALDESC:Events for Bridge of Life
REFRESH-INTERVAL;VALUE=DURATION:PT1H
X-Robots-Tag:noindex
X-PUBLISHED-TTL:PT1H
BEGIN:VTIMEZONE
TZID:America/New_York
BEGIN:DAYLIGHT
TZOFFSETFROM:-0500
TZOFFSETTO:-0400
TZNAME:EDT
DTSTART:20250309T070000
END:DAYLIGHT
BEGIN:STANDARD
TZOFFSETFROM:-0400
TZOFFSETTO:-0500
TZNAME:EST
DTSTART:20251102T060000
END:STANDARD
BEGIN:DAYLIGHT
TZOFFSETFROM:-0500
TZOFFSETTO:-0400
TZNAME:EDT
DTSTART:20260308T070000
END:DAYLIGHT
BEGIN:STANDARD
TZOFFSETFROM:-0400
TZOFFSETTO:-0500
TZNAME:EST
DTSTART:20261101T060000
END:STANDARD
BEGIN:DAYLIGHT
TZOFFSETFROM:-0500
TZOFFSETTO:-0400
TZNAME:EDT
DTSTART:20270314T070000
END:DAYLIGHT
BEGIN:STANDARD
TZOFFSETFROM:-0400
TZOFFSETTO:-0500
TZNAME:EST
DTSTART:20271107T060000
END:STANDARD
END:VTIMEZONE
BEGIN:VEVENT
DTSTART;TZID=America/New_York:20260427T180000
DTEND;TZID=America/New_York:20260427T200000
DTSTAMP:20260423T192704
CREATED:20251219T154530Z
LAST-MODIFIED:20251219T154530Z
UID:37786-1777312800-1777320000@bridgeoflife.org
SUMMARY:The Forge: Hammer
DESCRIPTION:Location: Smithsburg\nBlacksmiths: Dan & Julie Young\nPotluck Supper: Main dish provided. Please bring a side dish. \nGo deep into the Word with men and women in challenging discussions and heart connections. \nSign-up\n 
URL:https://bridgeoflife.org/calendar/the-forge-hammer-30/
CATEGORIES:The Forge
ATTACH;FMTTYPE=image/jpeg:https://bridgeoflife.org/wp-content/uploads/hammer.jpg
END:VEVENT
BEGIN:VEVENT
DTSTART;TZID=America/New_York:20260425T180000
DTEND;TZID=America/New_York:20260425T213000
DTSTAMP:20260423T192704
CREATED:20260126T205523Z
LAST-MODIFIED:20260126T205523Z
UID:37894-1777140000-1777152600@bridgeoflife.org
SUMMARY:Youth Event
DESCRIPTION:One Accord Youth ages 13+ are invited to a youth event! Contact Kevin Bere for more info!
URL:https://bridgeoflife.org/calendar/youth-event-11/
LOCATION:Bridge of Life Youth Room\, 6 South Potomac Street\, Hagerstown\, United States
CATEGORIES:Youth Events
ATTACH;FMTTYPE=image/jpeg:https://bridgeoflife.org/wp-content/uploads/Events-Announcements-5.jpg
END:VEVENT
BEGIN:VEVENT
DTSTART;TZID=America/New_York:20260424T180000
DTEND;TZID=America/New_York:20260424T200000
DTSTAMP:20260423T192704
CREATED:20251219T155726Z
LAST-MODIFIED:20251219T155726Z
UID:37819-1777053600-1777060800@bridgeoflife.org
SUMMARY:The Forge: Anvil
DESCRIPTION:Location: Hagerstown\nBlacksmiths: Doug & Theresa Stone\nPotluck Supper: Main dish provided. Please bring a side dish.\n\nGo deep into the Word with men and women in challenging discussions and heart connections.
URL:https://bridgeoflife.org/calendar/the-forge-anvil-21/
CATEGORIES:The Forge
ATTACH;FMTTYPE=image/jpeg:https://bridgeoflife.org/wp-content/uploads/anvil.jpg
END:VEVENT
BEGIN:VEVENT
DTSTART;TZID=America/New_York:20260417T180000
DTEND;TZID=America/New_York:20260417T200000
DTSTAMP:20260423T192704
CREATED:20251219T154934Z
LAST-MODIFIED:20251219T154934Z
UID:37803-1776448800-1776456000@bridgeoflife.org
SUMMARY:The Forge: Bellows
DESCRIPTION:Location: State Line\nBlacksmiths: Ray & Lisa Phillips\nPotluck Supper: Main dish provided. Please bring a side dish. \nGo deep into the Word with men and women in challenging discussions and heart connections. \nSign-up
URL:https://bridgeoflife.org/calendar/the-forge-bellows-19/
CATEGORIES:The Forge
ATTACH;FMTTYPE=image/jpeg:https://bridgeoflife.org/wp-content/uploads/IMG_1172.jpeg
END:VEVENT
BEGIN:VEVENT
DTSTART;TZID=America/New_York:20260413T180000
DTEND;TZID=America/New_York:20260413T200000
DTSTAMP:20260423T192704
CREATED:20251219T154458Z
LAST-MODIFIED:20251219T154458Z
UID:37784-1776103200-1776110400@bridgeoflife.org
SUMMARY:The Forge: Hammer
DESCRIPTION:Location: Smithsburg\nBlacksmiths: Dan & Julie Young\nPotluck Supper: Main dish provided. Please bring a side dish. \nGo deep into the Word with men and women in challenging discussions and heart connections. \nSign-up\n 
URL:https://bridgeoflife.org/calendar/the-forge-hammer-29/
CATEGORIES:The Forge
ATTACH;FMTTYPE=image/jpeg:https://bridgeoflife.org/wp-content/uploads/hammer.jpg
END:VEVENT
BEGIN:VEVENT
DTSTART;VALUE=DATE:20260410
DTEND;VALUE=DATE:20260412
DTSTAMP:20260423T192704
CREATED:20251106T180859Z
LAST-MODIFIED:20251219T154633Z
UID:37724-1775779200-1775951999@bridgeoflife.org
SUMMARY:Women's Weekend 2026
DESCRIPTION:Register here!
URL:https://bridgeoflife.org/calendar/womens-weekend-2026/
LOCATION:Bridge of Life Church\, 14 South Potomac Street\, Hagerstown\, 21740\, United States
CATEGORIES:Women’s Events
ATTACH;FMTTYPE=image/jpeg:https://bridgeoflife.org/wp-content/uploads/WW26-Digitals.jpg
END:VEVENT
BEGIN:VEVENT
DTSTART;TZID=America/New_York:20260403T180000
DTEND;TZID=America/New_York:20260403T200000
DTSTAMP:20260423T192704
CREATED:20251219T154914Z
LAST-MODIFIED:20251219T154914Z
UID:37801-1775239200-1775246400@bridgeoflife.org
SUMMARY:The Forge: Bellows
DESCRIPTION:Location: State Line\nBlacksmiths: Ray & Lisa Phillips\nPotluck Supper: Main dish provided. Please bring a side dish. \nGo deep into the Word with men and women in challenging discussions and heart connections. \nSign-up
URL:https://bridgeoflife.org/calendar/the-forge-bellows-18/
CATEGORIES:The Forge
ATTACH;FMTTYPE=image/jpeg:https://bridgeoflife.org/wp-content/uploads/IMG_1172.jpeg
END:VEVENT
BEGIN:VEVENT
DTSTART;TZID=America/New_York:20260330T180000
DTEND;TZID=America/New_York:20260330T200000
DTSTAMP:20260423T192704
CREATED:20251219T153939Z
LAST-MODIFIED:20251219T153939Z
UID:37780-1774893600-1774900800@bridgeoflife.org
SUMMARY:The Forge: Hammer
DESCRIPTION:Location: Smithsburg\nBlacksmiths: Dan & Julie Young\nPotluck Supper: Main dish provided. Please bring a side dish. \nGo deep into the Word with men and women in challenging discussions and heart connections. \nSign-up\n 
URL:https://bridgeoflife.org/calendar/the-forge-hammer-27/
CATEGORIES:The Forge
ATTACH;FMTTYPE=image/jpeg:https://bridgeoflife.org/wp-content/uploads/hammer.jpg
END:VEVENT
BEGIN:VEVENT
DTSTART;TZID=America/New_York:20260327T180000
DTEND;TZID=America/New_York:20260327T200000
DTSTAMP:20260423T192704
CREATED:20251219T155637Z
LAST-MODIFIED:20251219T155637Z
UID:37817-1774634400-1774641600@bridgeoflife.org
SUMMARY:The Forge: Anvil
DESCRIPTION:Location: Hagerstown\nBlacksmiths: Doug & Theresa Stone\nPotluck Supper: Main dish provided. Please bring a side dish.\n\nGo deep into the Word with men and women in challenging discussions and heart connections.
URL:https://bridgeoflife.org/calendar/the-forge-anvil-20/
CATEGORIES:The Forge
ATTACH;FMTTYPE=image/jpeg:https://bridgeoflife.org/wp-content/uploads/anvil.jpg
END:VEVENT
BEGIN:VEVENT
DTSTART;TZID=America/New_York:20260321T180000
DTEND;TZID=America/New_York:20260321T213000
DTSTAMP:20260423T192704
CREATED:20260126T205440Z
LAST-MODIFIED:20260126T205440Z
UID:37892-1774116000-1774128600@bridgeoflife.org
SUMMARY:Youth Event
DESCRIPTION:One Accord Youth ages 13+ are invited to a youth event! Contact Kevin Bere for more info!
URL:https://bridgeoflife.org/calendar/youth-event-10/
LOCATION:Bridge of Life Youth Room\, 6 South Potomac Street\, Hagerstown\, United States
CATEGORIES:Youth Events
ATTACH;FMTTYPE=image/jpeg:https://bridgeoflife.org/wp-content/uploads/Events-Announcements-5.jpg
END:VEVENT
BEGIN:VEVENT
DTSTART;TZID=America/New_York:20260320T180000
DTEND;TZID=America/New_York:20260320T200000
DTSTAMP:20260423T192704
CREATED:20251219T154854Z
LAST-MODIFIED:20251219T154854Z
UID:37799-1774029600-1774036800@bridgeoflife.org
SUMMARY:The Forge: Bellows
DESCRIPTION:Location: State Line\nBlacksmiths: Ray & Lisa Phillips\nPotluck Supper: Main dish provided. Please bring a side dish. \nGo deep into the Word with men and women in challenging discussions and heart connections. \nSign-up
URL:https://bridgeoflife.org/calendar/the-forge-bellows-17/
CATEGORIES:The Forge
ATTACH;FMTTYPE=image/jpeg:https://bridgeoflife.org/wp-content/uploads/IMG_1172.jpeg
END:VEVENT
BEGIN:VEVENT
DTSTART;TZID=America/New_York:20260316T180000
DTEND;TZID=America/New_York:20260316T200000
DTSTAMP:20260423T192704
CREATED:20251219T153849Z
LAST-MODIFIED:20251219T153849Z
UID:37778-1773684000-1773691200@bridgeoflife.org
SUMMARY:The Forge: Hammer
DESCRIPTION:Location: Smithsburg\nBlacksmiths: Dan & Julie Young\nPotluck Supper: Main dish provided. Please bring a side dish. \nGo deep into the Word with men and women in challenging discussions and heart connections. \nSign-up\n 
URL:https://bridgeoflife.org/calendar/the-forge-hammer-26/
CATEGORIES:The Forge
ATTACH;FMTTYPE=image/jpeg:https://bridgeoflife.org/wp-content/uploads/hammer.jpg
END:VEVENT
BEGIN:VEVENT
DTSTART;TZID=America/New_York:20260313T180000
DTEND;TZID=America/New_York:20260313T200000
DTSTAMP:20260423T192704
CREATED:20251219T155543Z
LAST-MODIFIED:20251219T155543Z
UID:37815-1773424800-1773432000@bridgeoflife.org
SUMMARY:The Forge: Anvil
DESCRIPTION:Location: Hagerstown\nBlacksmiths: Doug & Theresa Stone\nPotluck Supper: Main dish provided. Please bring a side dish.\n\nGo deep into the Word with men and women in challenging discussions and heart connections.
URL:https://bridgeoflife.org/calendar/the-forge-anvil-19/
CATEGORIES:The Forge
ATTACH;FMTTYPE=image/jpeg:https://bridgeoflife.org/wp-content/uploads/anvil.jpg
END:VEVENT
BEGIN:VEVENT
DTSTART;TZID=America/New_York:20260306T180000
DTEND;TZID=America/New_York:20260306T200000
DTSTAMP:20260423T192704
CREATED:20251219T153226Z
LAST-MODIFIED:20251219T153255Z
UID:37763-1772820000-1772827200@bridgeoflife.org
SUMMARY:The Forge: Bellows
DESCRIPTION:Location: State Line\nBlacksmiths: Ray & Lisa Phillips\nPotluck Supper: Main dish provided. Please bring a side dish. \nGo deep into the Word with men and women in challenging discussions and heart connections. \nSign-up
URL:https://bridgeoflife.org/calendar/the-forge-bellows-13/
CATEGORIES:The Forge
ATTACH;FMTTYPE=image/jpeg:https://bridgeoflife.org/wp-content/uploads/IMG_1172.jpeg
END:VEVENT
BEGIN:VEVENT
DTSTART;TZID=America/New_York:20260302T180000
DTEND;TZID=America/New_York:20260302T200000
DTSTAMP:20260423T192704
CREATED:20251219T153817Z
LAST-MODIFIED:20251219T153826Z
UID:37775-1772474400-1772481600@bridgeoflife.org
SUMMARY:The Forge: Hammer
DESCRIPTION:Location: Smithsburg\nBlacksmiths: Dan & Julie Young\nPotluck Supper: Main dish provided. Please bring a side dish. \nGo deep into the Word with men and women in challenging discussions and heart connections. \nSign-up\n 
URL:https://bridgeoflife.org/calendar/the-forge-hammer-25/
CATEGORIES:The Forge
ATTACH;FMTTYPE=image/jpeg:https://bridgeoflife.org/wp-content/uploads/hammer.jpg
END:VEVENT
BEGIN:VEVENT
DTSTART;TZID=America/New_York:20260228T180000
DTEND;TZID=America/New_York:20260228T213000
DTSTAMP:20260423T192704
CREATED:20260126T205354Z
LAST-MODIFIED:20260126T205354Z
UID:37890-1772301600-1772314200@bridgeoflife.org
SUMMARY:Youth Event
DESCRIPTION:One Accord Youth ages 13+ are invited to a youth event! Contact Kevin Bere for more info!
URL:https://bridgeoflife.org/calendar/youth-event-9/
LOCATION:Bridge of Life Youth Room\, 6 South Potomac Street\, Hagerstown\, United States
CATEGORIES:Youth Events
ATTACH;FMTTYPE=image/jpeg:https://bridgeoflife.org/wp-content/uploads/Events-Announcements-5.jpg
END:VEVENT
BEGIN:VEVENT
DTSTART;TZID=America/New_York:20260227T180000
DTEND;TZID=America/New_York:20260227T200000
DTSTAMP:20260423T192704
CREATED:20251219T155420Z
LAST-MODIFIED:20251219T155420Z
UID:37813-1772215200-1772222400@bridgeoflife.org
SUMMARY:The Forge: Anvil
DESCRIPTION:Location: Hagerstown\nBlacksmiths: Doug & Theresa Stone\nPotluck Supper: Main dish provided. Please bring a side dish.\n\nGo deep into the Word with men and women in challenging discussions and heart connections.
URL:https://bridgeoflife.org/calendar/the-forge-anvil-18/
CATEGORIES:The Forge
ATTACH;FMTTYPE=image/jpeg:https://bridgeoflife.org/wp-content/uploads/anvil.jpg
END:VEVENT
BEGIN:VEVENT
DTSTART;VALUE=DATE:20260227
DTEND;VALUE=DATE:20260301
DTSTAMP:20260423T192704
CREATED:20260103T150326Z
LAST-MODIFIED:20260123T164209Z
UID:37849-1772150400-1772323199@bridgeoflife.org
SUMMARY:Front Line Men's Conference 2026
DESCRIPTION:Signup here!
URL:https://bridgeoflife.org/calendar/front-line-mens-conference-2026/
LOCATION:Bridge of Life Church\, 14 South Potomac Street\, Hagerstown\, 21740\, United States
CATEGORIES:Featured,Men’s Events
ATTACH;FMTTYPE=image/jpeg:https://bridgeoflife.org/wp-content/uploads/17.jpg
END:VEVENT
BEGIN:VEVENT
DTSTART;TZID=America/New_York:20260220T180000
DTEND;TZID=America/New_York:20260220T200000
DTSTAMP:20260423T192704
CREATED:20251219T154715Z
LAST-MODIFIED:20251219T154739Z
UID:37793-1771610400-1771617600@bridgeoflife.org
SUMMARY:The Forge: Bellows
DESCRIPTION:Location: State Line\nBlacksmiths: Ray & Lisa Phillips\nPotluck Supper: Main dish provided. Please bring a side dish. \nGo deep into the Word with men and women in challenging discussions and heart connections. \nSign-up
URL:https://bridgeoflife.org/calendar/the-forge-bellows-14/
CATEGORIES:The Forge
ATTACH;FMTTYPE=image/jpeg:https://bridgeoflife.org/wp-content/uploads/IMG_1172.jpeg
END:VEVENT
BEGIN:VEVENT
DTSTART;TZID=America/New_York:20260216T180000
DTEND;TZID=America/New_York:20260216T200000
DTSTAMP:20260423T192704
CREATED:20251219T153747Z
LAST-MODIFIED:20251219T153747Z
UID:37773-1771264800-1771272000@bridgeoflife.org
SUMMARY:The Forge: Hammer
DESCRIPTION:Location: Smithsburg\nBlacksmiths: Dan & Julie Young\nPotluck Supper: Main dish provided. Please bring a side dish. \nGo deep into the Word with men and women in challenging discussions and heart connections. \nSign-up\n 
URL:https://bridgeoflife.org/calendar/the-forge-hammer-24/
CATEGORIES:The Forge
ATTACH;FMTTYPE=image/jpeg:https://bridgeoflife.org/wp-content/uploads/hammer.jpg
END:VEVENT
BEGIN:VEVENT
DTSTART;TZID=America/New_York:20260213T180000
DTEND;TZID=America/New_York:20260213T200000
DTSTAMP:20260423T192704
CREATED:20251219T155342Z
LAST-MODIFIED:20251219T155342Z
UID:37811-1771005600-1771012800@bridgeoflife.org
SUMMARY:The Forge: Anvil
DESCRIPTION:Location: Hagerstown\nBlacksmiths: Doug & Theresa Stone\nPotluck Supper: Main dish provided. Please bring a side dish.\n\nGo deep into the Word with men and women in challenging discussions and heart connections.
URL:https://bridgeoflife.org/calendar/the-forge-anvil-17/
CATEGORIES:The Forge
ATTACH;FMTTYPE=image/jpeg:https://bridgeoflife.org/wp-content/uploads/anvil.jpg
END:VEVENT
BEGIN:VEVENT
DTSTART;TZID=America/New_York:20260206T180000
DTEND;TZID=America/New_York:20260206T200000
DTSTAMP:20260423T192704
CREATED:20251219T153135Z
LAST-MODIFIED:20251219T153154Z
UID:37761-1770400800-1770408000@bridgeoflife.org
SUMMARY:The Forge: Bellows
DESCRIPTION:Location: State Line\nBlacksmiths: Ray & Lisa Phillips\nPotluck Supper: Main dish provided. Please bring a side dish. \nGo deep into the Word with men and women in challenging discussions and heart connections. \nSign-up
URL:https://bridgeoflife.org/calendar/the-forge-bellows-12/
CATEGORIES:The Forge
ATTACH;FMTTYPE=image/jpeg:https://bridgeoflife.org/wp-content/uploads/IMG_1172.jpeg
END:VEVENT
BEGIN:VEVENT
DTSTART;TZID=America/New_York:20260202T180000
DTEND;TZID=America/New_York:20260202T200000
DTSTAMP:20260423T192704
CREATED:20251219T153603Z
LAST-MODIFIED:20251219T153603Z
UID:37771-1770055200-1770062400@bridgeoflife.org
SUMMARY:The Forge: Hammer
DESCRIPTION:Location: Smithsburg\nBlacksmiths: Dan & Julie Young\nPotluck Supper: Main dish provided. Please bring a side dish. \nGo deep into the Word with men and women in challenging discussions and heart connections. \nSign-up\n 
URL:https://bridgeoflife.org/calendar/the-forge-hammer-23/
CATEGORIES:The Forge
ATTACH;FMTTYPE=image/jpeg:https://bridgeoflife.org/wp-content/uploads/hammer.jpg
END:VEVENT
BEGIN:VEVENT
DTSTART;TZID=America/New_York:20260201T120000
DTEND;TZID=America/New_York:20260201T140000
DTSTAMP:20260423T192704
CREATED:20260116T161242Z
LAST-MODIFIED:20260116T161321Z
UID:37864-1769947200-1769954400@bridgeoflife.org
SUMMARY:Youth Soup & Sandwich Fundraiser
DESCRIPTION:Help the youth fund their week-long missions trip to Kentucky! Stop by after service for warm soups and cold sandwiches! We will be accepting donations at the door.\nPlease talk to Kevin or Cerey Bere if you are interested in donating a soup for this event.
URL:https://bridgeoflife.org/calendar/youth-soup-sandwich-fundraiser-2/
LOCATION:Bridge of Life King’s Room\, 6 South Potomac Street\, Hagerstown\, MD\, 21740\, United States
CATEGORIES:Churchwide Events,Youth Events
ATTACH;FMTTYPE=image/jpeg:https://bridgeoflife.org/wp-content/uploads/soup-and-sandwich.jpg
END:VEVENT
BEGIN:VEVENT
DTSTART;TZID=America/New_York:20260131T180000
DTEND;TZID=America/New_York:20260131T213000
DTSTAMP:20260423T192704
CREATED:20250103T235455Z
LAST-MODIFIED:20260126T205253Z
UID:36901-1769882400-1769895000@bridgeoflife.org
SUMMARY:Youth Event
DESCRIPTION:One Accord Youth ages 13+ are invited to a youth event! Contact Kevin Bere for more info!
URL:https://bridgeoflife.org/calendar/youth-event-8/
LOCATION:Bridge of Life Youth Room\, 6 South Potomac Street\, Hagerstown\, United States
CATEGORIES:Youth Events
ATTACH;FMTTYPE=image/jpeg:https://bridgeoflife.org/wp-content/uploads/Events-Announcements-5.jpg
END:VEVENT
BEGIN:VEVENT
DTSTART;TZID=America/New_York:20260123T180000
DTEND;TZID=America/New_York:20260123T200000
DTSTAMP:20260423T192704
CREATED:20251219T155305Z
LAST-MODIFIED:20251219T155305Z
UID:37809-1769191200-1769198400@bridgeoflife.org
SUMMARY:The Forge: Anvil
DESCRIPTION:Location: Hagerstown\nBlacksmiths: Doug & Theresa Stone\nPotluck Supper: Main dish provided. Please bring a side dish.\n\nGo deep into the Word with men and women in challenging discussions and heart connections.
URL:https://bridgeoflife.org/calendar/the-forge-anvil-16/
CATEGORIES:The Forge
ATTACH;FMTTYPE=image/jpeg:https://bridgeoflife.org/wp-content/uploads/anvil.jpg
END:VEVENT
BEGIN:VEVENT
DTSTART;TZID=America/New_York:20260119T180000
DTEND;TZID=America/New_York:20260119T200000
DTSTAMP:20260423T192704
CREATED:20251219T153526Z
LAST-MODIFIED:20251219T153526Z
UID:37769-1768845600-1768852800@bridgeoflife.org
SUMMARY:The Forge: Hammer
DESCRIPTION:Location: Smithsburg\nBlacksmiths: Dan & Julie Young\nPotluck Supper: Main dish provided. Please bring a side dish. \nGo deep into the Word with men and women in challenging discussions and heart connections. \nSign-up\n 
URL:https://bridgeoflife.org/calendar/the-forge-hammer-22/
CATEGORIES:The Forge
ATTACH;FMTTYPE=image/jpeg:https://bridgeoflife.org/wp-content/uploads/hammer.jpg
END:VEVENT
BEGIN:VEVENT
DTSTART;TZID=America/New_York:20260118T180000
DTEND;TZID=America/New_York:20260118T193000
DTSTAMP:20260423T192704
CREATED:20260103T150016Z
LAST-MODIFIED:20260103T150016Z
UID:37846-1768759200-1768764600@bridgeoflife.org
SUMMARY:21 Days of Fasting & Prayer: Worship Night
DESCRIPTION:At Broadfording Church!
URL:https://bridgeoflife.org/calendar/21-days-of-fasting-prayer-worship-night-5/
CATEGORIES:Churchwide Events,Featured
ATTACH;FMTTYPE=image/jpeg:https://bridgeoflife.org/wp-content/uploads/17-2.jpg
END:VEVENT
BEGIN:VEVENT
DTSTART;TZID=America/New_York:20260116T180000
DTEND;TZID=America/New_York:20260116T200000
DTSTAMP:20260423T192704
CREATED:20251219T153053Z
LAST-MODIFIED:20251219T153053Z
UID:37759-1768586400-1768593600@bridgeoflife.org
SUMMARY:The Forge: Bellows
DESCRIPTION:Location: State Line\nBlacksmiths: Ray & Lisa Phillips\nPotluck Supper: Main dish provided. Please bring a side dish. \nGo deep into the Word with men and women in challenging discussions and heart connections. \nSign-up
URL:https://bridgeoflife.org/calendar/the-forge-bellows-11/
CATEGORIES:The Forge
ATTACH;FMTTYPE=image/jpeg:https://bridgeoflife.org/wp-content/uploads/IMG_1172.jpeg
END:VEVENT
BEGIN:VEVENT
DTSTART;TZID=America/New_York:20260111T180000
DTEND;TZID=America/New_York:20260111T193000
DTSTAMP:20260423T192704
CREATED:20260103T145816Z
LAST-MODIFIED:20260103T145816Z
UID:37843-1768154400-1768159800@bridgeoflife.org
SUMMARY:21 Days of Fasting & Prayer: Worship Night
DESCRIPTION:At Lifehouse Church!
URL:https://bridgeoflife.org/calendar/21-days-of-fasting-prayer-worship-night-4/
LOCATION:Bridge of Life Sanctuary\, 14 South Potomac Street\, Hagerstown\, MD\, 21740\, United States
CATEGORIES:Churchwide Events,Featured
ATTACH;FMTTYPE=image/jpeg:https://bridgeoflife.org/wp-content/uploads/17-2.jpg
END:VEVENT
END:VCALENDAR