BEGIN:VCALENDAR
VERSION:2.0
PRODID:-//Bridge of Life - ECPv6.15.14//NONSGML v1.0//EN
CALSCALE:GREGORIAN
METHOD:PUBLISH
X-WR-CALNAME:Bridge of Life
X-ORIGINAL-URL:https://bridgeoflife.org
X-WR-CALDESC:Events for Bridge of Life
REFRESH-INTERVAL;VALUE=DURATION:PT1H
X-Robots-Tag:noindex
X-PUBLISHED-TTL:PT1H
BEGIN:VTIMEZONE
TZID:America/New_York
BEGIN:DAYLIGHT
TZOFFSETFROM:-0500
TZOFFSETTO:-0400
TZNAME:EDT
DTSTART:20240310T070000
END:DAYLIGHT
BEGIN:STANDARD
TZOFFSETFROM:-0400
TZOFFSETTO:-0500
TZNAME:EST
DTSTART:20241103T060000
END:STANDARD
BEGIN:DAYLIGHT
TZOFFSETFROM:-0500
TZOFFSETTO:-0400
TZNAME:EDT
DTSTART:20250309T070000
END:DAYLIGHT
BEGIN:STANDARD
TZOFFSETFROM:-0400
TZOFFSETTO:-0500
TZNAME:EST
DTSTART:20251102T060000
END:STANDARD
BEGIN:DAYLIGHT
TZOFFSETFROM:-0500
TZOFFSETTO:-0400
TZNAME:EDT
DTSTART:20260308T070000
END:DAYLIGHT
BEGIN:STANDARD
TZOFFSETFROM:-0400
TZOFFSETTO:-0500
TZNAME:EST
DTSTART:20261101T060000
END:STANDARD
END:VTIMEZONE
BEGIN:VEVENT
DTSTART;TZID=America/New_York:20250403T090000
DTEND;TZID=America/New_York:20250403T120000
DTSTAMP:20260424T071438
CREATED:20250126T132836Z
LAST-MODIFIED:20250301T150437Z
UID:36997-1743670800-1743681600@bridgeoflife.org
SUMMARY:Prayer & Presence at Hagerstown Area Pregnancy Clinic
DESCRIPTION:Bridge of Life’s monthly outreach event will be having a group of people present at the pregnancy clinic in Hagerstown. Our goal is to intercede and pray for the women going into the abortion clinic\, and offer the HAPC service of free sonograms. Justin shared his heart for this at the Member’s Meeting 2025\, saying it is an emotionally hostile environment for these women making life-changing decisions.\nPlease join us on the first Thursday of every month at BOL\, where we will meet and pray before walking over to the pregnancy clinic.
URL:https://bridgeoflife.org/calendar/prayer-presence-at-hagerstown-area-pregnancy-clinic-3/
LOCATION:Hagerstown Area Pregnancy Clinic\, 152 W Washington St.\, Hagerstown\, 21740\, United States
CATEGORIES:Churchwide Events,Outreach Events
ATTACH;FMTTYPE=image/jpeg:https://bridgeoflife.org/wp-content/uploads/IMG_1177.jpeg
END:VEVENT
BEGIN:VEVENT
DTSTART;TZID=America/New_York:20250404T170000
DTEND;TZID=America/New_York:20250405T170000
DTSTAMP:20260424T071438
CREATED:20241201T232834Z
LAST-MODIFIED:20250330T152928Z
UID:36582-1743786000-1743872400@bridgeoflife.org
SUMMARY:Abide Women’s Weekend
DESCRIPTION:We are so excited for the Women’s Conference 2025! Please take a look at the schedule and reminders below: \n  \n\n\n\nReminders  \n\nBring a snack to share on Friday night\nPlease prepare to eat lunch somewhere around town on Saturday\, or pack a lunch.\nIf you have ordered an Abide definition shirt\, please wear it on Saturday for our group picture!\n\n\n\n\n\nFriday \nDoors open 5:30pm \nWelcome and Worship 6:00-6:30 \nSession 1 with Courtney 6:30-7:30 \nClosing 7:30 \n  \nSaturday \nDoors open 8:45am \nBreakfast 9:00-9:45 \nWelcome and Worship 9:45-10:15 \nSession 2 with Courtney 10:15-11:00 \nBreakout 1 11:15-12:00 \nLunch 12:00-1:30 \nBreakout 2 1:30-2:15 \nBreakout 3 2:30-3:15 \nCrafts/Group Photo 3:30-5:00 \nDinner 5:00-6:00 \nWorship 6:00-6:30 \nSession 3 with Courtney 6:30-7:30 \nClosing 7:30
URL:https://bridgeoflife.org/calendar/abide-womens-weekend/
LOCATION:Bridge of Life King’s Room\, 6 South Potomac Street\, Hagerstown\, MD\, 21740\, United States
CATEGORIES:Women’s Events
ATTACH;FMTTYPE=image/jpeg:https://bridgeoflife.org/wp-content/uploads/IMG_1216.jpeg
END:VEVENT
BEGIN:VEVENT
DTSTART;TZID=America/New_York:20250406T110000
DTEND;TZID=America/New_York:20250406T120000
DTSTAMP:20260424T071438
CREATED:20241223T180824Z
LAST-MODIFIED:20241223T180824Z
UID:36797-1743937200-1743940800@bridgeoflife.org
SUMMARY:Speaker: Associate Pastor Ray Phillips
DESCRIPTION:
URL:https://bridgeoflife.org/calendar/speaker-associate-pastor-ray-phillips/
CATEGORIES:Churchwide Events
ATTACH;FMTTYPE=image/jpeg:https://bridgeoflife.org/wp-content/uploads/IMG_0228.jpeg
END:VEVENT
BEGIN:VEVENT
DTSTART;TZID=America/New_York:20250408T180000
DTEND;TZID=America/New_York:20250408T200000
DTSTAMP:20260424T071438
CREATED:20241219T162829Z
LAST-MODIFIED:20250327T170403Z
UID:36733-1744135200-1744142400@bridgeoflife.org
SUMMARY:The Forge: Hammer
DESCRIPTION:Location: Smithsburg\nBlacksmiths: Dan & Julie Young\nPotluck Supper: Main dish provided. Please bring a side dish. \nGo deep into the Word with men and women in challenging discussions and heart connections. \nSign-up\n\n	Notice: JavaScript is required for this content.\nNo Fields Found.\n\n    \n\n\n        \n        \n        \n 
URL:https://bridgeoflife.org/calendar/the-forge-hammer-7/
CATEGORIES:The Forge
ATTACH;FMTTYPE=image/jpeg:https://bridgeoflife.org/wp-content/uploads/hammer.jpg
END:VEVENT
BEGIN:VEVENT
DTSTART;TZID=America/New_York:20250411T180000
DTEND;TZID=America/New_York:20250411T193000
DTSTAMP:20260424T071438
CREATED:20250403T182347Z
LAST-MODIFIED:20250403T182852Z
UID:37368-1744394400-1744399800@bridgeoflife.org
SUMMARY:Softball Practice
DESCRIPTION:
URL:https://bridgeoflife.org/calendar/softball-practice/
LOCATION:Fairgrounds Park\, 351 N Cleveland Ave\, Hagerstown\, MD\, 21740\, United States
ATTACH;FMTTYPE=image/jpeg:https://bridgeoflife.org/wp-content/uploads/IMG_1313.jpeg
END:VEVENT
BEGIN:VEVENT
DTSTART;TZID=America/New_York:20250411T180000
DTEND;TZID=America/New_York:20250411T200000
DTSTAMP:20260424T071438
CREATED:20241219T163037Z
LAST-MODIFIED:20241219T163037Z
UID:36745-1744394400-1744401600@bridgeoflife.org
SUMMARY:The Forge: Anvil
DESCRIPTION:Location: Hagerstown\nBlacksmiths: Doug & Theresa Stone\nPotluck Supper: Main dish provided. Please bring a side dish. \nGo deep into the Word with men and women in challenging discussions and heart connections. \n\n	Notice: JavaScript is required for this content.\nNo Fields Found.
URL:https://bridgeoflife.org/calendar/the-forge-anvil-6/
CATEGORIES:The Forge
ATTACH;FMTTYPE=image/jpeg:https://bridgeoflife.org/wp-content/uploads/anvil.jpg
END:VEVENT
BEGIN:VEVENT
DTSTART;TZID=America/New_York:20250412T180000
DTEND;TZID=America/New_York:20250412T213000
DTSTAMP:20260424T071438
CREATED:20250103T235358Z
LAST-MODIFIED:20250416T184940Z
UID:36899-1744480800-1744493400@bridgeoflife.org
SUMMARY:Youth Event
DESCRIPTION:One Accord Youth ages 13+ are invited to a youth event! Contact Kevin Bere for more info!
URL:https://bridgeoflife.org/calendar/youth-event-7/
LOCATION:Bridge of Life Youth Room\, 6 South Potomac Street\, Hagerstown\, United States
CATEGORIES:Youth Events
ATTACH;FMTTYPE=image/jpeg:https://bridgeoflife.org/wp-content/uploads/Events-Announcements-5.jpg
END:VEVENT
BEGIN:VEVENT
DTSTART;TZID=America/New_York:20250415T180000
DTEND;TZID=America/New_York:20250415T200000
DTSTAMP:20260424T071438
CREATED:20241223T182359Z
LAST-MODIFIED:20241223T182359Z
UID:36820-1744740000-1744747200@bridgeoflife.org
SUMMARY:The Forge: Hammer
DESCRIPTION:Location: Smithsburg\nBlacksmiths: Dan & Julie Young\nPotluck Supper: Main dish provided. Please bring a side dish. \nGo deep into the Word with men and women in challenging discussions and heart connections. \nSign-up\n\n	Notice: JavaScript is required for this content.\nNo Fields Found.\n\n    \n\n\n        \n        \n        \n 
URL:https://bridgeoflife.org/calendar/the-forge-hammer-8/
CATEGORIES:The Forge
ATTACH;FMTTYPE=image/jpeg:https://bridgeoflife.org/wp-content/uploads/hammer.jpg
END:VEVENT
BEGIN:VEVENT
DTSTART;TZID=America/New_York:20250416T183000
DTEND;TZID=America/New_York:20250416T200000
DTSTAMP:20260424T071438
CREATED:20250409T121720Z
LAST-MODIFIED:20250409T121753Z
UID:37381-1744828200-1744833600@bridgeoflife.org
SUMMARY:Softball Scrimmage
DESCRIPTION:
URL:https://bridgeoflife.org/calendar/softball-scrimmage/
LOCATION:Fairgrounds Park\, 351 N Cleveland Ave\, Hagerstown\, MD\, 21740\, United States
ATTACH;FMTTYPE=image/jpeg:https://bridgeoflife.org/wp-content/uploads/IMG_1320.jpeg
END:VEVENT
BEGIN:VEVENT
DTSTART;TZID=America/New_York:20250417T140000
DTEND;TZID=America/New_York:20250417T170000
DTSTAMP:20260424T071438
CREATED:20241210T193908Z
LAST-MODIFIED:20241210T193908Z
UID:36613-1744898400-1744909200@bridgeoflife.org
SUMMARY:Food Bank Distribution
DESCRIPTION:The Bridge of Life Food Bank is touching hundreds of lives; tons of food are distributed each year. A number of our members assist in transporting tons of food to our foodbank\, packaging bags\, and distributing food on the third Thursday of the month. Please pray for this ministry\, for the anointing of the Holy Spirit as our members personally reach out to each individual who comes for food. For more information or to help\, contact Mike Koenig. \n 
URL:https://bridgeoflife.org/calendar/food-bank-distribution-10/
LOCATION:Bridge of Life Food Bank\, 14 Renaissance Way\, Hagerstown\, MD\, 21740
CATEGORIES:Outreach Events
ATTACH;FMTTYPE=image/jpeg:https://bridgeoflife.org/wp-content/uploads/pics-3.jpg
END:VEVENT
BEGIN:VEVENT
DTSTART;TZID=America/New_York:20250418T180000
DTEND;TZID=America/New_York:20250418T200000
DTSTAMP:20260424T071438
CREATED:20250124T142022Z
LAST-MODIFIED:20250131T143317Z
UID:36976-1744999200-1745006400@bridgeoflife.org
SUMMARY:The Forge: Bellows
DESCRIPTION:Location: Hagerstown\nBlacksmiths: Ray & Lisa Phillips\nPotluck Supper: Main dish provided. Please bring a side dish. \nGo deep into the Word with men and women in challenging discussions and heart connections. \nSign-up\n\n	Notice: JavaScript is required for this content.\nNo Fields Found.\n\n    \n\n\n        \n        \n        \n 
URL:https://bridgeoflife.org/calendar/the-forge-bellow-3/
CATEGORIES:The Forge
ATTACH;FMTTYPE=image/jpeg:https://bridgeoflife.org/wp-content/uploads/IMG_1172.jpeg
END:VEVENT
BEGIN:VEVENT
DTSTART;TZID=America/New_York:20250419T073000
DTEND;TZID=America/New_York:20250419T093000
DTSTAMP:20260424T071438
CREATED:20250105T212407Z
LAST-MODIFIED:20250110T151233Z
UID:36925-1745047800-1745055000@bridgeoflife.org
SUMMARY:Men's Breakfast & Book Study
DESCRIPTION:Bridge of Life men are invited to attend our monthly men’s breakfast with food and fellowship! Meetings are at 7:30am in the BOL Kitchen every 3rd Saturday. We are currently going through the book “Stepping Up” by Dennis Rainey. \nNo sign-up is needed for this event!
URL:https://bridgeoflife.org/calendar/mens-breakfast-book-study-8/
LOCATION:Bridge of Life Kitchen\, 6 South Potomac Street\, Hagerstown\, United States
CATEGORIES:Men’s Events
ATTACH;FMTTYPE=image/jpeg:https://bridgeoflife.org/wp-content/uploads/IMG_1124.jpeg
END:VEVENT
BEGIN:VEVENT
DTSTART;TZID=America/New_York:20250424T183000
DTEND;TZID=America/New_York:20250424T200000
DTSTAMP:20260424T071438
CREATED:20250409T121828Z
LAST-MODIFIED:20250409T121828Z
UID:37384-1745519400-1745524800@bridgeoflife.org
SUMMARY:Softball Scrimmage
DESCRIPTION:
URL:https://bridgeoflife.org/calendar/softball-scrimmage-2/
LOCATION:Fairgrounds Park\, 351 N Cleveland Ave\, Hagerstown\, MD\, 21740\, United States
ATTACH;FMTTYPE=image/jpeg:https://bridgeoflife.org/wp-content/uploads/IMG_1320.jpeg
END:VEVENT
BEGIN:VEVENT
DTSTART;TZID=America/New_York:20250425T180000
DTEND;TZID=America/New_York:20250425T200000
DTSTAMP:20260424T071438
CREATED:20241223T182155Z
LAST-MODIFIED:20241223T182155Z
UID:36814-1745604000-1745611200@bridgeoflife.org
SUMMARY:The Forge: Anvil
DESCRIPTION:Location: Hagerstown\nBlacksmiths: Doug & Theresa Stone\nPotluck Supper: Main dish provided. Please bring a side dish.\n\nGo deep into the Word with men and women in challenging discussions and heart connections. \n\n	Notice: JavaScript is required for this content.\nNo Fields Found.
URL:https://bridgeoflife.org/calendar/the-forge-anvil-7/
CATEGORIES:The Forge
ATTACH;FMTTYPE=image/jpeg:https://bridgeoflife.org/wp-content/uploads/anvil.jpg
END:VEVENT
BEGIN:VEVENT
DTSTART;TZID=America/New_York:20250427T123000
DTEND;TZID=America/New_York:20250427T140000
DTSTAMP:20260424T071438
CREATED:20250204T224823Z
LAST-MODIFIED:20250204T224823Z
UID:37071-1745757000-1745762400@bridgeoflife.org
SUMMARY:VBS Planning Meeting
DESCRIPTION:Notice: JavaScript is required for this content.\nNo Fields Found.
URL:https://bridgeoflife.org/calendar/vbs-planning-meeting-6/
LOCATION:Bridge of Life King’s Room\, 6 South Potomac Street\, Hagerstown\, MD\, 21740\, United States
ATTACH;FMTTYPE=image/jpeg:https://bridgeoflife.org/wp-content/uploads/IMG_1206.jpeg
END:VEVENT
BEGIN:VEVENT
DTSTART;TZID=America/New_York:20250429T180000
DTEND;TZID=America/New_York:20250429T200000
DTSTAMP:20260424T071438
CREATED:20241223T182430Z
LAST-MODIFIED:20241223T182430Z
UID:36822-1745949600-1745956800@bridgeoflife.org
SUMMARY:The Forge: Hammer
DESCRIPTION:Location: Smithsburg\nBlacksmiths: Dan & Julie Young\nPotluck Supper: Main dish provided. Please bring a side dish. \nGo deep into the Word with men and women in challenging discussions and heart connections. \nSign-up\n\n	Notice: JavaScript is required for this content.\nNo Fields Found.\n\n    \n\n\n        \n        \n        \n 
URL:https://bridgeoflife.org/calendar/the-forge-hammer-9/
CATEGORIES:The Forge
ATTACH;FMTTYPE=image/jpeg:https://bridgeoflife.org/wp-content/uploads/hammer.jpg
END:VEVENT
BEGIN:VEVENT
DTSTART;TZID=America/New_York:20250501T090000
DTEND;TZID=America/New_York:20250501T120000
DTSTAMP:20260424T071438
CREATED:20250126T133038Z
LAST-MODIFIED:20250301T150412Z
UID:36999-1746090000-1746100800@bridgeoflife.org
SUMMARY:Prayer & Presence at Hagerstown Area Pregnancy Clinic
DESCRIPTION:Bridge of Life’s monthly outreach event will be having a group of people present at the pregnancy clinic in Hagerstown. Our goal is to intercede and pray for the women going into the abortion clinic\, and offer the HAPC service of free sonograms. Justin shared his heart for this at the Member’s Meeting 2025\, saying it is an emotionally hostile environment for these women making life-changing decisions.\nPlease join us on the first Thursday of every month at BOL\, where we will meet and pray before walking over to the pregnancy clinic.
URL:https://bridgeoflife.org/calendar/prayer-presence-at-hagerstown-area-pregnancy-clinic-4/
LOCATION:Hagerstown Area Pregnancy Clinic\, 152 W Washington St.\, Hagerstown\, 21740\, United States
CATEGORIES:Churchwide Events,Outreach Events
ATTACH;FMTTYPE=image/jpeg:https://bridgeoflife.org/wp-content/uploads/IMG_1177.jpeg
END:VEVENT
BEGIN:VEVENT
DTSTART;TZID=America/New_York:20250501T183000
DTEND;TZID=America/New_York:20250501T213000
DTSTAMP:20260424T071438
CREATED:20250427T190627Z
LAST-MODIFIED:20250427T190813Z
UID:37420-1746124200-1746135000@bridgeoflife.org
SUMMARY:Softball Game (Double Header)
DESCRIPTION:
URL:https://bridgeoflife.org/calendar/softball-game/
LOCATION:Fairgrounds Park\, 351 N Cleveland Ave\, Hagerstown\, MD\, 21740\, United States
ATTACH;FMTTYPE=image/jpeg:https://bridgeoflife.org/wp-content/uploads/IMG_1310.jpeg
END:VEVENT
BEGIN:VEVENT
DTSTART;TZID=America/New_York:20250502T180000
DTEND;TZID=America/New_York:20250502T200000
DTSTAMP:20260424T071438
CREATED:20250124T142214Z
LAST-MODIFIED:20250131T143326Z
UID:36978-1746208800-1746216000@bridgeoflife.org
SUMMARY:The Forge: Bellows
DESCRIPTION:Location: Hagerstown\nBlacksmiths: Ray & Lisa Phillips\nPotluck Supper: Main dish provided. Please bring a side dish. \nGo deep into the Word with men and women in challenging discussions and heart connections. \nSign-up\n\n	Notice: JavaScript is required for this content.\nNo Fields Found.\n\n    \n\n\n        \n        \n        \n 
URL:https://bridgeoflife.org/calendar/the-forge-bellow-4/
CATEGORIES:The Forge
ATTACH;FMTTYPE=image/jpeg:https://bridgeoflife.org/wp-content/uploads/IMG_1172.jpeg
END:VEVENT
BEGIN:VEVENT
DTSTART;TZID=America/New_York:20250504T120000
DTEND;TZID=America/New_York:20250504T140000
DTSTAMP:20260424T071438
CREATED:20250220T121111Z
LAST-MODIFIED:20250226T131153Z
UID:37124-1746360000-1746367200@bridgeoflife.org
SUMMARY:Youth Spaghetti Lunch Fundraiser
DESCRIPTION:Help the youth fund their week-long missions trip to Kentucky! Stop by after service for hand-served spaghetti and meatballs! We will be accepting donations at the door.\nPlease talk to Kevin or Cerey Bere if you have any questions.
URL:https://bridgeoflife.org/calendar/youth-spaghetti-linch-fundraiser/
LOCATION:Bridge of Life King’s Room\, 6 South Potomac Street\, Hagerstown\, MD\, 21740\, United States
CATEGORIES:Churchwide Events,Youth Events
ATTACH;FMTTYPE=image/jpeg:https://bridgeoflife.org/wp-content/uploads/IMG_1227.jpeg
END:VEVENT
BEGIN:VEVENT
DTSTART;TZID=America/New_York:20250506T183000
DTEND;TZID=America/New_York:20250506T200000
DTSTAMP:20260424T071438
CREATED:20250427T190722Z
LAST-MODIFIED:20250427T190722Z
UID:37423-1746556200-1746561600@bridgeoflife.org
SUMMARY:Softball Game
DESCRIPTION:
URL:https://bridgeoflife.org/calendar/softball-game-2/
LOCATION:Fairgrounds Park\, 351 N Cleveland Ave\, Hagerstown\, MD\, 21740\, United States
ATTACH;FMTTYPE=image/jpeg:https://bridgeoflife.org/wp-content/uploads/IMG_1310.jpeg
END:VEVENT
BEGIN:VEVENT
DTSTART;TZID=America/New_York:20250509T180000
DTEND;TZID=America/New_York:20250509T200000
DTSTAMP:20260424T071438
CREATED:20241223T182234Z
LAST-MODIFIED:20241223T182234Z
UID:36816-1746813600-1746820800@bridgeoflife.org
SUMMARY:The Forge: Anvil
DESCRIPTION:Location: Hagerstown\nBlacksmiths: Doug & Theresa Stone\nPotluck Supper: Main dish provided. Please bring a side dish.\n\nGo deep into the Word with men and women in challenging discussions and heart connections. \n\n	Notice: JavaScript is required for this content.\nNo Fields Found.
URL:https://bridgeoflife.org/calendar/the-forge-anvil-8/
CATEGORIES:The Forge
ATTACH;FMTTYPE=image/jpeg:https://bridgeoflife.org/wp-content/uploads/anvil.jpg
END:VEVENT
BEGIN:VEVENT
DTSTART;TZID=America/New_York:20250511T090000
DTEND;TZID=America/New_York:20250511T100000
DTSTAMP:20260424T071438
CREATED:20241223T175727Z
LAST-MODIFIED:20241223T175727Z
UID:36786-1746954000-1746957600@bridgeoflife.org
SUMMARY:Mother’s Day Breakfast
DESCRIPTION:
URL:https://bridgeoflife.org/calendar/mothers-day-breakfast/
LOCATION:Bridge of Life King’s Room\, 6 South Potomac Street\, Hagerstown\, MD\, 21740\, United States
CATEGORIES:Churchwide Events,Women’s Events
ATTACH;FMTTYPE=image/jpeg:https://bridgeoflife.org/wp-content/uploads/IMG_1067.jpeg
END:VEVENT
BEGIN:VEVENT
DTSTART;TZID=America/New_York:20250513T180000
DTEND;TZID=America/New_York:20250513T200000
DTSTAMP:20260424T071438
CREATED:20241223T182500Z
LAST-MODIFIED:20241223T182500Z
UID:36824-1747159200-1747166400@bridgeoflife.org
SUMMARY:The Forge: Hammer
DESCRIPTION:Location: Smithsburg\nBlacksmiths: Dan & Julie Young\nPotluck Supper: Main dish provided. Please bring a side dish. \nGo deep into the Word with men and women in challenging discussions and heart connections. \nSign-up\n\n	Notice: JavaScript is required for this content.\nNo Fields Found.\n\n    \n\n\n        \n        \n        \n 
URL:https://bridgeoflife.org/calendar/the-forge-hammer-10/
CATEGORIES:The Forge
ATTACH;FMTTYPE=image/jpeg:https://bridgeoflife.org/wp-content/uploads/hammer.jpg
END:VEVENT
BEGIN:VEVENT
DTSTART;TZID=America/New_York:20250515T140000
DTEND;TZID=America/New_York:20250515T170000
DTSTAMP:20260424T071438
CREATED:20241210T194011Z
LAST-MODIFIED:20241210T194011Z
UID:36615-1747317600-1747328400@bridgeoflife.org
SUMMARY:Food Bank Distribution
DESCRIPTION:The Bridge of Life Food Bank is touching hundreds of lives; tons of food are distributed each year. A number of our members assist in transporting tons of food to our foodbank\, packaging bags\, and distributing food on the third Thursday of the month. Please pray for this ministry\, for the anointing of the Holy Spirit as our members personally reach out to each individual who comes for food. For more information or to help\, contact Mike Koenig. \n 
URL:https://bridgeoflife.org/calendar/food-bank-distribution-11/
LOCATION:Bridge of Life Food Bank\, 14 Renaissance Way\, Hagerstown\, MD\, 21740
CATEGORIES:Outreach Events
ATTACH;FMTTYPE=image/jpeg:https://bridgeoflife.org/wp-content/uploads/pics-3.jpg
END:VEVENT
BEGIN:VEVENT
DTSTART;TZID=America/New_York:20250515T183000
DTEND;TZID=America/New_York:20250515T200000
DTSTAMP:20260424T071438
CREATED:20250427T190902Z
LAST-MODIFIED:20250427T190902Z
UID:37426-1747333800-1747339200@bridgeoflife.org
SUMMARY:Softball Game
DESCRIPTION:
URL:https://bridgeoflife.org/calendar/softball-game-3/
LOCATION:Fairgrounds Park\, 351 N Cleveland Ave\, Hagerstown\, MD\, 21740\, United States
ATTACH;FMTTYPE=image/jpeg:https://bridgeoflife.org/wp-content/uploads/IMG_1310.jpeg
END:VEVENT
BEGIN:VEVENT
DTSTART;TZID=America/New_York:20250516T180000
DTEND;TZID=America/New_York:20250516T200000
DTSTAMP:20260424T071438
CREATED:20250124T142349Z
LAST-MODIFIED:20250131T143332Z
UID:36980-1747418400-1747425600@bridgeoflife.org
SUMMARY:The Forge: Bellows
DESCRIPTION:Location: Hagerstown\nBlacksmiths: Ray & Lisa Phillips\nPotluck Supper: Main dish provided. Please bring a side dish. \nGo deep into the Word with men and women in challenging discussions and heart connections. \nSign-up\n\n	Notice: JavaScript is required for this content.\nNo Fields Found.\n\n    \n\n\n        \n        \n        \n 
URL:https://bridgeoflife.org/calendar/the-forge-bellow-5/
CATEGORIES:The Forge
ATTACH;FMTTYPE=image/jpeg:https://bridgeoflife.org/wp-content/uploads/IMG_1172.jpeg
END:VEVENT
BEGIN:VEVENT
DTSTART;TZID=America/New_York:20250517T073000
DTEND;TZID=America/New_York:20250517T093000
DTSTAMP:20260424T071438
CREATED:20250105T212205Z
LAST-MODIFIED:20250110T151418Z
UID:36922-1747467000-1747474200@bridgeoflife.org
SUMMARY:Men's Breakfast & Book Study
DESCRIPTION:Bridge of Life men are invited to attend our monthly men’s breakfast with food and fellowship! Meetings are at 7:30am in the BOL Kitchen every 3rd Saturday. We are currently going through the book “Stepping Up” by Dennis Rainey. \nNo sign-up is needed for this event!
URL:https://bridgeoflife.org/calendar/mens-breakfast-book-study-7/
LOCATION:Bridge of Life Kitchen\, 6 South Potomac Street\, Hagerstown\, United States
CATEGORIES:Men’s Events
ATTACH;FMTTYPE=image/jpeg:https://bridgeoflife.org/wp-content/uploads/IMG_1124.jpeg
END:VEVENT
BEGIN:VEVENT
DTSTART;TZID=America/New_York:20250518T090000
DTEND;TZID=America/New_York:20250518T100000
DTSTAMP:20260424T071438
CREATED:20250509T150058Z
LAST-MODIFIED:20250509T150252Z
UID:37462-1747558800-1747562400@bridgeoflife.org
SUMMARY:Church Center Tutorial
DESCRIPTION:We are implementing a new program called Church Center! It is where we will house signups and directory information. On Sunday\, May 18th at 9am\, we will be walking everyone through how the system works. \no Please proceed to the sanctuary when you arrive at 9:00am\no We will have coffee and donuts for everyone\no We will be going over the BOL app and walking through everyone getting it\ninstalled on their phones \n  \nIt is available as an app for smartphone or a website if you are using a computer. \nPlease see the tutorial below or talk to Kenzie Bere for help! \nSmartphone Tutorial
URL:https://bridgeoflife.org/calendar/church-center-tutorial/
LOCATION:Bridge of Life Sanctuary\, 14 South Potomac Street\, Hagerstown\, MD\, 21740\, United States
ATTACH;FMTTYPE=image/jpeg:https://bridgeoflife.org/wp-content/uploads/Events-Calendar-Event-Registrations-Church-Directory.jpg
END:VEVENT
BEGIN:VEVENT
DTSTART;TZID=America/New_York:20250522T183000
DTEND;TZID=America/New_York:20250522T213000
DTSTAMP:20260424T071438
CREATED:20250427T190957Z
LAST-MODIFIED:20250427T190957Z
UID:37428-1747938600-1747949400@bridgeoflife.org
SUMMARY:Softball Game (Double Header)
DESCRIPTION:
URL:https://bridgeoflife.org/calendar/softball-game-double-header/
LOCATION:Fairgrounds Park\, 351 N Cleveland Ave\, Hagerstown\, MD\, 21740\, United States
ATTACH;FMTTYPE=image/jpeg:https://bridgeoflife.org/wp-content/uploads/IMG_1310.jpeg
END:VEVENT
END:VCALENDAR