BEGIN:VCALENDAR
VERSION:2.0
PRODID:-//Bridge of Life - ECPv6.15.14//NONSGML v1.0//EN
CALSCALE:GREGORIAN
METHOD:PUBLISH
X-WR-CALNAME:Bridge of Life
X-ORIGINAL-URL:https://bridgeoflife.org
X-WR-CALDESC:Events for Bridge of Life
REFRESH-INTERVAL;VALUE=DURATION:PT1H
X-Robots-Tag:noindex
X-PUBLISHED-TTL:PT1H
BEGIN:VTIMEZONE
TZID:America/New_York
BEGIN:DAYLIGHT
TZOFFSETFROM:-0500
TZOFFSETTO:-0400
TZNAME:EDT
DTSTART:20240310T070000
END:DAYLIGHT
BEGIN:STANDARD
TZOFFSETFROM:-0400
TZOFFSETTO:-0500
TZNAME:EST
DTSTART:20241103T060000
END:STANDARD
BEGIN:DAYLIGHT
TZOFFSETFROM:-0500
TZOFFSETTO:-0400
TZNAME:EDT
DTSTART:20250309T070000
END:DAYLIGHT
BEGIN:STANDARD
TZOFFSETFROM:-0400
TZOFFSETTO:-0500
TZNAME:EST
DTSTART:20251102T060000
END:STANDARD
BEGIN:DAYLIGHT
TZOFFSETFROM:-0500
TZOFFSETTO:-0400
TZNAME:EDT
DTSTART:20260308T070000
END:DAYLIGHT
BEGIN:STANDARD
TZOFFSETFROM:-0400
TZOFFSETTO:-0500
TZNAME:EST
DTSTART:20261101T060000
END:STANDARD
END:VTIMEZONE
BEGIN:VEVENT
DTSTART;TZID=America/New_York:20250605T090000
DTEND;TZID=America/New_York:20250605T120000
DTSTAMP:20260424T041743
CREATED:20250126T133117Z
LAST-MODIFIED:20250301T150336Z
UID:37001-1749114000-1749124800@bridgeoflife.org
SUMMARY:Prayer & Presence at Hagerstown Area Pregnancy Clinic
DESCRIPTION:Bridge of Life’s monthly outreach event will be having a group of people present at the pregnancy clinic in Hagerstown. Our goal is to intercede and pray for the women going into the abortion clinic\, and offer the HAPC service of free sonograms. Justin shared his heart for this at the Member’s Meeting 2025\, saying it is an emotionally hostile environment for these women making life-changing decisions.\nPlease join us on the first Thursday of every month at BOL\, where we will meet and pray before walking over to the pregnancy clinic.
URL:https://bridgeoflife.org/calendar/prayer-presence-at-hagerstown-area-pregnancy-clinic-5/
LOCATION:Hagerstown Area Pregnancy Clinic\, 152 W Washington St.\, Hagerstown\, 21740\, United States
CATEGORIES:Churchwide Events,Outreach Events
ATTACH;FMTTYPE=image/jpeg:https://bridgeoflife.org/wp-content/uploads/IMG_1177.jpeg
END:VEVENT
BEGIN:VEVENT
DTSTART;TZID=America/New_York:20250605T183000
DTEND;TZID=America/New_York:20250605T200000
DTSTAMP:20260424T041743
CREATED:20250427T191206Z
LAST-MODIFIED:20250427T191206Z
UID:37432-1749148200-1749153600@bridgeoflife.org
SUMMARY:Softball Game
DESCRIPTION:
URL:https://bridgeoflife.org/calendar/softball-game-5/
LOCATION:Fairgrounds Park\, 351 N Cleveland Ave\, Hagerstown\, MD\, 21740\, United States
ATTACH;FMTTYPE=image/jpeg:https://bridgeoflife.org/wp-content/uploads/IMG_1310.jpeg
END:VEVENT
BEGIN:VEVENT
DTSTART;TZID=America/New_York:20250607T180000
DTEND;TZID=America/New_York:20250607T220000
DTSTAMP:20260424T041743
CREATED:20250512T184858Z
LAST-MODIFIED:20250512T184858Z
UID:37478-1749319200-1749333600@bridgeoflife.org
SUMMARY:Youth Pool Party
DESCRIPTION:
URL:https://bridgeoflife.org/calendar/youth-pool-party/
ATTACH;FMTTYPE=image/jpeg:https://bridgeoflife.org/wp-content/uploads/Events-Announcements-5.jpg
END:VEVENT
BEGIN:VEVENT
DTSTART;TZID=America/New_York:20250611T183000
DTEND;TZID=America/New_York:20250611T213000
DTSTAMP:20260424T041743
CREATED:20250427T191249Z
LAST-MODIFIED:20250427T191249Z
UID:37434-1749666600-1749677400@bridgeoflife.org
SUMMARY:Softball Game (Double Header)
DESCRIPTION:
URL:https://bridgeoflife.org/calendar/softball-game-double-header-2/
LOCATION:Fairgrounds Park\, 351 N Cleveland Ave\, Hagerstown\, MD\, 21740\, United States
ATTACH;FMTTYPE=image/jpeg:https://bridgeoflife.org/wp-content/uploads/IMG_1310.jpeg
END:VEVENT
BEGIN:VEVENT
DTSTART;TZID=America/New_York:20250612T183000
DTEND;TZID=America/New_York:20250612T200000
DTSTAMP:20260424T041743
CREATED:20250409T122516Z
LAST-MODIFIED:20250410T192450Z
UID:37386-1749753000-1749758400@bridgeoflife.org
SUMMARY:Hagerstown Flying Boxcars Baseball Game
DESCRIPTION:On Thursday\, June 12\, Bridge of Life will be having a baseball event to watch the Hagerstown Flying Boxcars! Tickets are $15 a person with all-you-can-eat food. \n\n	Notice: JavaScript is required for this content.\nNo Fields Found.
URL:https://bridgeoflife.org/calendar/hagerstown-flying-boxcars-baseball-game-2/
CATEGORIES:Churchwide Events
ATTACH;FMTTYPE=image/jpeg:https://bridgeoflife.org/wp-content/uploads/IMG_1322.jpeg
END:VEVENT
BEGIN:VEVENT
DTSTART;TZID=America/New_York:20250614T080000
DTEND;TZID=America/New_York:20250621T170000
DTSTAMP:20260424T041743
CREATED:20241210T194811Z
LAST-MODIFIED:20241210T195625Z
UID:36629-1749888000-1750525200@bridgeoflife.org
SUMMARY:Youth Missions Trip
DESCRIPTION:Our youth are going to serve the Appalachian people in Kentucky! We will be leaving on June 14th at 8 in the morning.
URL:https://bridgeoflife.org/calendar/youth-missions-trip-2/
CATEGORIES:Youth Events
ATTACH;FMTTYPE=image/jpeg:https://bridgeoflife.org/wp-content/uploads/Slides.jpg
END:VEVENT
BEGIN:VEVENT
DTSTART;TZID=America/New_York:20250615T090000
DTEND;TZID=America/New_York:20250615T100000
DTSTAMP:20260424T041743
CREATED:20250606T132143Z
LAST-MODIFIED:20250606T132143Z
UID:37529-1749978000-1749981600@bridgeoflife.org
SUMMARY:Father's Day Potluck Breakfast
DESCRIPTION:
URL:https://bridgeoflife.org/calendar/fathers-day-potluck-breakfast/
LOCATION:Bridge of Life Church\, 14 South Potomac Street\, Hagerstown\, 21740\, United States
CATEGORIES:Churchwide Events
ATTACH;FMTTYPE=image/jpeg:https://bridgeoflife.org/wp-content/uploads/fathers-day-breakfast.jpg
END:VEVENT
BEGIN:VEVENT
DTSTART;TZID=America/New_York:20250615T120000
DTEND;TZID=America/New_York:20250615T123000
DTSTAMP:20260424T041743
CREATED:20250529T153816Z
LAST-MODIFIED:20250529T153816Z
UID:37517-1749988800-1749990600@bridgeoflife.org
SUMMARY:Teacher's Meeting
DESCRIPTION:
URL:https://bridgeoflife.org/calendar/teachers-meeting-4/
LOCATION:Bridge of Life Sanctuary\, 14 South Potomac Street\, Hagerstown\, MD\, 21740\, United States
ATTACH;FMTTYPE=image/jpeg:https://bridgeoflife.org/wp-content/uploads/teachers-meeting.jpg
END:VEVENT
BEGIN:VEVENT
DTSTART;TZID=America/New_York:20250619T140000
DTEND;TZID=America/New_York:20250619T170000
DTSTAMP:20260424T041743
CREATED:20241210T194052Z
LAST-MODIFIED:20241210T194052Z
UID:36617-1750341600-1750352400@bridgeoflife.org
SUMMARY:Food Bank Distribution
DESCRIPTION:The Bridge of Life Food Bank is touching hundreds of lives; tons of food are distributed each year. A number of our members assist in transporting tons of food to our foodbank\, packaging bags\, and distributing food on the third Thursday of the month. Please pray for this ministry\, for the anointing of the Holy Spirit as our members personally reach out to each individual who comes for food. For more information or to help\, contact Mike Koenig. \n 
URL:https://bridgeoflife.org/calendar/food-bank-distribution-12/
LOCATION:Bridge of Life Food Bank\, 14 Renaissance Way\, Hagerstown\, MD\, 21740
CATEGORIES:Outreach Events
ATTACH;FMTTYPE=image/jpeg:https://bridgeoflife.org/wp-content/uploads/pics-3.jpg
END:VEVENT
BEGIN:VEVENT
DTSTART;TZID=America/New_York:20250622T110000
DTEND;TZID=America/New_York:20250622T120000
DTSTAMP:20260424T041743
CREATED:20250516T142936Z
LAST-MODIFIED:20250516T142936Z
UID:37487-1750590000-1750593600@bridgeoflife.org
SUMMARY:Speaker: Rich Vieira
DESCRIPTION:
URL:https://bridgeoflife.org/calendar/speaker-rich-vieira/
LOCATION:Bridge of Life Sanctuary\, 14 South Potomac Street\, Hagerstown\, MD\, 21740\, United States
CATEGORIES:Churchwide Events
ATTACH;FMTTYPE=image/jpeg:https://bridgeoflife.org/wp-content/uploads/IMG_0228.jpeg
END:VEVENT
BEGIN:VEVENT
DTSTART;TZID=America/New_York:20250626T183000
DTEND;TZID=America/New_York:20250626T200000
DTSTAMP:20260424T041743
CREATED:20250427T191352Z
LAST-MODIFIED:20250427T191352Z
UID:37436-1750962600-1750968000@bridgeoflife.org
SUMMARY:Softball Game
DESCRIPTION:
URL:https://bridgeoflife.org/calendar/softball-game-6/
LOCATION:Fairgrounds Park\, 351 N Cleveland Ave\, Hagerstown\, MD\, 21740\, United States
ATTACH;FMTTYPE=image/jpeg:https://bridgeoflife.org/wp-content/uploads/IMG_1310.jpeg
END:VEVENT
BEGIN:VEVENT
DTSTART;TZID=America/New_York:20250702T183000
DTEND;TZID=America/New_York:20250702T210000
DTSTAMP:20260424T041743
CREATED:20250427T191444Z
LAST-MODIFIED:20250427T191444Z
UID:37438-1751481000-1751490000@bridgeoflife.org
SUMMARY:Softball Game (Double Header)
DESCRIPTION:
URL:https://bridgeoflife.org/calendar/softball-game-double-header-3/
LOCATION:Fairgrounds Park\, 351 N Cleveland Ave\, Hagerstown\, MD\, 21740\, United States
ATTACH;FMTTYPE=image/jpeg:https://bridgeoflife.org/wp-content/uploads/IMG_1310.jpeg
END:VEVENT
BEGIN:VEVENT
DTSTART;TZID=America/New_York:20250703T090000
DTEND;TZID=America/New_York:20250703T120000
DTSTAMP:20260424T041743
CREATED:20250126T133859Z
LAST-MODIFIED:20250301T150237Z
UID:37012-1751533200-1751544000@bridgeoflife.org
SUMMARY:Prayer & Presence at Hagerstown Area Pregnancy Clinic
DESCRIPTION:Bridge of Life’s monthly outreach event will be having a group of people present at the pregnancy clinic in Hagerstown. Our goal is to intercede and pray for the women going into the abortion clinic\, and offer the HAPC service of free sonograms. Justin shared his heart for this at the Member’s Meeting 2025\, saying it is an emotionally hostile environment for these women making life-changing decisions.\nPlease join us on the first Thursday of every month at BOL\, where we will meet and pray before walking over to the pregnancy clinic.
URL:https://bridgeoflife.org/calendar/prayer-presence-at-hagerstown-area-pregnancy-clinic-10/
LOCATION:Hagerstown Area Pregnancy Clinic\, 152 W Washington St.\, Hagerstown\, 21740\, United States
CATEGORIES:Churchwide Events,Outreach Events
ATTACH;FMTTYPE=image/jpeg:https://bridgeoflife.org/wp-content/uploads/IMG_1177.jpeg
END:VEVENT
BEGIN:VEVENT
DTSTART;TZID=America/New_York:20250709T183000
DTEND;TZID=America/New_York:20250709T200000
DTSTAMP:20260424T041743
CREATED:20250427T191604Z
LAST-MODIFIED:20250427T191604Z
UID:37440-1752085800-1752091200@bridgeoflife.org
SUMMARY:Softball Game
DESCRIPTION:
URL:https://bridgeoflife.org/calendar/softball-game-7/
LOCATION:Fairgrounds Park\, 351 N Cleveland Ave\, Hagerstown\, MD\, 21740\, United States
ATTACH;FMTTYPE=image/jpeg:https://bridgeoflife.org/wp-content/uploads/IMG_1310.jpeg
END:VEVENT
BEGIN:VEVENT
DTSTART;TZID=America/New_York:20250713T123000
DTEND;TZID=America/New_York:20250713T140000
DTSTAMP:20260424T041743
CREATED:20250627T135917Z
LAST-MODIFIED:20250627T143548Z
UID:37541-1752409800-1752415200@bridgeoflife.org
SUMMARY:VBS Planning Meeting
DESCRIPTION:
URL:https://bridgeoflife.org/calendar/vbs-planning-meeting-8/
LOCATION:Bridge of Life King’s Room\, 6 South Potomac Street\, Hagerstown\, MD\, 21740\, United States
ATTACH;FMTTYPE=image/jpeg:https://bridgeoflife.org/wp-content/uploads/IMG_1206.jpeg
END:VEVENT
BEGIN:VEVENT
DTSTART;TZID=America/New_York:20250714T180000
DTEND;TZID=America/New_York:20250718T200000
DTSTAMP:20260424T041743
CREATED:20241223T175441Z
LAST-MODIFIED:20250627T140057Z
UID:36777-1752516000-1752868800@bridgeoflife.org
SUMMARY:VBS: Discovering Jesus
DESCRIPTION:Register your kids here! \nVolunteer here!
URL:https://bridgeoflife.org/calendar/vbs-2/
LOCATION:Bridge of Life Church\, 14 South Potomac Street\, Hagerstown\, 21740\, United States
CATEGORIES:Churchwide Events,Outreach Events
ATTACH;FMTTYPE=image/jpeg:https://bridgeoflife.org/wp-content/uploads/vbs-slide.jpg
END:VEVENT
BEGIN:VEVENT
DTSTART;VALUE=DATE:20250721
DTEND;VALUE=DATE:20250725
DTSTAMP:20260424T041743
CREATED:20241210T195820Z
LAST-MODIFIED:20250101T133433Z
UID:36632-1753056000-1753401599@bridgeoflife.org
SUMMARY:Youth Retreat
DESCRIPTION:A summer getaway for One Accord Youth members! More details coming soon…
URL:https://bridgeoflife.org/calendar/youth-retreat-2/
CATEGORIES:Youth Events
ATTACH;FMTTYPE=image/jpeg:https://bridgeoflife.org/wp-content/uploads/IMG_0143.jpeg
END:VEVENT
BEGIN:VEVENT
DTSTART;TZID=America/New_York:20250724T200000
DTEND;TZID=America/New_York:20250724T213000
DTSTAMP:20260424T041743
CREATED:20250427T191714Z
LAST-MODIFIED:20250427T191714Z
UID:37442-1753387200-1753392600@bridgeoflife.org
SUMMARY:Softball Game
DESCRIPTION:
URL:https://bridgeoflife.org/calendar/softball-game-8/
LOCATION:Fairgrounds Park\, 351 N Cleveland Ave\, Hagerstown\, MD\, 21740\, United States
ATTACH;FMTTYPE=image/jpeg:https://bridgeoflife.org/wp-content/uploads/IMG_1310.jpeg
END:VEVENT
BEGIN:VEVENT
DTSTART;TZID=America/New_York:20250726T090000
DTEND;TZID=America/New_York:20250726T140000
DTSTAMP:20260424T041743
CREATED:20250718T151636Z
LAST-MODIFIED:20250718T151636Z
UID:37576-1753520400-1753538400@bridgeoflife.org
SUMMARY:Hagerstown Thrifting
DESCRIPTION:
URL:https://bridgeoflife.org/calendar/hagerstown-thrifting/
ATTACH;FMTTYPE=image/jpeg:https://bridgeoflife.org/wp-content/uploads/47.jpg
END:VEVENT
BEGIN:VEVENT
DTSTART;VALUE=DATE:20250728
DTEND;VALUE=DATE:20250811
DTSTAMP:20260424T041743
CREATED:20250725T135112Z
LAST-MODIFIED:20250725T135112Z
UID:37584-1753660800-1754870399@bridgeoflife.org
SUMMARY:Church Offices Closed
DESCRIPTION:
URL:https://bridgeoflife.org/calendar/church-offices-closed-4/
ATTACH;FMTTYPE=image/jpeg:https://bridgeoflife.org/wp-content/uploads/Offices.jpg
END:VEVENT
BEGIN:VEVENT
DTSTART;TZID=America/New_York:20250729T183000
DTEND;TZID=America/New_York:20250729T213000
DTSTAMP:20260424T041743
CREATED:20250427T191824Z
LAST-MODIFIED:20250427T191824Z
UID:37444-1753813800-1753824600@bridgeoflife.org
SUMMARY:Softball Game (Double Header)
DESCRIPTION:
URL:https://bridgeoflife.org/calendar/softball-game-double-header-4/
LOCATION:Fairgrounds Park\, 351 N Cleveland Ave\, Hagerstown\, MD\, 21740\, United States
ATTACH;FMTTYPE=image/jpeg:https://bridgeoflife.org/wp-content/uploads/IMG_1310.jpeg
END:VEVENT
BEGIN:VEVENT
DTSTART;TZID=America/New_York:20250803T110000
DTEND;TZID=America/New_York:20250803T120000
DTSTAMP:20260424T041743
CREATED:20241223T181058Z
LAST-MODIFIED:20241223T181058Z
UID:36803-1754218800-1754222400@bridgeoflife.org
SUMMARY:Speaker: Associate Pastor Ray Phillips
DESCRIPTION:
URL:https://bridgeoflife.org/calendar/speaker-associate-pastor-ray-phillips-3/
CATEGORIES:Churchwide Events
ATTACH;FMTTYPE=image/jpeg:https://bridgeoflife.org/wp-content/uploads/IMG_0228.jpeg
END:VEVENT
BEGIN:VEVENT
DTSTART;TZID=America/New_York:20250806T183000
DTEND;TZID=America/New_York:20250806T200000
DTSTAMP:20260424T041743
CREATED:20250427T192129Z
LAST-MODIFIED:20250427T192129Z
UID:37446-1754505000-1754510400@bridgeoflife.org
SUMMARY:Softball Game
DESCRIPTION:
URL:https://bridgeoflife.org/calendar/softball-game-9/
LOCATION:Fairgrounds Park\, 351 N Cleveland Ave\, Hagerstown\, MD\, 21740\, United States
ATTACH;FMTTYPE=image/jpeg:https://bridgeoflife.org/wp-content/uploads/IMG_1310.jpeg
END:VEVENT
BEGIN:VEVENT
DTSTART;TZID=America/New_York:20250807T090000
DTEND;TZID=America/New_York:20250807T120000
DTSTAMP:20260424T041743
CREATED:20250126T133922Z
LAST-MODIFIED:20250301T150143Z
UID:37011-1754557200-1754568000@bridgeoflife.org
SUMMARY:Prayer & Presence at Hagerstown Area Pregnancy Clinic
DESCRIPTION:Bridge of Life’s monthly outreach event will be having a group of people present at the pregnancy clinic in Hagerstown. Our goal is to intercede and pray for the women going into the abortion clinic\, and offer the HAPC service of free sonograms. Justin shared his heart for this at the Member’s Meeting 2025\, saying it is an emotionally hostile environment for these women making life-changing decisions.\nPlease join us on the first Thursday of every month at BOL\, where we will meet and pray before walking over to the pregnancy clinic.
URL:https://bridgeoflife.org/calendar/prayer-presence-at-hagerstown-area-pregnancy-clinic-11/
LOCATION:Hagerstown Area Pregnancy Clinic\, 152 W Washington St.\, Hagerstown\, 21740\, United States
CATEGORIES:Churchwide Events,Outreach Events
ATTACH;FMTTYPE=image/jpeg:https://bridgeoflife.org/wp-content/uploads/IMG_1177.jpeg
END:VEVENT
BEGIN:VEVENT
DTSTART;TZID=America/New_York:20250810T110000
DTEND;TZID=America/New_York:20250810T120000
DTSTAMP:20260424T041743
CREATED:20241223T213138Z
LAST-MODIFIED:20250805T145529Z
UID:36841-1754823600-1754827200@bridgeoflife.org
SUMMARY:Speaker: Todd Westphal
DESCRIPTION:
URL:https://bridgeoflife.org/calendar/speaker-associate-pastor-ray-phillips-7/
LOCATION:Bridge of Life Sanctuary\, 14 South Potomac Street\, Hagerstown\, MD\, 21740\, United States
CATEGORIES:Churchwide Events
ATTACH;FMTTYPE=image/jpeg:https://bridgeoflife.org/wp-content/uploads/IMG_0228.jpeg
END:VEVENT
BEGIN:VEVENT
DTSTART;TZID=America/New_York:20250814T183000
DTEND;TZID=America/New_York:20250814T200000
DTSTAMP:20260424T041743
CREATED:20250427T192202Z
LAST-MODIFIED:20250427T192202Z
UID:37448-1755196200-1755201600@bridgeoflife.org
SUMMARY:Softball Game
DESCRIPTION:
URL:https://bridgeoflife.org/calendar/softball-game-10/
LOCATION:Fairgrounds Park\, 351 N Cleveland Ave\, Hagerstown\, MD\, 21740\, United States
ATTACH;FMTTYPE=image/jpeg:https://bridgeoflife.org/wp-content/uploads/IMG_1310.jpeg
END:VEVENT
BEGIN:VEVENT
DTSTART;TZID=America/New_York:20250817T110000
DTEND;TZID=America/New_York:20250817T120000
DTSTAMP:20260424T041743
CREATED:20241223T181130Z
LAST-MODIFIED:20241223T181130Z
UID:36805-1755428400-1755432000@bridgeoflife.org
SUMMARY:Speaker: Associate Pastor Ray Phillips
DESCRIPTION:
URL:https://bridgeoflife.org/calendar/speaker-associate-pastor-ray-phillips-4/
CATEGORIES:Churchwide Events
ATTACH;FMTTYPE=image/jpeg:https://bridgeoflife.org/wp-content/uploads/IMG_0228.jpeg
END:VEVENT
BEGIN:VEVENT
DTSTART;TZID=America/New_York:20250819T180000
DTEND;TZID=America/New_York:20250819T200000
DTSTAMP:20260424T041743
CREATED:20250627T141245Z
LAST-MODIFIED:20250627T141245Z
UID:37547-1755626400-1755633600@bridgeoflife.org
SUMMARY:The Forge: Hammer
DESCRIPTION:Location: Smithsburg\nBlacksmiths: Dan & Julie Young\nPotluck Supper: Main dish provided. Please bring a side dish. \nGo deep into the Word with men and women in challenging discussions and heart connections. \nSign-up\n 
URL:https://bridgeoflife.org/calendar/the-forge-hammer-12/
CATEGORIES:The Forge
ATTACH;FMTTYPE=image/jpeg:https://bridgeoflife.org/wp-content/uploads/hammer.jpg
END:VEVENT
BEGIN:VEVENT
DTSTART;TZID=America/New_York:20250821T140000
DTEND;TZID=America/New_York:20250821T170000
DTSTAMP:20260424T041743
CREATED:20250806T135725Z
LAST-MODIFIED:20250806T140101Z
UID:37604-1755784800-1755795600@bridgeoflife.org
SUMMARY:Food Bank Distribution
DESCRIPTION:The Bridge of Life Food Bank is touching hundreds of lives; tons of food are distributed each year. A number of our members assist in transporting tons of food to our foodbank\, packaging bags\, and distributing food on the third Thursday of the month. Please pray for this ministry\, for the anointing of the Holy Spirit as our members personally reach out to each individual who comes for food. For more information or to help\, contact Mike Koenig. \n 
URL:https://bridgeoflife.org/calendar/food-bank-distribution-13/
LOCATION:Bridge of Life Food Bank\, 14 Renaissance Way\, Hagerstown\, MD\, 21740
CATEGORIES:Outreach Events
ATTACH;FMTTYPE=image/jpeg:https://bridgeoflife.org/wp-content/uploads/pics-3.jpg
END:VEVENT
BEGIN:VEVENT
DTSTART;TZID=America/New_York:20250821T183000
DTEND;TZID=America/New_York:20250821T200000
DTSTAMP:20260424T041743
CREATED:20250427T192231Z
LAST-MODIFIED:20250427T192231Z
UID:37450-1755801000-1755806400@bridgeoflife.org
SUMMARY:Softball Game
DESCRIPTION:
URL:https://bridgeoflife.org/calendar/softball-game-11/
LOCATION:Fairgrounds Park\, 351 N Cleveland Ave\, Hagerstown\, MD\, 21740\, United States
ATTACH;FMTTYPE=image/jpeg:https://bridgeoflife.org/wp-content/uploads/IMG_1310.jpeg
END:VEVENT
END:VCALENDAR