BEGIN:VCALENDAR
VERSION:2.0
PRODID:-//Bridge of Life - ECPv6.15.14//NONSGML v1.0//EN
CALSCALE:GREGORIAN
METHOD:PUBLISH
X-WR-CALNAME:Bridge of Life
X-ORIGINAL-URL:https://bridgeoflife.org
X-WR-CALDESC:Events for Bridge of Life
REFRESH-INTERVAL;VALUE=DURATION:PT1H
X-Robots-Tag:noindex
X-PUBLISHED-TTL:PT1H
BEGIN:VTIMEZONE
TZID:America/New_York
BEGIN:DAYLIGHT
TZOFFSETFROM:-0500
TZOFFSETTO:-0400
TZNAME:EDT
DTSTART:20250309T070000
END:DAYLIGHT
BEGIN:STANDARD
TZOFFSETFROM:-0400
TZOFFSETTO:-0500
TZNAME:EST
DTSTART:20251102T060000
END:STANDARD
BEGIN:DAYLIGHT
TZOFFSETFROM:-0500
TZOFFSETTO:-0400
TZNAME:EDT
DTSTART:20260308T070000
END:DAYLIGHT
BEGIN:STANDARD
TZOFFSETFROM:-0400
TZOFFSETTO:-0500
TZNAME:EST
DTSTART:20261101T060000
END:STANDARD
BEGIN:DAYLIGHT
TZOFFSETFROM:-0500
TZOFFSETTO:-0400
TZNAME:EDT
DTSTART:20270314T070000
END:DAYLIGHT
BEGIN:STANDARD
TZOFFSETFROM:-0400
TZOFFSETTO:-0500
TZNAME:EST
DTSTART:20271107T060000
END:STANDARD
END:VTIMEZONE
BEGIN:VEVENT
DTSTART;TZID=America/New_York:20260403T180000
DTEND;TZID=America/New_York:20260403T200000
DTSTAMP:20260423T192626
CREATED:20251219T154914Z
LAST-MODIFIED:20251219T154914Z
UID:37801-1775239200-1775246400@bridgeoflife.org
SUMMARY:The Forge: Bellows
DESCRIPTION:Location: State Line\nBlacksmiths: Ray & Lisa Phillips\nPotluck Supper: Main dish provided. Please bring a side dish. \nGo deep into the Word with men and women in challenging discussions and heart connections. \nSign-up
URL:https://bridgeoflife.org/calendar/the-forge-bellows-18/
CATEGORIES:The Forge
ATTACH;FMTTYPE=image/jpeg:https://bridgeoflife.org/wp-content/uploads/IMG_1172.jpeg
END:VEVENT
BEGIN:VEVENT
DTSTART;VALUE=DATE:20260410
DTEND;VALUE=DATE:20260412
DTSTAMP:20260423T192626
CREATED:20251106T180859Z
LAST-MODIFIED:20251219T154633Z
UID:37724-1775779200-1775951999@bridgeoflife.org
SUMMARY:Women's Weekend 2026
DESCRIPTION:Register here!
URL:https://bridgeoflife.org/calendar/womens-weekend-2026/
LOCATION:Bridge of Life Church\, 14 South Potomac Street\, Hagerstown\, 21740\, United States
CATEGORIES:Women’s Events
ATTACH;FMTTYPE=image/jpeg:https://bridgeoflife.org/wp-content/uploads/WW26-Digitals.jpg
END:VEVENT
BEGIN:VEVENT
DTSTART;TZID=America/New_York:20260413T180000
DTEND;TZID=America/New_York:20260413T200000
DTSTAMP:20260423T192626
CREATED:20251219T154458Z
LAST-MODIFIED:20251219T154458Z
UID:37784-1776103200-1776110400@bridgeoflife.org
SUMMARY:The Forge: Hammer
DESCRIPTION:Location: Smithsburg\nBlacksmiths: Dan & Julie Young\nPotluck Supper: Main dish provided. Please bring a side dish. \nGo deep into the Word with men and women in challenging discussions and heart connections. \nSign-up\n 
URL:https://bridgeoflife.org/calendar/the-forge-hammer-29/
CATEGORIES:The Forge
ATTACH;FMTTYPE=image/jpeg:https://bridgeoflife.org/wp-content/uploads/hammer.jpg
END:VEVENT
BEGIN:VEVENT
DTSTART;TZID=America/New_York:20260417T180000
DTEND;TZID=America/New_York:20260417T200000
DTSTAMP:20260423T192626
CREATED:20251219T154934Z
LAST-MODIFIED:20251219T154934Z
UID:37803-1776448800-1776456000@bridgeoflife.org
SUMMARY:The Forge: Bellows
DESCRIPTION:Location: State Line\nBlacksmiths: Ray & Lisa Phillips\nPotluck Supper: Main dish provided. Please bring a side dish. \nGo deep into the Word with men and women in challenging discussions and heart connections. \nSign-up
URL:https://bridgeoflife.org/calendar/the-forge-bellows-19/
CATEGORIES:The Forge
ATTACH;FMTTYPE=image/jpeg:https://bridgeoflife.org/wp-content/uploads/IMG_1172.jpeg
END:VEVENT
BEGIN:VEVENT
DTSTART;TZID=America/New_York:20260424T180000
DTEND;TZID=America/New_York:20260424T200000
DTSTAMP:20260423T192626
CREATED:20251219T155726Z
LAST-MODIFIED:20251219T155726Z
UID:37819-1777053600-1777060800@bridgeoflife.org
SUMMARY:The Forge: Anvil
DESCRIPTION:Location: Hagerstown\nBlacksmiths: Doug & Theresa Stone\nPotluck Supper: Main dish provided. Please bring a side dish.\n\nGo deep into the Word with men and women in challenging discussions and heart connections.
URL:https://bridgeoflife.org/calendar/the-forge-anvil-21/
CATEGORIES:The Forge
ATTACH;FMTTYPE=image/jpeg:https://bridgeoflife.org/wp-content/uploads/anvil.jpg
END:VEVENT
BEGIN:VEVENT
DTSTART;TZID=America/New_York:20260425T180000
DTEND;TZID=America/New_York:20260425T213000
DTSTAMP:20260423T192626
CREATED:20260126T205523Z
LAST-MODIFIED:20260126T205523Z
UID:37894-1777140000-1777152600@bridgeoflife.org
SUMMARY:Youth Event
DESCRIPTION:One Accord Youth ages 13+ are invited to a youth event! Contact Kevin Bere for more info!
URL:https://bridgeoflife.org/calendar/youth-event-11/
LOCATION:Bridge of Life Youth Room\, 6 South Potomac Street\, Hagerstown\, United States
CATEGORIES:Youth Events
ATTACH;FMTTYPE=image/jpeg:https://bridgeoflife.org/wp-content/uploads/Events-Announcements-5.jpg
END:VEVENT
BEGIN:VEVENT
DTSTART;TZID=America/New_York:20260427T180000
DTEND;TZID=America/New_York:20260427T200000
DTSTAMP:20260423T192626
CREATED:20251219T154530Z
LAST-MODIFIED:20251219T154530Z
UID:37786-1777312800-1777320000@bridgeoflife.org
SUMMARY:The Forge: Hammer
DESCRIPTION:Location: Smithsburg\nBlacksmiths: Dan & Julie Young\nPotluck Supper: Main dish provided. Please bring a side dish. \nGo deep into the Word with men and women in challenging discussions and heart connections. \nSign-up\n 
URL:https://bridgeoflife.org/calendar/the-forge-hammer-30/
CATEGORIES:The Forge
ATTACH;FMTTYPE=image/jpeg:https://bridgeoflife.org/wp-content/uploads/hammer.jpg
END:VEVENT
BEGIN:VEVENT
DTSTART;TZID=America/New_York:20260501T180000
DTEND;TZID=America/New_York:20260501T200000
DTSTAMP:20260423T192626
CREATED:20251219T154830Z
LAST-MODIFIED:20251219T155138Z
UID:37797-1777658400-1777665600@bridgeoflife.org
SUMMARY:The Forge: Bellows
DESCRIPTION:Location: State Line\nBlacksmiths: Ray & Lisa Phillips\nPotluck Supper: Main dish provided. Please bring a side dish. \nGo deep into the Word with men and women in challenging discussions and heart connections. \nSign-up
URL:https://bridgeoflife.org/calendar/the-forge-bellows-16/
CATEGORIES:The Forge
ATTACH;FMTTYPE=image/jpeg:https://bridgeoflife.org/wp-content/uploads/IMG_1172.jpeg
END:VEVENT
BEGIN:VEVENT
DTSTART;TZID=America/New_York:20260508T180000
DTEND;TZID=America/New_York:20260508T200000
DTSTAMP:20260423T192626
CREATED:20251219T155755Z
LAST-MODIFIED:20251219T155806Z
UID:37821-1778263200-1778270400@bridgeoflife.org
SUMMARY:The Forge: Anvil
DESCRIPTION:Location: Hagerstown\nBlacksmiths: Doug & Theresa Stone\nPotluck Supper: Main dish provided. Please bring a side dish.\n\nGo deep into the Word with men and women in challenging discussions and heart connections.
URL:https://bridgeoflife.org/calendar/the-forge-anvil-22/
CATEGORIES:The Forge
ATTACH;FMTTYPE=image/jpeg:https://bridgeoflife.org/wp-content/uploads/anvil.jpg
END:VEVENT
BEGIN:VEVENT
DTSTART;TZID=America/New_York:20260511T180000
DTEND;TZID=America/New_York:20260511T200000
DTSTAMP:20260423T192626
CREATED:20251219T154556Z
LAST-MODIFIED:20251219T154556Z
UID:37788-1778522400-1778529600@bridgeoflife.org
SUMMARY:The Forge: Hammer
DESCRIPTION:Location: Smithsburg\nBlacksmiths: Dan & Julie Young\nPotluck Supper: Main dish provided. Please bring a side dish. \nGo deep into the Word with men and women in challenging discussions and heart connections. \nSign-up\n 
URL:https://bridgeoflife.org/calendar/the-forge-hammer-31/
CATEGORIES:The Forge
ATTACH;FMTTYPE=image/jpeg:https://bridgeoflife.org/wp-content/uploads/hammer.jpg
END:VEVENT
BEGIN:VEVENT
DTSTART;TZID=America/New_York:20260515T180000
DTEND;TZID=America/New_York:20260515T200000
DTSTAMP:20260423T192626
CREATED:20251219T155108Z
LAST-MODIFIED:20251219T155243Z
UID:37805-1778868000-1778875200@bridgeoflife.org
SUMMARY:The Forge: Bellows
DESCRIPTION:Location: State Line\nBlacksmiths: Ray & Lisa Phillips\nPotluck Supper: Main dish provided. Please bring a side dish. \nGo deep into the Word with men and women in challenging discussions and heart connections. \nSign-up
URL:https://bridgeoflife.org/calendar/the-forge-bellows-20/
CATEGORIES:The Forge
ATTACH;FMTTYPE=image/jpeg:https://bridgeoflife.org/wp-content/uploads/IMG_1172.jpeg
END:VEVENT
BEGIN:VEVENT
DTSTART;TZID=America/New_York:20260522T180000
DTEND;TZID=America/New_York:20260522T200000
DTSTAMP:20260423T192626
CREATED:20251219T155832Z
LAST-MODIFIED:20251219T155832Z
UID:37823-1779472800-1779480000@bridgeoflife.org
SUMMARY:The Forge: Anvil
DESCRIPTION:Location: Hagerstown\nBlacksmiths: Doug & Theresa Stone\nPotluck Supper: Main dish provided. Please bring a side dish.\n\nGo deep into the Word with men and women in challenging discussions and heart connections.
URL:https://bridgeoflife.org/calendar/the-forge-anvil-23/
CATEGORIES:The Forge
ATTACH;FMTTYPE=image/jpeg:https://bridgeoflife.org/wp-content/uploads/anvil.jpg
END:VEVENT
BEGIN:VEVENT
DTSTART;TZID=America/New_York:20260525T180000
DTEND;TZID=America/New_York:20260525T200000
DTSTAMP:20260423T192626
CREATED:20251219T154652Z
LAST-MODIFIED:20251219T154652Z
UID:37790-1779732000-1779739200@bridgeoflife.org
SUMMARY:The Forge: Hammer
DESCRIPTION:Location: Smithsburg\nBlacksmiths: Dan & Julie Young\nPotluck Supper: Main dish provided. Please bring a side dish. \nGo deep into the Word with men and women in challenging discussions and heart connections. \nSign-up\n 
URL:https://bridgeoflife.org/calendar/the-forge-hammer-32/
CATEGORIES:The Forge
ATTACH;FMTTYPE=image/jpeg:https://bridgeoflife.org/wp-content/uploads/hammer.jpg
END:VEVENT
BEGIN:VEVENT
DTSTART;TZID=America/New_York:20260605T180000
DTEND;TZID=America/New_York:20260605T200000
DTSTAMP:20260423T192626
CREATED:20251219T154808Z
LAST-MODIFIED:20251219T155451Z
UID:37795-1780682400-1780689600@bridgeoflife.org
SUMMARY:The Forge: Bellows
DESCRIPTION:Location: State Line\nBlacksmiths: Ray & Lisa Phillips\nPotluck Supper: Main dish provided. Please bring a side dish. \nGo deep into the Word with men and women in challenging discussions and heart connections. \nSign-up
URL:https://bridgeoflife.org/calendar/the-forge-bellows-15/
CATEGORIES:The Forge
ATTACH;FMTTYPE=image/jpeg:https://bridgeoflife.org/wp-content/uploads/IMG_1172.jpeg
END:VEVENT
BEGIN:VEVENT
DTSTART;TZID=America/New_York:20260608T180000
DTEND;TZID=America/New_York:20260608T200000
DTSTAMP:20260423T192626
CREATED:20251219T154230Z
LAST-MODIFIED:20251219T155222Z
UID:37782-1780941600-1780948800@bridgeoflife.org
SUMMARY:The Forge: Hammer
DESCRIPTION:Location: Smithsburg\nBlacksmiths: Dan & Julie Young\nPotluck Supper: Main dish provided. Please bring a side dish. \nGo deep into the Word with men and women in challenging discussions and heart connections. \nSign-up\n 
URL:https://bridgeoflife.org/calendar/the-forge-hammer-28/
CATEGORIES:The Forge
ATTACH;FMTTYPE=image/jpeg:https://bridgeoflife.org/wp-content/uploads/hammer.jpg
END:VEVENT
BEGIN:VEVENT
DTSTART;TZID=America/New_York:20260612T180000
DTEND;TZID=America/New_York:20260612T200000
DTSTAMP:20260423T192626
CREATED:20251219T155911Z
LAST-MODIFIED:20251219T155911Z
UID:37825-1781287200-1781294400@bridgeoflife.org
SUMMARY:The Forge: Anvil
DESCRIPTION:Location: Hagerstown\nBlacksmiths: Doug & Theresa Stone\nPotluck Supper: Main dish provided. Please bring a side dish.\n\nGo deep into the Word with men and women in challenging discussions and heart connections.
URL:https://bridgeoflife.org/calendar/the-forge-anvil-24/
CATEGORIES:The Forge
ATTACH;FMTTYPE=image/jpeg:https://bridgeoflife.org/wp-content/uploads/anvil.jpg
END:VEVENT
BEGIN:VEVENT
DTSTART;TZID=America/New_York:20260614T090000
DTEND;TZID=America/New_York:20260614T100000
DTSTAMP:20260423T192626
CREATED:20241223T175536Z
LAST-MODIFIED:20250529T201701Z
UID:36780-1781427600-1781431200@bridgeoflife.org
SUMMARY:Father’s Day Breakfast
DESCRIPTION:
URL:https://bridgeoflife.org/calendar/fathers-day-breakfast/
LOCATION:Bridge of Life King’s Room\, 6 South Potomac Street\, Hagerstown\, MD\, 21740\, United States
CATEGORIES:Churchwide Events,Men’s Events
ATTACH;FMTTYPE=image/jpeg:https://bridgeoflife.org/wp-content/uploads/IMG_1070.jpeg
END:VEVENT
BEGIN:VEVENT
DTSTART;VALUE=DATE:20260713
DTEND;VALUE=DATE:20260718
DTSTAMP:20260423T192626
CREATED:20260123T172901Z
LAST-MODIFIED:20260123T172901Z
UID:37883-1783900800-1784332799@bridgeoflife.org
SUMMARY:VBS 2026
DESCRIPTION:More info here!
URL:https://bridgeoflife.org/calendar/vbs-2026/
LOCATION:Bridge of Life Church\, 14 South Potomac Street\, Hagerstown\, 21740\, United States
ORGANIZER;CN="Sean Wenzel":MAILTO:sean.wenzel@bridgeoflife.org
END:VEVENT
BEGIN:VEVENT
DTSTART;VALUE=DATE:20260713
DTEND;VALUE=DATE:20260718
DTSTAMP:20260423T192626
CREATED:20260123T173442Z
LAST-MODIFIED:20260123T173442Z
UID:37886-1783900800-1784332799@bridgeoflife.org
SUMMARY:VBS 2026
DESCRIPTION:More info here!
URL:https://bridgeoflife.org/calendar/vbs-2026-2/
LOCATION:Bridge of Life Church\, 14 South Potomac Street\, Hagerstown\, 21740\, United States
ATTACH;FMTTYPE=image/jpeg:https://bridgeoflife.org/wp-content/uploads/vbs-2026-plain.jpg
ORGANIZER;CN="Sean Wenzel":MAILTO:sean.wenzel@bridgeoflife.org
END:VEVENT
END:VCALENDAR