BEGIN:VCALENDAR
VERSION:2.0
PRODID:-//Bridge of Life - ECPv6.15.14//NONSGML v1.0//EN
CALSCALE:GREGORIAN
METHOD:PUBLISH
X-WR-CALNAME:Bridge of Life
X-ORIGINAL-URL:https://bridgeoflife.org
X-WR-CALDESC:Events for Bridge of Life
REFRESH-INTERVAL;VALUE=DURATION:PT1H
X-Robots-Tag:noindex
X-PUBLISHED-TTL:PT1H
BEGIN:VTIMEZONE
TZID:America/New_York
BEGIN:DAYLIGHT
TZOFFSETFROM:-0500
TZOFFSETTO:-0400
TZNAME:EDT
DTSTART:20230312T070000
END:DAYLIGHT
BEGIN:STANDARD
TZOFFSETFROM:-0400
TZOFFSETTO:-0500
TZNAME:EST
DTSTART:20231105T060000
END:STANDARD
BEGIN:DAYLIGHT
TZOFFSETFROM:-0500
TZOFFSETTO:-0400
TZNAME:EDT
DTSTART:20240310T070000
END:DAYLIGHT
BEGIN:STANDARD
TZOFFSETFROM:-0400
TZOFFSETTO:-0500
TZNAME:EST
DTSTART:20241103T060000
END:STANDARD
BEGIN:DAYLIGHT
TZOFFSETFROM:-0500
TZOFFSETTO:-0400
TZNAME:EDT
DTSTART:20250309T070000
END:DAYLIGHT
BEGIN:STANDARD
TZOFFSETFROM:-0400
TZOFFSETTO:-0500
TZNAME:EST
DTSTART:20251102T060000
END:STANDARD
END:VTIMEZONE
BEGIN:VEVENT
DTSTART;TZID=America/New_York:20240323T180000
DTEND;TZID=America/New_York:20240323T210000
DTSTAMP:20260424T133214
CREATED:20240311T193200Z
LAST-MODIFIED:20240404T151044Z
UID:35205-1711216800-1711227600@bridgeoflife.org
SUMMARY:Youth Group
DESCRIPTION:
URL:https://bridgeoflife.org/calendar/youth-group/
LOCATION:MD
CATEGORIES:Youth Events
END:VEVENT
BEGIN:VEVENT
DTSTART;TZID=America/New_York:20240323T073000
DTEND;TZID=America/New_York:20240323T093000
DTSTAMP:20260424T133214
CREATED:20240314T155222Z
LAST-MODIFIED:20240404T151144Z
UID:35290-1711179000-1711186200@bridgeoflife.org
SUMMARY:Men's Breakfast
DESCRIPTION:
URL:https://bridgeoflife.org/calendar/mens-breakfast/
LOCATION:Bridge of Life Kitchen\, 6 South Potomac Street\, Hagerstown\, United States
CATEGORIES:Men’s Events
END:VEVENT
BEGIN:VEVENT
DTSTART;TZID=America/New_York:20240322T180000
DTEND;TZID=America/New_York:20240322T200000
DTSTAMP:20260424T133214
CREATED:20240311T194004Z
LAST-MODIFIED:20240404T151207Z
UID:35215-1711130400-1711137600@bridgeoflife.org
SUMMARY:The Forge: Anvil Group
DESCRIPTION:Notice: JavaScript is required for this content.\nNo Fields Found.
URL:https://bridgeoflife.org/calendar/the-forge-anvil-group/
LOCATION:MD
CATEGORIES:The Forge
END:VEVENT
BEGIN:VEVENT
DTSTART;TZID=America/New_York:20240316T090000
DTEND;TZID=America/New_York:20240316T160000
DTSTAMP:20260424T133214
CREATED:20240311T193508Z
LAST-MODIFIED:20240311T193508Z
UID:35209-1710579600-1710604800@bridgeoflife.org
SUMMARY:Hope & Courage Women's Conference
DESCRIPTION:
URL:https://bridgeoflife.org/calendar/hope-courage-womens-conference/
LOCATION:MD
END:VEVENT
BEGIN:VEVENT
DTSTART;TZID=America/New_York:20240312T180000
DTEND;TZID=America/New_York:20240312T200000
DTSTAMP:20260424T133214
CREATED:20240311T193750Z
LAST-MODIFIED:20240313T135814Z
UID:35213-1710266400-1710273600@bridgeoflife.org
SUMMARY:The Forge: Hammer Group
DESCRIPTION:Sign-up at Forge: Hammer Group – Bridge of Life
URL:https://bridgeoflife.org/calendar/the-forge-hammer-group/
LOCATION:MD
END:VEVENT
BEGIN:VEVENT
DTSTART;TZID=America/New_York:20240302T170000
DTEND;TZID=America/New_York:20240302T170000
DTSTAMP:20260424T133214
CREATED:20240229T194109Z
LAST-MODIFIED:20240311T194939Z
UID:35041-1709398800-1709398800@bridgeoflife.org
SUMMARY:Chili Cookoff & Cornhole Tournament
DESCRIPTION:Notice: JavaScript is required for this content.\nNo Fields Found.
URL:https://bridgeoflife.org/calendar/03022024/
LOCATION:Bridge of Life King’s Room\, 6 South Potomac Street\, Hagerstown\, MD\, 21740\, United States
END:VEVENT
END:VCALENDAR