BEGIN:VCALENDAR
VERSION:2.0
PRODID:-//Bridge of Life - ECPv6.15.14//NONSGML v1.0//EN
CALSCALE:GREGORIAN
METHOD:PUBLISH
X-WR-CALNAME:Bridge of Life
X-ORIGINAL-URL:https://bridgeoflife.org
X-WR-CALDESC:Events for Bridge of Life
REFRESH-INTERVAL;VALUE=DURATION:PT1H
X-Robots-Tag:noindex
X-PUBLISHED-TTL:PT1H
BEGIN:VTIMEZONE
TZID:America/New_York
BEGIN:DAYLIGHT
TZOFFSETFROM:-0500
TZOFFSETTO:-0400
TZNAME:EDT
DTSTART:20230312T070000
END:DAYLIGHT
BEGIN:STANDARD
TZOFFSETFROM:-0400
TZOFFSETTO:-0500
TZNAME:EST
DTSTART:20231105T060000
END:STANDARD
BEGIN:DAYLIGHT
TZOFFSETFROM:-0500
TZOFFSETTO:-0400
TZNAME:EDT
DTSTART:20240310T070000
END:DAYLIGHT
BEGIN:STANDARD
TZOFFSETFROM:-0400
TZOFFSETTO:-0500
TZNAME:EST
DTSTART:20241103T060000
END:STANDARD
BEGIN:DAYLIGHT
TZOFFSETFROM:-0500
TZOFFSETTO:-0400
TZNAME:EDT
DTSTART:20250309T070000
END:DAYLIGHT
BEGIN:STANDARD
TZOFFSETFROM:-0400
TZOFFSETTO:-0500
TZNAME:EST
DTSTART:20251102T060000
END:STANDARD
END:VTIMEZONE
BEGIN:VEVENT
DTSTART;TZID=America/New_York:20240428T120000
DTEND;TZID=America/New_York:20240428T130000
DTSTAMP:20260424T120044
CREATED:20240425T153913Z
LAST-MODIFIED:20240425T153913Z
UID:35642-1714305600-1714309200@bridgeoflife.org
SUMMARY:Teacher's Meeting
DESCRIPTION:Sunday school teachers are asked to stay after service for a short meeting on Sunday.
URL:https://bridgeoflife.org/calendar/teachers-meeting/
LOCATION:MD
END:VEVENT
BEGIN:VEVENT
DTSTART;TZID=America/New_York:20240426T180000
DTEND;TZID=America/New_York:20240427T200000
DTSTAMP:20260424T120044
CREATED:20240311T193353Z
LAST-MODIFIED:20240508T121549Z
UID:35207-1714154400-1714248000@bridgeoflife.org
SUMMARY:Rooted in Grace: Women’s Weekend
DESCRIPTION:The women of Bridge of Life are invited to join in this beautiful weekend. Courtney Cherest from One19 Ministries will be our guest speaker for the event. \nDoors open at 5:30 on Friday and 10:30 on Saturday. Dinner will be provided on Saturday\, and for lunch\, we will be supporting local businesses. \nRecap Video 2024
URL:https://bridgeoflife.org/calendar/womens-weekend/
LOCATION:Bridge of Life King’s Room\, 6 South Potomac Street\, Hagerstown\, MD\, 21740\, United States
CATEGORIES:Women’s Events
ATTACH;FMTTYPE=image/jpeg:https://bridgeoflife.org/wp-content/uploads/21_women-1.jpg
END:VEVENT
BEGIN:VEVENT
DTSTART;TZID=America/New_York:20240423T180000
DTEND;TZID=America/New_York:20240423T200000
DTSTAMP:20260424T120044
CREATED:20240311T194656Z
LAST-MODIFIED:20240404T150618Z
UID:35227-1713895200-1713902400@bridgeoflife.org
SUMMARY:The Forge: Hammer Group
DESCRIPTION:Location: Smithsburg\nBlacksmiths: Dan & Julie Young\nPotluck Supper: Main dish provided. Please bring a side dish. \nGo deep into the Word with men and women in challenging discussions and heart connections. \nSign-up\n\n	Notice: JavaScript is required for this content.\nNo Fields Found.\n\n    \n\n\n        \n        \n        \n 
URL:https://bridgeoflife.org/calendar/the-forge-hammer-group-4/
LOCATION:MD
CATEGORIES:The Forge
ATTACH;FMTTYPE=image/jpeg:https://bridgeoflife.org/wp-content/uploads/hammer.jpg
END:VEVENT
BEGIN:VEVENT
DTSTART;TZID=America/New_York:20240421T120000
DTEND;TZID=America/New_York:20240421T133000
DTSTAMP:20260424T120044
CREATED:20240311T194808Z
LAST-MODIFIED:20240404T150642Z
UID:35229-1713700800-1713706200@bridgeoflife.org
SUMMARY:Spaghetti Lunch Youth Fundraiser
DESCRIPTION:Help support our Youth Group with a delicious Spaghetti Lunch in the Annex directly after service. Our youth members will serve you with spaghetti\, meatballs\, salad\, and more!\nAdmission is by donation\, everything you give goes 100% to support our youth group for their missions trip to Kentucky this summer!
URL:https://bridgeoflife.org/calendar/spaghetti-lunch-youth-fundraiser/
LOCATION:Bridge of Life King’s Room\, 6 South Potomac Street\, Hagerstown\, MD\, 21740\, United States
CATEGORIES:Churchwide Events,Youth Events
END:VEVENT
BEGIN:VEVENT
DTSTART;TZID=America/New_York:20240420T180000
DTEND;TZID=America/New_York:20240420T200000
DTSTAMP:20260424T120044
CREATED:20240327T120712Z
LAST-MODIFIED:20240419T102936Z
UID:35353-1713636000-1713643200@bridgeoflife.org
SUMMARY:The Chosen Season 4 - Episodes 3 & 4 sponsored by One Accord Youth
DESCRIPTION:We are excited to announce that Bridge of Life will be showing The Chosen Season 4 for free this spring!\nApril 20th will be a Youth Fundraiser Night\, our One Accord Youth Group will be providing flavored popcorn\, pretzels\, and more to collect money for their missions trip to Kentucky this summer! \nCome and support us! \nUpdate:\nThe showings on May 4 and 18 have been temporarily postponed. Unfortunately\, due to the legal issues between the companies that bring us The Chosen\, episodes 5-8 have not been released to us yet. We will send out updates whenever we have more information.
URL:https://bridgeoflife.org/calendar/the-chosen-season-4-episodes-3-4/
LOCATION:MD
CATEGORIES:Churchwide Events,Outreach Events,Youth Events
END:VEVENT
BEGIN:VEVENT
DTSTART;TZID=America/New_York:20240420T093000
DTEND;TZID=America/New_York:20240420T123000
DTSTAMP:20260424T120044
CREATED:20240411T172236Z
LAST-MODIFIED:20240411T172250Z
UID:35512-1713605400-1713616200@bridgeoflife.org
SUMMARY:Day of Work
DESCRIPTION:Come and help out around the church! \nLunch is provided for all volunteers!
URL:https://bridgeoflife.org/calendar/day-of-work/
LOCATION:MD
CATEGORIES:Churchwide Events
END:VEVENT
BEGIN:VEVENT
DTSTART;TZID=America/New_York:20240420T073000
DTEND;TZID=America/New_York:20240420T093000
DTSTAMP:20260424T120044
CREATED:20240311T192946Z
LAST-MODIFIED:20240404T150802Z
UID:35201-1713598200-1713605400@bridgeoflife.org
SUMMARY:Men's Breakfast
DESCRIPTION:Bridge of Life men are invited to attend our monthly men’s breakfast with food and fellowship! We are currently going through the book “The Men We Need” by Brant Hansen. \nNo sign-up is needed for this event!
URL:https://bridgeoflife.org/calendar/mensbreakfast/
LOCATION:Bridge of Life Kitchen\, 6 South Potomac Street\, Hagerstown\, United States
CATEGORIES:Men’s Events
ATTACH;FMTTYPE=image/jpeg:https://bridgeoflife.org/wp-content/uploads/12_Mens-Book-Study.jpg
END:VEVENT
BEGIN:VEVENT
DTSTART;TZID=America/New_York:20240412T180000
DTEND;TZID=America/New_York:20240412T200000
DTSTAMP:20260424T120044
CREATED:20240311T194317Z
LAST-MODIFIED:20240404T150828Z
UID:35217-1712944800-1712952000@bridgeoflife.org
SUMMARY:The Forge: Anvil Group
DESCRIPTION:Location: Hagerstown\nBlacksmiths: Doug & Theresa Stone\nPotluck Supper: Main dish provided. Please bring a side dish. \nGo deep into the Word with men and women in challenging discussions and heart connections. \nSign-up\n\n	Notice: JavaScript is required for this content.\nNo Fields Found.\n\n    \n\n\n        \n        \n        \n 
URL:https://bridgeoflife.org/calendar/the-forge-anvil-group-2/
LOCATION:MD
CATEGORIES:The Forge
ATTACH;FMTTYPE=image/jpeg:https://bridgeoflife.org/wp-content/uploads/anvil.jpg
END:VEVENT
BEGIN:VEVENT
DTSTART;TZID=America/New_York:20240409T180000
DTEND;TZID=America/New_York:20240409T200000
DTSTAMP:20260424T120044
CREATED:20240311T194606Z
LAST-MODIFIED:20240404T150851Z
UID:35225-1712685600-1712692800@bridgeoflife.org
SUMMARY:The Forge: Hammer Group
DESCRIPTION:Location: Smithsburg\nBlacksmiths: Dan & Julie Young\nPotluck Supper: Main dish provided. Please bring a side dish. \nGo deep into the Word with men and women in challenging discussions and heart connections. \nSign-up\n\n	Notice: JavaScript is required for this content.\nNo Fields Found.\n\n    \n\n\n        \n        \n        \n 
URL:https://bridgeoflife.org/calendar/the-forge-hammer-group-3/
LOCATION:MD
CATEGORIES:The Forge
ATTACH;FMTTYPE=image/jpeg:https://bridgeoflife.org/wp-content/uploads/hammer.jpg
END:VEVENT
BEGIN:VEVENT
DTSTART;TZID=America/New_York:20240406T180000
DTEND;TZID=America/New_York:20240406T200000
DTSTAMP:20260424T120044
CREATED:20240326T220957Z
LAST-MODIFIED:20240404T150911Z
UID:35351-1712426400-1712433600@bridgeoflife.org
SUMMARY:The Chosen Season 4 - Episodes 1 & 2
DESCRIPTION:We are excited to announce that Bridge of Life will be showing The Chosen Season 4 for free this spring! Free movie\, popcorn\, and water! Bring your friends!
URL:https://bridgeoflife.org/calendar/the-chosen-season-4-episodes-1-2/
LOCATION:MD
CATEGORIES:Churchwide Events,Outreach Events
END:VEVENT
BEGIN:VEVENT
DTSTART;TZID=America/New_York:20240326T180000
DTEND;TZID=America/New_York:20240326T200000
DTSTAMP:20260424T120044
CREATED:20240311T194530Z
LAST-MODIFIED:20240404T151019Z
UID:35223-1711476000-1711483200@bridgeoflife.org
SUMMARY:The Forge: Hammer Group
DESCRIPTION:Sign-up at Forge: Hammer Group – Bridge of Life
URL:https://bridgeoflife.org/calendar/the-forge-hammer-group-2/
LOCATION:MD
CATEGORIES:The Forge
ATTACH;FMTTYPE=image/jpeg:https://bridgeoflife.org/wp-content/uploads/hammer.jpg
END:VEVENT
BEGIN:VEVENT
DTSTART;TZID=America/New_York:20240323T180000
DTEND;TZID=America/New_York:20240323T210000
DTSTAMP:20260424T120044
CREATED:20240311T193200Z
LAST-MODIFIED:20240404T151044Z
UID:35205-1711216800-1711227600@bridgeoflife.org
SUMMARY:Youth Group
DESCRIPTION:
URL:https://bridgeoflife.org/calendar/youth-group/
LOCATION:MD
CATEGORIES:Youth Events
END:VEVENT
BEGIN:VEVENT
DTSTART;TZID=America/New_York:20240323T073000
DTEND;TZID=America/New_York:20240323T093000
DTSTAMP:20260424T120044
CREATED:20240314T155222Z
LAST-MODIFIED:20240404T151144Z
UID:35290-1711179000-1711186200@bridgeoflife.org
SUMMARY:Men's Breakfast
DESCRIPTION:
URL:https://bridgeoflife.org/calendar/mens-breakfast/
LOCATION:Bridge of Life Kitchen\, 6 South Potomac Street\, Hagerstown\, United States
CATEGORIES:Men’s Events
END:VEVENT
BEGIN:VEVENT
DTSTART;TZID=America/New_York:20240322T180000
DTEND;TZID=America/New_York:20240322T200000
DTSTAMP:20260424T120044
CREATED:20240311T194004Z
LAST-MODIFIED:20240404T151207Z
UID:35215-1711130400-1711137600@bridgeoflife.org
SUMMARY:The Forge: Anvil Group
DESCRIPTION:Notice: JavaScript is required for this content.\nNo Fields Found.
URL:https://bridgeoflife.org/calendar/the-forge-anvil-group/
LOCATION:MD
CATEGORIES:The Forge
END:VEVENT
BEGIN:VEVENT
DTSTART;TZID=America/New_York:20240316T090000
DTEND;TZID=America/New_York:20240316T160000
DTSTAMP:20260424T120044
CREATED:20240311T193508Z
LAST-MODIFIED:20240311T193508Z
UID:35209-1710579600-1710604800@bridgeoflife.org
SUMMARY:Hope & Courage Women's Conference
DESCRIPTION:
URL:https://bridgeoflife.org/calendar/hope-courage-womens-conference/
LOCATION:MD
END:VEVENT
BEGIN:VEVENT
DTSTART;TZID=America/New_York:20240312T180000
DTEND;TZID=America/New_York:20240312T200000
DTSTAMP:20260424T120044
CREATED:20240311T193750Z
LAST-MODIFIED:20240313T135814Z
UID:35213-1710266400-1710273600@bridgeoflife.org
SUMMARY:The Forge: Hammer Group
DESCRIPTION:Sign-up at Forge: Hammer Group – Bridge of Life
URL:https://bridgeoflife.org/calendar/the-forge-hammer-group/
LOCATION:MD
END:VEVENT
BEGIN:VEVENT
DTSTART;TZID=America/New_York:20240302T170000
DTEND;TZID=America/New_York:20240302T170000
DTSTAMP:20260424T120044
CREATED:20240229T194109Z
LAST-MODIFIED:20240311T194939Z
UID:35041-1709398800-1709398800@bridgeoflife.org
SUMMARY:Chili Cookoff & Cornhole Tournament
DESCRIPTION:Notice: JavaScript is required for this content.\nNo Fields Found.
URL:https://bridgeoflife.org/calendar/03022024/
LOCATION:Bridge of Life King’s Room\, 6 South Potomac Street\, Hagerstown\, MD\, 21740\, United States
END:VEVENT
END:VCALENDAR