BEGIN:VCALENDAR
VERSION:2.0
PRODID:-//Bridge of Life - ECPv6.15.14//NONSGML v1.0//EN
CALSCALE:GREGORIAN
METHOD:PUBLISH
X-WR-CALNAME:Bridge of Life
X-ORIGINAL-URL:https://bridgeoflife.org
X-WR-CALDESC:Events for Bridge of Life
REFRESH-INTERVAL;VALUE=DURATION:PT1H
X-Robots-Tag:noindex
X-PUBLISHED-TTL:PT1H
BEGIN:VTIMEZONE
TZID:America/New_York
BEGIN:DAYLIGHT
TZOFFSETFROM:-0500
TZOFFSETTO:-0400
TZNAME:EDT
DTSTART:20240310T070000
END:DAYLIGHT
BEGIN:STANDARD
TZOFFSETFROM:-0400
TZOFFSETTO:-0500
TZNAME:EST
DTSTART:20241103T060000
END:STANDARD
BEGIN:DAYLIGHT
TZOFFSETFROM:-0500
TZOFFSETTO:-0400
TZNAME:EDT
DTSTART:20250309T070000
END:DAYLIGHT
BEGIN:STANDARD
TZOFFSETFROM:-0400
TZOFFSETTO:-0500
TZNAME:EST
DTSTART:20251102T060000
END:STANDARD
BEGIN:DAYLIGHT
TZOFFSETFROM:-0500
TZOFFSETTO:-0400
TZNAME:EDT
DTSTART:20260308T070000
END:DAYLIGHT
BEGIN:STANDARD
TZOFFSETFROM:-0400
TZOFFSETTO:-0500
TZNAME:EST
DTSTART:20261101T060000
END:STANDARD
END:VTIMEZONE
BEGIN:VEVENT
DTSTART;TZID=America/New_York:20250709T183000
DTEND;TZID=America/New_York:20250709T200000
DTSTAMP:20260423T205908
CREATED:20250427T191604Z
LAST-MODIFIED:20250427T191604Z
UID:37440-1752085800-1752091200@bridgeoflife.org
SUMMARY:Softball Game
DESCRIPTION:
URL:https://bridgeoflife.org/calendar/softball-game-7/
LOCATION:Fairgrounds Park\, 351 N Cleveland Ave\, Hagerstown\, MD\, 21740\, United States
ATTACH;FMTTYPE=image/jpeg:https://bridgeoflife.org/wp-content/uploads/IMG_1310.jpeg
END:VEVENT
BEGIN:VEVENT
DTSTART;TZID=America/New_York:20250703T090000
DTEND;TZID=America/New_York:20250703T120000
DTSTAMP:20260423T205908
CREATED:20250126T133859Z
LAST-MODIFIED:20250301T150237Z
UID:37012-1751533200-1751544000@bridgeoflife.org
SUMMARY:Prayer & Presence at Hagerstown Area Pregnancy Clinic
DESCRIPTION:Bridge of Life’s monthly outreach event will be having a group of people present at the pregnancy clinic in Hagerstown. Our goal is to intercede and pray for the women going into the abortion clinic\, and offer the HAPC service of free sonograms. Justin shared his heart for this at the Member’s Meeting 2025\, saying it is an emotionally hostile environment for these women making life-changing decisions.\nPlease join us on the first Thursday of every month at BOL\, where we will meet and pray before walking over to the pregnancy clinic.
URL:https://bridgeoflife.org/calendar/prayer-presence-at-hagerstown-area-pregnancy-clinic-10/
LOCATION:Hagerstown Area Pregnancy Clinic\, 152 W Washington St.\, Hagerstown\, 21740\, United States
CATEGORIES:Churchwide Events,Outreach Events
ATTACH;FMTTYPE=image/jpeg:https://bridgeoflife.org/wp-content/uploads/IMG_1177.jpeg
END:VEVENT
BEGIN:VEVENT
DTSTART;TZID=America/New_York:20250702T183000
DTEND;TZID=America/New_York:20250702T210000
DTSTAMP:20260423T205908
CREATED:20250427T191444Z
LAST-MODIFIED:20250427T191444Z
UID:37438-1751481000-1751490000@bridgeoflife.org
SUMMARY:Softball Game (Double Header)
DESCRIPTION:
URL:https://bridgeoflife.org/calendar/softball-game-double-header-3/
LOCATION:Fairgrounds Park\, 351 N Cleveland Ave\, Hagerstown\, MD\, 21740\, United States
ATTACH;FMTTYPE=image/jpeg:https://bridgeoflife.org/wp-content/uploads/IMG_1310.jpeg
END:VEVENT
BEGIN:VEVENT
DTSTART;TZID=America/New_York:20250626T183000
DTEND;TZID=America/New_York:20250626T200000
DTSTAMP:20260423T205908
CREATED:20250427T191352Z
LAST-MODIFIED:20250427T191352Z
UID:37436-1750962600-1750968000@bridgeoflife.org
SUMMARY:Softball Game
DESCRIPTION:
URL:https://bridgeoflife.org/calendar/softball-game-6/
LOCATION:Fairgrounds Park\, 351 N Cleveland Ave\, Hagerstown\, MD\, 21740\, United States
ATTACH;FMTTYPE=image/jpeg:https://bridgeoflife.org/wp-content/uploads/IMG_1310.jpeg
END:VEVENT
BEGIN:VEVENT
DTSTART;TZID=America/New_York:20250622T110000
DTEND;TZID=America/New_York:20250622T120000
DTSTAMP:20260423T205908
CREATED:20250516T142936Z
LAST-MODIFIED:20250516T142936Z
UID:37487-1750590000-1750593600@bridgeoflife.org
SUMMARY:Speaker: Rich Vieira
DESCRIPTION:
URL:https://bridgeoflife.org/calendar/speaker-rich-vieira/
LOCATION:Bridge of Life Sanctuary\, 14 South Potomac Street\, Hagerstown\, MD\, 21740\, United States
CATEGORIES:Churchwide Events
ATTACH;FMTTYPE=image/jpeg:https://bridgeoflife.org/wp-content/uploads/IMG_0228.jpeg
END:VEVENT
BEGIN:VEVENT
DTSTART;TZID=America/New_York:20250619T140000
DTEND;TZID=America/New_York:20250619T170000
DTSTAMP:20260423T205908
CREATED:20241210T194052Z
LAST-MODIFIED:20241210T194052Z
UID:36617-1750341600-1750352400@bridgeoflife.org
SUMMARY:Food Bank Distribution
DESCRIPTION:The Bridge of Life Food Bank is touching hundreds of lives; tons of food are distributed each year. A number of our members assist in transporting tons of food to our foodbank\, packaging bags\, and distributing food on the third Thursday of the month. Please pray for this ministry\, for the anointing of the Holy Spirit as our members personally reach out to each individual who comes for food. For more information or to help\, contact Mike Koenig. \n 
URL:https://bridgeoflife.org/calendar/food-bank-distribution-12/
LOCATION:Bridge of Life Food Bank\, 14 Renaissance Way\, Hagerstown\, MD\, 21740
CATEGORIES:Outreach Events
ATTACH;FMTTYPE=image/jpeg:https://bridgeoflife.org/wp-content/uploads/pics-3.jpg
END:VEVENT
BEGIN:VEVENT
DTSTART;TZID=America/New_York:20250615T120000
DTEND;TZID=America/New_York:20250615T123000
DTSTAMP:20260423T205908
CREATED:20250529T153816Z
LAST-MODIFIED:20250529T153816Z
UID:37517-1749988800-1749990600@bridgeoflife.org
SUMMARY:Teacher's Meeting
DESCRIPTION:
URL:https://bridgeoflife.org/calendar/teachers-meeting-4/
LOCATION:Bridge of Life Sanctuary\, 14 South Potomac Street\, Hagerstown\, MD\, 21740\, United States
ATTACH;FMTTYPE=image/jpeg:https://bridgeoflife.org/wp-content/uploads/teachers-meeting.jpg
END:VEVENT
BEGIN:VEVENT
DTSTART;TZID=America/New_York:20250615T090000
DTEND;TZID=America/New_York:20250615T100000
DTSTAMP:20260423T205908
CREATED:20250606T132143Z
LAST-MODIFIED:20250606T132143Z
UID:37529-1749978000-1749981600@bridgeoflife.org
SUMMARY:Father's Day Potluck Breakfast
DESCRIPTION:
URL:https://bridgeoflife.org/calendar/fathers-day-potluck-breakfast/
LOCATION:Bridge of Life Church\, 14 South Potomac Street\, Hagerstown\, 21740\, United States
CATEGORIES:Churchwide Events
ATTACH;FMTTYPE=image/jpeg:https://bridgeoflife.org/wp-content/uploads/fathers-day-breakfast.jpg
END:VEVENT
BEGIN:VEVENT
DTSTART;TZID=America/New_York:20250614T080000
DTEND;TZID=America/New_York:20250621T170000
DTSTAMP:20260423T205908
CREATED:20241210T194811Z
LAST-MODIFIED:20241210T195625Z
UID:36629-1749888000-1750525200@bridgeoflife.org
SUMMARY:Youth Missions Trip
DESCRIPTION:Our youth are going to serve the Appalachian people in Kentucky! We will be leaving on June 14th at 8 in the morning.
URL:https://bridgeoflife.org/calendar/youth-missions-trip-2/
LOCATION:MD
CATEGORIES:Youth Events
ATTACH;FMTTYPE=image/jpeg:https://bridgeoflife.org/wp-content/uploads/Slides.jpg
END:VEVENT
BEGIN:VEVENT
DTSTART;TZID=America/New_York:20250612T183000
DTEND;TZID=America/New_York:20250612T200000
DTSTAMP:20260423T205908
CREATED:20250409T122516Z
LAST-MODIFIED:20250410T192450Z
UID:37386-1749753000-1749758400@bridgeoflife.org
SUMMARY:Hagerstown Flying Boxcars Baseball Game
DESCRIPTION:On Thursday\, June 12\, Bridge of Life will be having a baseball event to watch the Hagerstown Flying Boxcars! Tickets are $15 a person with all-you-can-eat food. \n\n	Notice: JavaScript is required for this content.\nNo Fields Found.
URL:https://bridgeoflife.org/calendar/hagerstown-flying-boxcars-baseball-game-2/
LOCATION:MD
CATEGORIES:Churchwide Events
ATTACH;FMTTYPE=image/jpeg:https://bridgeoflife.org/wp-content/uploads/IMG_1322.jpeg
END:VEVENT
BEGIN:VEVENT
DTSTART;TZID=America/New_York:20250611T183000
DTEND;TZID=America/New_York:20250611T213000
DTSTAMP:20260423T205908
CREATED:20250427T191249Z
LAST-MODIFIED:20250427T191249Z
UID:37434-1749666600-1749677400@bridgeoflife.org
SUMMARY:Softball Game (Double Header)
DESCRIPTION:
URL:https://bridgeoflife.org/calendar/softball-game-double-header-2/
LOCATION:Fairgrounds Park\, 351 N Cleveland Ave\, Hagerstown\, MD\, 21740\, United States
ATTACH;FMTTYPE=image/jpeg:https://bridgeoflife.org/wp-content/uploads/IMG_1310.jpeg
END:VEVENT
BEGIN:VEVENT
DTSTART;TZID=America/New_York:20250607T180000
DTEND;TZID=America/New_York:20250607T220000
DTSTAMP:20260423T205908
CREATED:20250512T184858Z
LAST-MODIFIED:20250512T184858Z
UID:37478-1749319200-1749333600@bridgeoflife.org
SUMMARY:Youth Pool Party
DESCRIPTION:
URL:https://bridgeoflife.org/calendar/youth-pool-party/
LOCATION:MD
ATTACH;FMTTYPE=image/jpeg:https://bridgeoflife.org/wp-content/uploads/Events-Announcements-5.jpg
END:VEVENT
BEGIN:VEVENT
DTSTART;TZID=America/New_York:20250605T183000
DTEND;TZID=America/New_York:20250605T200000
DTSTAMP:20260423T205908
CREATED:20250427T191206Z
LAST-MODIFIED:20250427T191206Z
UID:37432-1749148200-1749153600@bridgeoflife.org
SUMMARY:Softball Game
DESCRIPTION:
URL:https://bridgeoflife.org/calendar/softball-game-5/
LOCATION:Fairgrounds Park\, 351 N Cleveland Ave\, Hagerstown\, MD\, 21740\, United States
ATTACH;FMTTYPE=image/jpeg:https://bridgeoflife.org/wp-content/uploads/IMG_1310.jpeg
END:VEVENT
BEGIN:VEVENT
DTSTART;TZID=America/New_York:20250605T090000
DTEND;TZID=America/New_York:20250605T120000
DTSTAMP:20260423T205908
CREATED:20250126T133117Z
LAST-MODIFIED:20250301T150336Z
UID:37001-1749114000-1749124800@bridgeoflife.org
SUMMARY:Prayer & Presence at Hagerstown Area Pregnancy Clinic
DESCRIPTION:Bridge of Life’s monthly outreach event will be having a group of people present at the pregnancy clinic in Hagerstown. Our goal is to intercede and pray for the women going into the abortion clinic\, and offer the HAPC service of free sonograms. Justin shared his heart for this at the Member’s Meeting 2025\, saying it is an emotionally hostile environment for these women making life-changing decisions.\nPlease join us on the first Thursday of every month at BOL\, where we will meet and pray before walking over to the pregnancy clinic.
URL:https://bridgeoflife.org/calendar/prayer-presence-at-hagerstown-area-pregnancy-clinic-5/
LOCATION:Hagerstown Area Pregnancy Clinic\, 152 W Washington St.\, Hagerstown\, 21740\, United States
CATEGORIES:Churchwide Events,Outreach Events
ATTACH;FMTTYPE=image/jpeg:https://bridgeoflife.org/wp-content/uploads/IMG_1177.jpeg
END:VEVENT
BEGIN:VEVENT
DTSTART;VALUE=DATE:20250530
DTEND;VALUE=DATE:20250601
DTSTAMP:20260423T205908
CREATED:20241223T175631Z
LAST-MODIFIED:20250401T211242Z
UID:36783-1748563200-1748735999@bridgeoflife.org
SUMMARY:Sight & Sound + Thrifting Trip
DESCRIPTION:
URL:https://bridgeoflife.org/calendar/womens-thrifting-trip/
LOCATION:MD
CATEGORIES:Women’s Events
ATTACH;FMTTYPE=image/jpeg:https://bridgeoflife.org/wp-content/uploads/IMG_1168.jpeg
END:VEVENT
BEGIN:VEVENT
DTSTART;TZID=America/New_York:20250529T200000
DTEND;TZID=America/New_York:20250529T213000
DTSTAMP:20260423T205908
CREATED:20250427T191052Z
LAST-MODIFIED:20250427T191052Z
UID:37430-1748548800-1748554200@bridgeoflife.org
SUMMARY:Softball Game
DESCRIPTION:
URL:https://bridgeoflife.org/calendar/softball-game-4/
LOCATION:Fairgrounds Park\, 351 N Cleveland Ave\, Hagerstown\, MD\, 21740\, United States
ATTACH;FMTTYPE=image/jpeg:https://bridgeoflife.org/wp-content/uploads/IMG_1310.jpeg
END:VEVENT
BEGIN:VEVENT
DTSTART;TZID=America/New_York:20250527T180000
DTEND;TZID=America/New_York:20250527T200000
DTSTAMP:20260423T205908
CREATED:20241223T182600Z
LAST-MODIFIED:20241223T182600Z
UID:36826-1748368800-1748376000@bridgeoflife.org
SUMMARY:The Forge: Hammer
DESCRIPTION:Location: Smithsburg\nBlacksmiths: Dan & Julie Young\nPotluck Supper: Main dish provided. Please bring a side dish. \nGo deep into the Word with men and women in challenging discussions and heart connections. \nSign-up\n\n	Notice: JavaScript is required for this content.\nNo Fields Found.\n\n    \n\n\n        \n        \n        \n 
URL:https://bridgeoflife.org/calendar/the-forge-hammer-11/
LOCATION:MD
CATEGORIES:The Forge
ATTACH;FMTTYPE=image/jpeg:https://bridgeoflife.org/wp-content/uploads/hammer.jpg
END:VEVENT
BEGIN:VEVENT
DTSTART;TZID=America/New_York:20250525T123000
DTEND;TZID=America/New_York:20250525T140000
DTSTAMP:20260423T205908
CREATED:20250204T224912Z
LAST-MODIFIED:20250204T224912Z
UID:37073-1748176200-1748181600@bridgeoflife.org
SUMMARY:VBS Planning Meeting
DESCRIPTION:Notice: JavaScript is required for this content.\nNo Fields Found.
URL:https://bridgeoflife.org/calendar/vbs-planning-meeting-7/
LOCATION:Bridge of Life King’s Room\, 6 South Potomac Street\, Hagerstown\, MD\, 21740\, United States
ATTACH;FMTTYPE=image/jpeg:https://bridgeoflife.org/wp-content/uploads/IMG_1206.jpeg
END:VEVENT
BEGIN:VEVENT
DTSTART;TZID=America/New_York:20250525T110000
DTEND;TZID=America/New_York:20250525T120000
DTSTAMP:20260423T205908
CREATED:20241223T180933Z
LAST-MODIFIED:20241223T180933Z
UID:36799-1748170800-1748174400@bridgeoflife.org
SUMMARY:Speaker: Associate Pastor Ray Phillips
DESCRIPTION:
URL:https://bridgeoflife.org/calendar/speaker-associate-pastor-ray-phillips-2/
LOCATION:MD
CATEGORIES:Churchwide Events
ATTACH;FMTTYPE=image/jpeg:https://bridgeoflife.org/wp-content/uploads/IMG_0228.jpeg
END:VEVENT
BEGIN:VEVENT
DTSTART;TZID=America/New_York:20250522T183000
DTEND;TZID=America/New_York:20250522T213000
DTSTAMP:20260423T205908
CREATED:20250427T190957Z
LAST-MODIFIED:20250427T190957Z
UID:37428-1747938600-1747949400@bridgeoflife.org
SUMMARY:Softball Game (Double Header)
DESCRIPTION:
URL:https://bridgeoflife.org/calendar/softball-game-double-header/
LOCATION:Fairgrounds Park\, 351 N Cleveland Ave\, Hagerstown\, MD\, 21740\, United States
ATTACH;FMTTYPE=image/jpeg:https://bridgeoflife.org/wp-content/uploads/IMG_1310.jpeg
END:VEVENT
BEGIN:VEVENT
DTSTART;TZID=America/New_York:20250518T090000
DTEND;TZID=America/New_York:20250518T100000
DTSTAMP:20260423T205908
CREATED:20250509T150058Z
LAST-MODIFIED:20250509T150252Z
UID:37462-1747558800-1747562400@bridgeoflife.org
SUMMARY:Church Center Tutorial
DESCRIPTION:We are implementing a new program called Church Center! It is where we will house signups and directory information. On Sunday\, May 18th at 9am\, we will be walking everyone through how the system works. \no Please proceed to the sanctuary when you arrive at 9:00am\no We will have coffee and donuts for everyone\no We will be going over the BOL app and walking through everyone getting it\ninstalled on their phones \n  \nIt is available as an app for smartphone or a website if you are using a computer. \nPlease see the tutorial below or talk to Kenzie Bere for help! \nSmartphone Tutorial
URL:https://bridgeoflife.org/calendar/church-center-tutorial/
LOCATION:Bridge of Life Sanctuary\, 14 South Potomac Street\, Hagerstown\, MD\, 21740\, United States
ATTACH;FMTTYPE=image/jpeg:https://bridgeoflife.org/wp-content/uploads/Events-Calendar-Event-Registrations-Church-Directory.jpg
END:VEVENT
BEGIN:VEVENT
DTSTART;TZID=America/New_York:20250517T073000
DTEND;TZID=America/New_York:20250517T093000
DTSTAMP:20260423T205908
CREATED:20250105T212205Z
LAST-MODIFIED:20250110T151418Z
UID:36922-1747467000-1747474200@bridgeoflife.org
SUMMARY:Men's Breakfast & Book Study
DESCRIPTION:Bridge of Life men are invited to attend our monthly men’s breakfast with food and fellowship! Meetings are at 7:30am in the BOL Kitchen every 3rd Saturday. We are currently going through the book “Stepping Up” by Dennis Rainey. \nNo sign-up is needed for this event!
URL:https://bridgeoflife.org/calendar/mens-breakfast-book-study-7/
LOCATION:Bridge of Life Kitchen\, 6 South Potomac Street\, Hagerstown\, United States
CATEGORIES:Men’s Events
ATTACH;FMTTYPE=image/jpeg:https://bridgeoflife.org/wp-content/uploads/IMG_1124.jpeg
END:VEVENT
BEGIN:VEVENT
DTSTART;TZID=America/New_York:20250516T180000
DTEND;TZID=America/New_York:20250516T200000
DTSTAMP:20260423T205908
CREATED:20250124T142349Z
LAST-MODIFIED:20250131T143332Z
UID:36980-1747418400-1747425600@bridgeoflife.org
SUMMARY:The Forge: Bellows
DESCRIPTION:Location: Hagerstown\nBlacksmiths: Ray & Lisa Phillips\nPotluck Supper: Main dish provided. Please bring a side dish. \nGo deep into the Word with men and women in challenging discussions and heart connections. \nSign-up\n\n	Notice: JavaScript is required for this content.\nNo Fields Found.\n\n    \n\n\n        \n        \n        \n 
URL:https://bridgeoflife.org/calendar/the-forge-bellow-5/
LOCATION:MD
CATEGORIES:The Forge
ATTACH;FMTTYPE=image/jpeg:https://bridgeoflife.org/wp-content/uploads/IMG_1172.jpeg
END:VEVENT
BEGIN:VEVENT
DTSTART;TZID=America/New_York:20250515T183000
DTEND;TZID=America/New_York:20250515T200000
DTSTAMP:20260423T205908
CREATED:20250427T190902Z
LAST-MODIFIED:20250427T190902Z
UID:37426-1747333800-1747339200@bridgeoflife.org
SUMMARY:Softball Game
DESCRIPTION:
URL:https://bridgeoflife.org/calendar/softball-game-3/
LOCATION:Fairgrounds Park\, 351 N Cleveland Ave\, Hagerstown\, MD\, 21740\, United States
ATTACH;FMTTYPE=image/jpeg:https://bridgeoflife.org/wp-content/uploads/IMG_1310.jpeg
END:VEVENT
BEGIN:VEVENT
DTSTART;TZID=America/New_York:20250515T140000
DTEND;TZID=America/New_York:20250515T170000
DTSTAMP:20260423T205908
CREATED:20241210T194011Z
LAST-MODIFIED:20241210T194011Z
UID:36615-1747317600-1747328400@bridgeoflife.org
SUMMARY:Food Bank Distribution
DESCRIPTION:The Bridge of Life Food Bank is touching hundreds of lives; tons of food are distributed each year. A number of our members assist in transporting tons of food to our foodbank\, packaging bags\, and distributing food on the third Thursday of the month. Please pray for this ministry\, for the anointing of the Holy Spirit as our members personally reach out to each individual who comes for food. For more information or to help\, contact Mike Koenig. \n 
URL:https://bridgeoflife.org/calendar/food-bank-distribution-11/
LOCATION:Bridge of Life Food Bank\, 14 Renaissance Way\, Hagerstown\, MD\, 21740
CATEGORIES:Outreach Events
ATTACH;FMTTYPE=image/jpeg:https://bridgeoflife.org/wp-content/uploads/pics-3.jpg
END:VEVENT
BEGIN:VEVENT
DTSTART;TZID=America/New_York:20250513T180000
DTEND;TZID=America/New_York:20250513T200000
DTSTAMP:20260423T205908
CREATED:20241223T182500Z
LAST-MODIFIED:20241223T182500Z
UID:36824-1747159200-1747166400@bridgeoflife.org
SUMMARY:The Forge: Hammer
DESCRIPTION:Location: Smithsburg\nBlacksmiths: Dan & Julie Young\nPotluck Supper: Main dish provided. Please bring a side dish. \nGo deep into the Word with men and women in challenging discussions and heart connections. \nSign-up\n\n	Notice: JavaScript is required for this content.\nNo Fields Found.\n\n    \n\n\n        \n        \n        \n 
URL:https://bridgeoflife.org/calendar/the-forge-hammer-10/
LOCATION:MD
CATEGORIES:The Forge
ATTACH;FMTTYPE=image/jpeg:https://bridgeoflife.org/wp-content/uploads/hammer.jpg
END:VEVENT
BEGIN:VEVENT
DTSTART;TZID=America/New_York:20250511T090000
DTEND;TZID=America/New_York:20250511T100000
DTSTAMP:20260423T205908
CREATED:20241223T175727Z
LAST-MODIFIED:20241223T175727Z
UID:36786-1746954000-1746957600@bridgeoflife.org
SUMMARY:Mother’s Day Breakfast
DESCRIPTION:
URL:https://bridgeoflife.org/calendar/mothers-day-breakfast/
LOCATION:Bridge of Life King’s Room\, 6 South Potomac Street\, Hagerstown\, MD\, 21740\, United States
CATEGORIES:Churchwide Events,Women’s Events
ATTACH;FMTTYPE=image/jpeg:https://bridgeoflife.org/wp-content/uploads/IMG_1067.jpeg
END:VEVENT
BEGIN:VEVENT
DTSTART;TZID=America/New_York:20250509T180000
DTEND;TZID=America/New_York:20250509T200000
DTSTAMP:20260423T205908
CREATED:20241223T182234Z
LAST-MODIFIED:20241223T182234Z
UID:36816-1746813600-1746820800@bridgeoflife.org
SUMMARY:The Forge: Anvil
DESCRIPTION:Location: Hagerstown\nBlacksmiths: Doug & Theresa Stone\nPotluck Supper: Main dish provided. Please bring a side dish.\n\nGo deep into the Word with men and women in challenging discussions and heart connections. \n\n	Notice: JavaScript is required for this content.\nNo Fields Found.
URL:https://bridgeoflife.org/calendar/the-forge-anvil-8/
LOCATION:MD
CATEGORIES:The Forge
ATTACH;FMTTYPE=image/jpeg:https://bridgeoflife.org/wp-content/uploads/anvil.jpg
END:VEVENT
BEGIN:VEVENT
DTSTART;TZID=America/New_York:20250506T183000
DTEND;TZID=America/New_York:20250506T200000
DTSTAMP:20260423T205908
CREATED:20250427T190722Z
LAST-MODIFIED:20250427T190722Z
UID:37423-1746556200-1746561600@bridgeoflife.org
SUMMARY:Softball Game
DESCRIPTION:
URL:https://bridgeoflife.org/calendar/softball-game-2/
LOCATION:Fairgrounds Park\, 351 N Cleveland Ave\, Hagerstown\, MD\, 21740\, United States
ATTACH;FMTTYPE=image/jpeg:https://bridgeoflife.org/wp-content/uploads/IMG_1310.jpeg
END:VEVENT
BEGIN:VEVENT
DTSTART;TZID=America/New_York:20250504T120000
DTEND;TZID=America/New_York:20250504T140000
DTSTAMP:20260423T205908
CREATED:20250220T121111Z
LAST-MODIFIED:20250226T131153Z
UID:37124-1746360000-1746367200@bridgeoflife.org
SUMMARY:Youth Spaghetti Lunch Fundraiser
DESCRIPTION:Help the youth fund their week-long missions trip to Kentucky! Stop by after service for hand-served spaghetti and meatballs! We will be accepting donations at the door.\nPlease talk to Kevin or Cerey Bere if you have any questions.
URL:https://bridgeoflife.org/calendar/youth-spaghetti-linch-fundraiser/
LOCATION:Bridge of Life King’s Room\, 6 South Potomac Street\, Hagerstown\, MD\, 21740\, United States
CATEGORIES:Churchwide Events,Youth Events
ATTACH;FMTTYPE=image/jpeg:https://bridgeoflife.org/wp-content/uploads/IMG_1227.jpeg
END:VEVENT
END:VCALENDAR