BEGIN:VCALENDAR
VERSION:2.0
PRODID:-//Bridge of Life - ECPv6.15.14//NONSGML v1.0//EN
CALSCALE:GREGORIAN
METHOD:PUBLISH
X-WR-CALNAME:Bridge of Life
X-ORIGINAL-URL:https://bridgeoflife.org
X-WR-CALDESC:Events for Bridge of Life
REFRESH-INTERVAL;VALUE=DURATION:PT1H
X-Robots-Tag:noindex
X-PUBLISHED-TTL:PT1H
BEGIN:VTIMEZONE
TZID:America/New_York
BEGIN:DAYLIGHT
TZOFFSETFROM:-0500
TZOFFSETTO:-0400
TZNAME:EDT
DTSTART:20230312T070000
END:DAYLIGHT
BEGIN:STANDARD
TZOFFSETFROM:-0400
TZOFFSETTO:-0500
TZNAME:EST
DTSTART:20231105T060000
END:STANDARD
BEGIN:DAYLIGHT
TZOFFSETFROM:-0500
TZOFFSETTO:-0400
TZNAME:EDT
DTSTART:20240310T070000
END:DAYLIGHT
BEGIN:STANDARD
TZOFFSETFROM:-0400
TZOFFSETTO:-0500
TZNAME:EST
DTSTART:20241103T060000
END:STANDARD
BEGIN:DAYLIGHT
TZOFFSETFROM:-0500
TZOFFSETTO:-0400
TZNAME:EDT
DTSTART:20250309T070000
END:DAYLIGHT
BEGIN:STANDARD
TZOFFSETFROM:-0400
TZOFFSETTO:-0500
TZNAME:EST
DTSTART:20251102T060000
END:STANDARD
END:VTIMEZONE
BEGIN:VEVENT
DTSTART;TZID=America/New_York:20240928T180000
DTEND;TZID=America/New_York:20240928T210000
DTSTAMP:20260423T223402
CREATED:20240906T115115Z
LAST-MODIFIED:20240926T174843Z
UID:36273-1727546400-1727557200@bridgeoflife.org
SUMMARY:Youth Event
DESCRIPTION:Youth aged 13+ are invited to a fun night of snacks and games! Contact Kevin Bere if interested.
URL:https://bridgeoflife.org/calendar/youth-event/
LOCATION:Bridge of Life Youth Room\, 6 South Potomac Street\, Hagerstown\, United States
CATEGORIES:Youth Events
ATTACH;FMTTYPE=image/jpeg:https://bridgeoflife.org/wp-content/uploads/Events-Announcements-5.jpg
END:VEVENT
BEGIN:VEVENT
DTSTART;TZID=America/New_York:20240927T180000
DTEND;TZID=America/New_York:20240927T200000
DTSTAMP:20260423T223402
CREATED:20240906T183816Z
LAST-MODIFIED:20240906T183816Z
UID:36290-1727460000-1727467200@bridgeoflife.org
SUMMARY:The Forge: Anvil Group
DESCRIPTION:Location: Hagerstown\nBlacksmiths: Doug & Theresa Stone\nPotluck Supper: Main dish provided. Please bring a side dish. \nGo deep into the Word with men and women in challenging discussions and heart connections. \n  \nThis group is currently full!
URL:https://bridgeoflife.org/calendar/the-forge-anvil-group-6/
LOCATION:MD
CATEGORIES:The Forge
ATTACH;FMTTYPE=image/jpeg:https://bridgeoflife.org/wp-content/uploads/anvil.jpg
END:VEVENT
BEGIN:VEVENT
DTSTART;TZID=America/New_York:20240924T180000
DTEND;TZID=America/New_York:20240924T200000
DTSTAMP:20260423T223402
CREATED:20240906T183717Z
LAST-MODIFIED:20240906T183717Z
UID:36288-1727200800-1727208000@bridgeoflife.org
SUMMARY:The Forge: Hammer Group
DESCRIPTION:Location: Smithsburg\nBlacksmiths: Dan & Julie Young\nPotluck Supper: Main dish provided. Please bring a side dish. \nGo deep into the Word with men and women in challenging discussions and heart connections. \nSign-up\n\n	Notice: JavaScript is required for this content.\nNo Fields Found.\n\n    \n\n\n        \n        \n        \n 
URL:https://bridgeoflife.org/calendar/the-forge-hammer-group-8/
LOCATION:MD
CATEGORIES:The Forge
ATTACH;FMTTYPE=image/jpeg:https://bridgeoflife.org/wp-content/uploads/hammer.jpg
END:VEVENT
BEGIN:VEVENT
DTSTART;TZID=America/New_York:20240922T110000
DTEND;TZID=America/New_York:20240922T120000
DTSTAMP:20260423T223402
CREATED:20240906T112128Z
LAST-MODIFIED:20240906T112128Z
UID:36265-1727002800-1727006400@bridgeoflife.org
SUMMARY:Guest Speaker: Joel Guido
DESCRIPTION:
URL:https://bridgeoflife.org/calendar/guest-speaker-joel-guido/
LOCATION:MD
CATEGORIES:Churchwide Events
ATTACH;FMTTYPE=image/jpeg:https://bridgeoflife.org/wp-content/uploads/IMG_0821.jpeg
END:VEVENT
BEGIN:VEVENT
DTSTART;TZID=America/New_York:20240922T090000
DTEND;TZID=America/New_York:20240922T100000
DTSTAMP:20260423T223402
CREATED:20240830T143145Z
LAST-MODIFIED:20240830T143145Z
UID:36229-1726995600-1726999200@bridgeoflife.org
SUMMARY:Special Member’s Meeting
DESCRIPTION:
URL:https://bridgeoflife.org/calendar/special-members-meeting/
LOCATION:Bridge of Life King’s Room\, 6 South Potomac Street\, Hagerstown\, MD\, 21740\, United States
CATEGORIES:Churchwide Events
ATTACH;FMTTYPE=image/jpeg:https://bridgeoflife.org/wp-content/uploads/IMG_0798.jpeg
END:VEVENT
BEGIN:VEVENT
DTSTART;TZID=America/New_York:20240921T180000
DTEND;TZID=America/New_York:20240921T200000
DTSTAMP:20260423T223402
CREATED:20240820T124026Z
LAST-MODIFIED:20240820T141306Z
UID:36193-1726941600-1726948800@bridgeoflife.org
SUMMARY:Women’s Craft Night
DESCRIPTION:Bridge of Life women are invited to a fun night of making crafts together! Bring your friends! Dinner and dessert will be provided! \nSign-up here
URL:https://bridgeoflife.org/calendar/womens-craft-night/
LOCATION:Bridge of Life King’s Room\, 6 South Potomac Street\, Hagerstown\, MD\, 21740\, United States
CATEGORIES:Featured,Outreach Events,Women’s Events
ATTACH;FMTTYPE=image/jpeg:https://bridgeoflife.org/wp-content/uploads/IMG_0766.jpeg
END:VEVENT
BEGIN:VEVENT
DTSTART;TZID=America/New_York:20240921T073000
DTEND;TZID=America/New_York:20240921T093000
DTSTAMP:20260423T223402
CREATED:20240809T112830Z
LAST-MODIFIED:20240809T112830Z
UID:36153-1726903800-1726911000@bridgeoflife.org
SUMMARY:Men's Breakfast & Book Study
DESCRIPTION:Bridge of Life men are invited to attend our monthly men’s breakfast with food and fellowship! We are currently going through the book “The Men We Need” by Brant Hansen. \nNo sign-up is needed for this event!
URL:https://bridgeoflife.org/calendar/mens-breakfast-book-study/
LOCATION:Bridge of Life Kitchen\, 6 South Potomac Street\, Hagerstown\, United States
CATEGORIES:Men’s Events
ATTACH;FMTTYPE=image/jpeg:https://bridgeoflife.org/wp-content/uploads/12_Mens-Book-Study.jpg
END:VEVENT
BEGIN:VEVENT
DTSTART;TZID=America/New_York:20240919T140000
DTEND;TZID=America/New_York:20240919T170000
DTSTAMP:20260423T223402
CREATED:20240802T150923Z
LAST-MODIFIED:20240802T150923Z
UID:36097-1726754400-1726765200@bridgeoflife.org
SUMMARY:Food Bank Distribution
DESCRIPTION:The Bridge of Life Food Bank is touching hundreds of lives; tons of food are distributed each year. A number of our members assist in transporting tons of food to our foodbank\, packaging bags\, and distributing food on the third Thursday of the month. Please pray for this ministry\, for the anointing of the Holy Spirit as our members personally reach out to each individual who comes for food. For more information or to help\, contact Mike Koenig. \n 
URL:https://bridgeoflife.org/calendar/food-bank-distribution-2/
LOCATION:Bridge of Life Food Bank\, 14 Renaissance Way\, Hagerstown\, MD\, 21740
CATEGORIES:Outreach Events
ATTACH;FMTTYPE=image/jpeg:https://bridgeoflife.org/wp-content/uploads/pics-3.jpg
END:VEVENT
BEGIN:VEVENT
DTSTART;TZID=America/New_York:20240913T180000
DTEND;TZID=America/New_York:20240913T200000
DTSTAMP:20260423T223402
CREATED:20240311T194350Z
LAST-MODIFIED:20240906T183743Z
UID:35219-1726250400-1726257600@bridgeoflife.org
SUMMARY:The Forge: Anvil Group
DESCRIPTION:Location: Hagerstown\nBlacksmiths: Doug & Theresa Stone\nPotluck Supper: Main dish provided. Please bring a side dish. \nGo deep into the Word with men and women in challenging discussions and heart connections. \n  \nThis group is currently full!
URL:https://bridgeoflife.org/calendar/the-forge-anvil-group-3/
LOCATION:MD
CATEGORIES:The Forge
ATTACH;FMTTYPE=image/jpeg:https://bridgeoflife.org/wp-content/uploads/anvil.jpg
END:VEVENT
BEGIN:VEVENT
DTSTART;TZID=America/New_York:20240910T180000
DTEND;TZID=America/New_York:20240910T200000
DTSTAMP:20260423T223402
CREATED:20240416T204816Z
LAST-MODIFIED:20240802T151532Z
UID:35537-1725991200-1725998400@bridgeoflife.org
SUMMARY:The Forge: Hammer Group
DESCRIPTION:Location: Smithsburg\nBlacksmiths: Dan & Julie Young\nPotluck Supper: Main dish provided. Please bring a side dish. \nGo deep into the Word with men and women in challenging discussions and heart connections. \nSign-up\n\n	Notice: JavaScript is required for this content.\nNo Fields Found.\n\n    \n\n\n        \n        \n        \n 
URL:https://bridgeoflife.org/calendar/the-forge-hammer-group-7/
LOCATION:MD
CATEGORIES:The Forge
ATTACH;FMTTYPE=image/jpeg:https://bridgeoflife.org/wp-content/uploads/hammer.jpg
END:VEVENT
BEGIN:VEVENT
DTSTART;TZID=America/New_York:20240907T140000
DTEND;TZID=America/New_York:20240907T180000
DTSTAMP:20260423T223402
CREATED:20240413T013959Z
LAST-MODIFIED:20240903T115901Z
UID:35520-1725717600-1725732000@bridgeoflife.org
SUMMARY:Church Picnic
DESCRIPTION:Join us for food\, fellowship\, fun\, and games for all ages! We will be having cornhole tournaments\, bounce houses\, and more! \nThe location is Washington County Regional Park in Hagerstown. 2pm-dusk. \nBridge of Life will be providing all of the food\, please just come and enjoy yourself! \n\n	Notice: JavaScript is required for this content.\nNo Fields Found.
URL:https://bridgeoflife.org/calendar/church-picnic/
LOCATION:MD
CATEGORIES:Churchwide Events
ATTACH;FMTTYPE=image/jpeg:https://bridgeoflife.org/wp-content/uploads/IMG_0757.jpeg
END:VEVENT
BEGIN:VEVENT
DTSTART;TZID=America/New_York:20240825T110000
DTEND;TZID=America/New_York:20240825T120000
DTSTAMP:20260423T223403
CREATED:20240421T104819Z
LAST-MODIFIED:20240722T131300Z
UID:35601-1724583600-1724587200@bridgeoflife.org
SUMMARY:Guest Speaker: Ray Phillips
DESCRIPTION:We will be having guest speaker Ray Phillips speaking on August 18!
URL:https://bridgeoflife.org/calendar/guest-speaker-5/
LOCATION:MD
CATEGORIES:Churchwide Events
ATTACH;FMTTYPE=image/jpeg:https://bridgeoflife.org/wp-content/uploads/IMG_0295.jpeg
END:VEVENT
BEGIN:VEVENT
DTSTART;TZID=America/New_York:20240824T180000
DTEND;TZID=America/New_York:20240824T210000
DTSTAMP:20260423T223403
CREATED:20240809T112429Z
LAST-MODIFIED:20240820T141313Z
UID:36149-1724522400-1724533200@bridgeoflife.org
SUMMARY:Youth Group
DESCRIPTION:One Accord Youth Group Event! Fun and games for teens ages 13+
URL:https://bridgeoflife.org/calendar/youth-group-2/
LOCATION:MD
CATEGORIES:Featured,Youth Events
ATTACH;FMTTYPE=image/jpeg:https://bridgeoflife.org/wp-content/uploads/IMG_0255.jpeg
END:VEVENT
BEGIN:VEVENT
DTSTART;TZID=America/New_York:20240824T090000
DTEND;TZID=America/New_York:20240824T103000
DTSTAMP:20260423T223403
CREATED:20240619T204454Z
LAST-MODIFIED:20240802T150655Z
UID:35932-1724490000-1724495400@bridgeoflife.org
SUMMARY:Waffle Bar
DESCRIPTION:Bridge of Life women are invited to a waffle bar on Saturday\, August 24 at 9am! Please sign up below by August 17! \nSign-Up Form
URL:https://bridgeoflife.org/calendar/waffle-bar/
LOCATION:Bridge of Life King’s Room\, 6 South Potomac Street\, Hagerstown\, MD\, 21740\, United States
CATEGORIES:Women’s Events
ATTACH;FMTTYPE=image/jpeg:https://bridgeoflife.org/wp-content/uploads/IMG_0580.jpeg
END:VEVENT
BEGIN:VEVENT
DTSTART;TZID=America/New_York:20240818T110000
DTEND;TZID=America/New_York:20240818T120000
DTSTAMP:20260423T223403
CREATED:20240421T104750Z
LAST-MODIFIED:20240722T131210Z
UID:35599-1723978800-1723982400@bridgeoflife.org
SUMMARY:Guest Speaker: Ray Phillips
DESCRIPTION:We will be having guest speaker Ray Phillips speaking on August 18!
URL:https://bridgeoflife.org/calendar/guest-speaker-4/
LOCATION:MD
CATEGORIES:Churchwide Events
ATTACH;FMTTYPE=image/jpeg:https://bridgeoflife.org/wp-content/uploads/IMG_0295.jpeg
END:VEVENT
BEGIN:VEVENT
DTSTART;TZID=America/New_York:20240817T073000
DTEND;TZID=America/New_York:20240817T093000
DTSTAMP:20260423T223403
CREATED:20240509T134756Z
LAST-MODIFIED:20240809T112807Z
UID:35726-1723879800-1723887000@bridgeoflife.org
SUMMARY:Men's Breakfast & Book Study
DESCRIPTION:Bridge of Life men are invited to attend our monthly men’s breakfast with food and fellowship! We are currently going through the book “The Men We Need” by Brant Hansen. \nNo sign-up is needed for this event!
URL:https://bridgeoflife.org/calendar/mens-breakfast-5/
LOCATION:Bridge of Life Kitchen\, 6 South Potomac Street\, Hagerstown\, United States
CATEGORIES:Men’s Events
ATTACH;FMTTYPE=image/jpeg:https://bridgeoflife.org/wp-content/uploads/12_Mens-Book-Study.jpg
END:VEVENT
BEGIN:VEVENT
DTSTART;TZID=America/New_York:20240815T140000
DTEND;TZID=America/New_York:20240815T170000
DTSTAMP:20260423T223403
CREATED:20240613T105345Z
LAST-MODIFIED:20240613T105345Z
UID:35908-1723730400-1723741200@bridgeoflife.org
SUMMARY:Food Bank Distribution
DESCRIPTION:The Bridge of Life Food Bank is touching hundreds of lives; tons of food are distributed each year. A number of our members assist in transporting tons of food to our foodbank\, packaging bags\, and distributing food on the third Thursday of the month. Please pray for this ministry\, for the anointing of the Holy Spirit as our members personally reach out to each individual who comes for food. For more information or to help\, contact Mike Koenig. \n 
URL:https://bridgeoflife.org/calendar/food-bank-distribution-3/
LOCATION:Bridge of Life Food Bank\, 14 Renaissance Way\, Hagerstown\, MD\, 21740
CATEGORIES:Outreach Events
ATTACH;FMTTYPE=image/jpeg:https://bridgeoflife.org/wp-content/uploads/pics-3.jpg
END:VEVENT
BEGIN:VEVENT
DTSTART;TZID=America/New_York:20240811T110000
DTEND;TZID=America/New_York:20240811T120000
DTSTAMP:20260423T223403
CREATED:20240421T104459Z
LAST-MODIFIED:20240722T131021Z
UID:35597-1723374000-1723377600@bridgeoflife.org
SUMMARY:Guest Speaker: Terry King
DESCRIPTION:Guest speaker Terry King will be speaking on August 11!
URL:https://bridgeoflife.org/calendar/guest-speaker-3/
LOCATION:MD
CATEGORIES:Churchwide Events
ATTACH;FMTTYPE=image/jpeg:https://bridgeoflife.org/wp-content/uploads/IMG_0574.jpeg
END:VEVENT
BEGIN:VEVENT
DTSTART;TZID=America/New_York:20240729T173000
DTEND;TZID=America/New_York:20240802T200000
DTSTAMP:20260423T223403
CREATED:20240327T123653Z
LAST-MODIFIED:20240802T150758Z
UID:35377-1722274200-1722628800@bridgeoflife.org
SUMMARY:VBS: Journey to the Celestial City
DESCRIPTION:VBS is returning to Bridge of Life in 2024! Mark your calendars for July 29-August 2!\nKids aged 5-12 are welcome to come and learn about God’s Word while having fun. We will be having a meal at 5:30pm followed by games\, crafts\, skits\, prayer and worship time\, and more. On Friday evening\, we are inviting the families to come and share in a meal in addition to bounce houses\, games\, and more! Children can be pre-registered below\, however we also are in need of adult volunteers! If you have a heart to help sow into the next generation this summer\, please sign-up to help us. \n\n	Notice: JavaScript is required for this content.\nNo Fields Found.
URL:https://bridgeoflife.org/calendar/vbs/
LOCATION:MD
CATEGORIES:Churchwide Events,Outreach Events
END:VEVENT
BEGIN:VEVENT
DTSTART;TZID=America/New_York:20240728T120000
DTEND;TZID=America/New_York:20240728T130000
DTSTAMP:20260423T223403
CREATED:20240623T165348Z
LAST-MODIFIED:20240623T165436Z
UID:35955-1722168000-1722171600@bridgeoflife.org
SUMMARY:VBS Preparation Meeting
DESCRIPTION:We will be having a VBS preparation meeting the Sunday before! This is only for the planning crew and not just volunteers.
URL:https://bridgeoflife.org/calendar/vbs-preparation-meeting/
LOCATION:Bridge of Life King’s Room\, 6 South Potomac Street\, Hagerstown\, MD\, 21740\, United States
END:VEVENT
BEGIN:VEVENT
DTSTART;TZID=America/New_York:20240723T080000
DTEND;TZID=America/New_York:20240726T170000
DTSTAMP:20260423T223403
CREATED:20240327T123521Z
LAST-MODIFIED:20240429T214457Z
UID:35373-1721721600-1722013200@bridgeoflife.org
SUMMARY:Youth Retreat
DESCRIPTION:A summer getaway to northern PA for One Accord Youth members! More details coming soon…
URL:https://bridgeoflife.org/calendar/youth-retreat/
LOCATION:MD
CATEGORIES:Youth Events
ATTACH;FMTTYPE=image/jpeg:https://bridgeoflife.org/wp-content/uploads/IMG_0143.jpeg
END:VEVENT
BEGIN:VEVENT
DTSTART;TZID=America/New_York:20240720T073000
DTEND;TZID=America/New_York:20240720T093000
DTSTAMP:20260423T223403
CREATED:20240504T201402Z
LAST-MODIFIED:20240809T112740Z
UID:35710-1721460600-1721467800@bridgeoflife.org
SUMMARY:Men's Breakfast & Book Study
DESCRIPTION:Bridge of Life men are invited to attend our monthly men’s breakfast with food and fellowship! We are currently going through the book “The Men We Need” by Brant Hansen. \nNo sign-up is needed for this event!
URL:https://bridgeoflife.org/calendar/mens-breakfast-4/
LOCATION:Bridge of Life Kitchen\, 6 South Potomac Street\, Hagerstown\, United States
CATEGORIES:Men’s Events
ATTACH;FMTTYPE=image/jpeg:https://bridgeoflife.org/wp-content/uploads/12_Mens-Book-Study.jpg
END:VEVENT
BEGIN:VEVENT
DTSTART;TZID=America/New_York:20240719T180000
DTEND;TZID=America/New_York:20240719T200000
DTSTAMP:20260423T223403
CREATED:20240619T204326Z
LAST-MODIFIED:20240712T151853Z
UID:35928-1721412000-1721419200@bridgeoflife.org
SUMMARY:Succulent Gardens
DESCRIPTION:Bridge of Life women are invited to a Succulent Gardens event on July 19 at 6pm! Please see Jackey Goldberg for more details. \nSign-up form
URL:https://bridgeoflife.org/calendar/succulent-gardens/
LOCATION:Bridge of Life King’s Room\, 6 South Potomac Street\, Hagerstown\, MD\, 21740\, United States
CATEGORIES:Women’s Events
ATTACH;FMTTYPE=image/jpeg:https://bridgeoflife.org/wp-content/uploads/IMG_0543-scaled.jpeg
END:VEVENT
BEGIN:VEVENT
DTSTART;TZID=America/New_York:20240714T120000
DTEND;TZID=America/New_York:20240714T140000
DTSTAMP:20260423T223403
CREATED:20240613T104512Z
LAST-MODIFIED:20240613T104512Z
UID:35896-1720958400-1720965600@bridgeoflife.org
SUMMARY:VBS Planning Meeting
DESCRIPTION:Our VBS planning crew will be meeting again on June 23 and July 14. Lunch and childcare will again be provided.
URL:https://bridgeoflife.org/calendar/vbs-planning-meeting-3/
LOCATION:Bridge of Life King’s Room\, 6 South Potomac Street\, Hagerstown\, MD\, 21740\, United States
END:VEVENT
BEGIN:VEVENT
DTSTART;TZID=America/New_York:20240712T183000
DTEND;TZID=America/New_York:20240712T200000
DTSTAMP:20260423T223403
CREATED:20240530T134856Z
LAST-MODIFIED:20240705T192945Z
UID:35792-1720809000-1720814400@bridgeoflife.org
SUMMARY:Hagerstown Flying Boxcars Baseball Game
DESCRIPTION:On Friday\, July 12\, Bridge of Life will be having a baseball event to watch the Hagerstown Flying Boxcars! Tickets are $20 a person with all-you-can-eat food.
URL:https://bridgeoflife.org/calendar/hagerstown-flying-boxcars-baseball-game/
LOCATION:MD
CATEGORIES:Churchwide Events
END:VEVENT
BEGIN:VEVENT
DTSTART;TZID=America/New_York:20240630T120000
DTEND;TZID=America/New_York:20240630T123000
DTSTAMP:20260423T223403
CREATED:20240622T015753Z
LAST-MODIFIED:20240622T213330Z
UID:35945-1719748800-1719750600@bridgeoflife.org
SUMMARY:Teacher’s Meeting
DESCRIPTION:There will be a SHORT teacher’s meeting after church to schedule for the fall.
URL:https://bridgeoflife.org/calendar/teachers-meeting-2/
LOCATION:MD
END:VEVENT
BEGIN:VEVENT
DTSTART;TZID=America/New_York:20240623T120000
DTEND;TZID=America/New_York:20240623T140000
DTSTAMP:20260423T223403
CREATED:20240613T104434Z
LAST-MODIFIED:20240613T104434Z
UID:35894-1719144000-1719151200@bridgeoflife.org
SUMMARY:VBS Planning Meeting
DESCRIPTION:Our VBS planning crew will be meeting again on June 23 and July 14. Lunch and childcare will again be provided.
URL:https://bridgeoflife.org/calendar/vbs-planning-meeting-2/
LOCATION:Bridge of Life King’s Room\, 6 South Potomac Street\, Hagerstown\, MD\, 21740\, United States
END:VEVENT
BEGIN:VEVENT
DTSTART;TZID=America/New_York:20240623T110000
DTEND;TZID=America/New_York:20240623T120000
DTSTAMP:20260423T223403
CREATED:20240421T104407Z
LAST-MODIFIED:20240523T115308Z
UID:35595-1719140400-1719144000@bridgeoflife.org
SUMMARY:Guest Speaker: Doug Stone
DESCRIPTION:On Sunday\, June 23\, Elder Doug Stone will be sharing a message! Join us in-person or online.
URL:https://bridgeoflife.org/calendar/guest-speaker-2/
LOCATION:MD
CATEGORIES:Churchwide Events
ATTACH;FMTTYPE=image/jpeg:https://bridgeoflife.org/wp-content/uploads/IMG_0306.jpeg
END:VEVENT
BEGIN:VEVENT
DTSTART;TZID=America/New_York:20240620T140000
DTEND;TZID=America/New_York:20240620T170000
DTSTAMP:20260423T223403
CREATED:20240530T165517Z
LAST-MODIFIED:20240530T165517Z
UID:35804-1718892000-1718902800@bridgeoflife.org
SUMMARY:Food Bank Distribution
DESCRIPTION:The Bridge of Life Food Bank is touching hundreds of lives; tons of food are distributed each year. A number of our members assist in transporting tons of food to our foodbank\, packaging bags\, and distributing food on the third Wednesday of the month. Please pray for this ministry\, for the anointing of the Holy Spirit as our members personally reach out to each individual who comes for food. For more information or to help\, contact Mike Koenig.
URL:https://bridgeoflife.org/calendar/food-bank-distribution/
LOCATION:Bridge of Life Food Bank\, 14 Renaissance Way\, Hagerstown\, MD\, 21740
CATEGORIES:Outreach Events
ATTACH;FMTTYPE=image/jpeg:https://bridgeoflife.org/wp-content/uploads/pics-3.jpg
END:VEVENT
BEGIN:VEVENT
DTSTART;TZID=America/New_York:20240616T110000
DTEND;TZID=America/New_York:20240616T120000
DTSTAMP:20260423T223403
CREATED:20240526T173712Z
LAST-MODIFIED:20240616T133904Z
UID:35790-1718535600-1718539200@bridgeoflife.org
SUMMARY:Guest Speaker: Ray Phillips
DESCRIPTION:On Sunday\, June 16\, we will be having guest speaker Ray Phillips sharing a message with us!
URL:https://bridgeoflife.org/calendar/guest-speaker-ray/
LOCATION:MD
CATEGORIES:Churchwide Events
ATTACH;FMTTYPE=image/jpeg:https://bridgeoflife.org/wp-content/uploads/IMG_0295.jpeg
END:VEVENT
END:VCALENDAR