BEGIN:VCALENDAR
VERSION:2.0
PRODID:-//Bridge of Life - ECPv6.15.14//NONSGML v1.0//EN
CALSCALE:GREGORIAN
METHOD:PUBLISH
X-WR-CALNAME:Bridge of Life
X-ORIGINAL-URL:https://bridgeoflife.org
X-WR-CALDESC:Events for Bridge of Life
REFRESH-INTERVAL;VALUE=DURATION:PT1H
X-Robots-Tag:noindex
X-PUBLISHED-TTL:PT1H
BEGIN:VTIMEZONE
TZID:America/New_York
BEGIN:DAYLIGHT
TZOFFSETFROM:-0500
TZOFFSETTO:-0400
TZNAME:EDT
DTSTART:20230312T070000
END:DAYLIGHT
BEGIN:STANDARD
TZOFFSETFROM:-0400
TZOFFSETTO:-0500
TZNAME:EST
DTSTART:20231105T060000
END:STANDARD
BEGIN:DAYLIGHT
TZOFFSETFROM:-0500
TZOFFSETTO:-0400
TZNAME:EDT
DTSTART:20240310T070000
END:DAYLIGHT
BEGIN:STANDARD
TZOFFSETFROM:-0400
TZOFFSETTO:-0500
TZNAME:EST
DTSTART:20241103T060000
END:STANDARD
BEGIN:DAYLIGHT
TZOFFSETFROM:-0500
TZOFFSETTO:-0400
TZNAME:EDT
DTSTART:20250309T070000
END:DAYLIGHT
BEGIN:STANDARD
TZOFFSETFROM:-0400
TZOFFSETTO:-0500
TZNAME:EST
DTSTART:20251102T060000
END:STANDARD
BEGIN:DAYLIGHT
TZOFFSETFROM:-0500
TZOFFSETTO:-0400
TZNAME:EDT
DTSTART:20260308T070000
END:DAYLIGHT
BEGIN:STANDARD
TZOFFSETFROM:-0400
TZOFFSETTO:-0500
TZNAME:EST
DTSTART:20261101T060000
END:STANDARD
END:VTIMEZONE
BEGIN:VEVENT
DTSTART;TZID=America/New_York:20250105T180000
DTEND;TZID=America/New_York:20250105T180000
DTSTAMP:20260425T094500
CREATED:20250101T141233Z
LAST-MODIFIED:20250105T213341Z
UID:36872-1736100000-1736100000@bridgeoflife.org
SUMMARY:21 Days of Fasting & Prayer: Kickoff Worship Night
DESCRIPTION:At Lifehouse Church!
URL:https://bridgeoflife.org/calendar/21-days-of-fasting-prayer-kickoff-worship-night/
LOCATION:MD
CATEGORIES:Churchwide Events,Featured
ATTACH;FMTTYPE=image/jpeg:https://bridgeoflife.org/wp-content/uploads/IMG_1111.jpeg
END:VEVENT
BEGIN:VEVENT
DTSTART;TZID=America/New_York:20250105T110000
DTEND;TZID=America/New_York:20250105T120000
DTSTAMP:20260425T094500
CREATED:20241217T122307Z
LAST-MODIFIED:20241219T152326Z
UID:36709-1736074800-1736078400@bridgeoflife.org
SUMMARY:Speaker: Deacon Dan Young
DESCRIPTION:
URL:https://bridgeoflife.org/calendar/guest-speaker-dan-young/
LOCATION:MD
CATEGORIES:Churchwide Events
ATTACH;FMTTYPE=image/jpeg:https://bridgeoflife.org/wp-content/uploads/IMG_0228.jpeg
END:VEVENT
BEGIN:VEVENT
DTSTART;TZID=America/New_York:20241229T110000
DTEND;TZID=America/New_York:20241229T120000
DTSTAMP:20260425T094500
CREATED:20240421T104931Z
LAST-MODIFIED:20241219T152336Z
UID:35605-1735470000-1735473600@bridgeoflife.org
SUMMARY:Speaker: Associate Pastor Ray Phillips
DESCRIPTION:More details coming soon…
URL:https://bridgeoflife.org/calendar/guest-speaker-7/
LOCATION:MD
CATEGORIES:Churchwide Events
ATTACH;FMTTYPE=image/jpeg:https://bridgeoflife.org/wp-content/uploads/IMG_0228.jpeg
END:VEVENT
BEGIN:VEVENT
DTSTART;VALUE=DATE:20241225
DTEND;VALUE=DATE:20250104
DTSTAMP:20260425T094500
CREATED:20250101T150832Z
LAST-MODIFIED:20250101T150832Z
UID:36878-1735084800-1735948799@bridgeoflife.org
SUMMARY:BOL Offices Closed
DESCRIPTION:
URL:https://bridgeoflife.org/calendar/bol-offices-closed/
LOCATION:MD
ATTACH;FMTTYPE=image/jpeg:https://bridgeoflife.org/wp-content/uploads/IMG_1102.jpeg
END:VEVENT
BEGIN:VEVENT
DTSTART;TZID=America/New_York:20241224T190000
DTEND;TZID=America/New_York:20241224T200000
DTSTAMP:20260425T094500
CREATED:20241213T145932Z
LAST-MODIFIED:20241213T145959Z
UID:36642-1735066800-1735070400@bridgeoflife.org
SUMMARY:Christmas Eve Service
DESCRIPTION:
URL:https://bridgeoflife.org/calendar/christmas-eve-service/
LOCATION:MD
CATEGORIES:Churchwide Events
ATTACH;FMTTYPE=image/jpeg:https://bridgeoflife.org/wp-content/uploads/23.jpg
END:VEVENT
BEGIN:VEVENT
DTSTART;TZID=America/New_York:20241224T153000
DTEND;TZID=America/New_York:20241224T190000
DTSTAMP:20260425T094500
CREATED:20240416T204424Z
LAST-MODIFIED:20241220T222049Z
UID:35533-1735054200-1735066800@bridgeoflife.org
SUMMARY:Christmas Eve Dinner
DESCRIPTION:Bridge of Life’s Annual Christmas Eve Dinner is a free meal to the public from 4-6pm. All church members are encouraged to help\, this is our biggest outreach of the year! More than 150 people walk through our doors that night\, we need assistance providing them with hearty meals! \nSetup begins at 3:00!\nIf you are unable to attend on Christmas Eve\, you can assist by cooking a turkey or ham and delivering it to the church that morning\, or by donating a food item.
URL:https://bridgeoflife.org/calendar/christmas-eve-dinner/
LOCATION:Bridge of Life King’s Room\, 6 South Potomac Street\, Hagerstown\, MD\, 21740\, United States
CATEGORIES:Churchwide Events,Outreach Events
ATTACH;FMTTYPE=image/jpeg:https://bridgeoflife.org/wp-content/uploads/IMG_0441.jpeg
END:VEVENT
BEGIN:VEVENT
DTSTART;TZID=America/New_York:20241221T180000
DTEND;TZID=America/New_York:20241221T233000
DTSTAMP:20260425T094500
CREATED:20241031T204454Z
LAST-MODIFIED:20241210T160518Z
UID:36511-1734804000-1734823800@bridgeoflife.org
SUMMARY:Youth Christmas Party
DESCRIPTION:One Accord Youth ages 13+ are invited to our youth Christmas party and all-nighter! Contact Kevin Bere for more info!
URL:https://bridgeoflife.org/calendar/youth-christmas-party/
LOCATION:Bridge of Life Youth Room\, 6 South Potomac Street\, Hagerstown\, United States
CATEGORIES:Youth Events
ATTACH;FMTTYPE=image/jpeg:https://bridgeoflife.org/wp-content/uploads/Events-Announcements-5.jpg
END:VEVENT
BEGIN:VEVENT
DTSTART;TZID=America/New_York:20241220T180000
DTEND;TZID=America/New_York:20241220T213000
DTSTAMP:20260425T094500
CREATED:20241210T170356Z
LAST-MODIFIED:20241210T170356Z
UID:36604-1734717600-1734730200@bridgeoflife.org
SUMMARY:Youth Event
DESCRIPTION:One Accord Youth ages 13+ are invited to a youth event with another youth group! Contact Kevin Bere for more info!
URL:https://bridgeoflife.org/calendar/youth-event-3/
LOCATION:MD
CATEGORIES:Youth Events
ATTACH;FMTTYPE=image/jpeg:https://bridgeoflife.org/wp-content/uploads/Events-Announcements-5.jpg
END:VEVENT
BEGIN:VEVENT
DTSTART;TZID=America/New_York:20241219T140000
DTEND;TZID=America/New_York:20241219T170000
DTSTAMP:20260425T094500
CREATED:20241124T221427Z
LAST-MODIFIED:20241124T221427Z
UID:36570-1734616800-1734627600@bridgeoflife.org
SUMMARY:Food Bank Distribution
DESCRIPTION:The Bridge of Life Food Bank is touching hundreds of lives; tons of food are distributed each year. A number of our members assist in transporting tons of food to our foodbank\, packaging bags\, and distributing food on the third Thursday of the month. Please pray for this ministry\, for the anointing of the Holy Spirit as our members personally reach out to each individual who comes for food. For more information or to help\, contact Mike Koenig. \n 
URL:https://bridgeoflife.org/calendar/food-bank-distribution-6/
LOCATION:Bridge of Life Food Bank\, 14 Renaissance Way\, Hagerstown\, MD\, 21740
CATEGORIES:Outreach Events
ATTACH;FMTTYPE=image/jpeg:https://bridgeoflife.org/wp-content/uploads/pics-3.jpg
END:VEVENT
BEGIN:VEVENT
DTSTART;TZID=America/New_York:20241215T123000
DTEND;TZID=America/New_York:20241215T133000
DTSTAMP:20260425T094500
CREATED:20241213T145820Z
LAST-MODIFIED:20241213T145820Z
UID:36636-1734265800-1734269400@bridgeoflife.org
SUMMARY:Teacher's Meeting
DESCRIPTION:
URL:https://bridgeoflife.org/calendar/teachers-meeting-3/
LOCATION:MD
ATTACH;FMTTYPE=image/jpeg:https://bridgeoflife.org/wp-content/uploads/30.jpg
END:VEVENT
BEGIN:VEVENT
DTSTART;TZID=America/New_York:20241213T180000
DTEND;TZID=America/New_York:20241213T210000
DTSTAMP:20260425T094500
CREATED:20240820T130453Z
LAST-MODIFIED:20240820T141214Z
UID:36199-1734112800-1734123600@bridgeoflife.org
SUMMARY:Women’s Christmas Party
DESCRIPTION:It’s that time of year again! Christmas is coming and the Women’s Christmas Party is on the calendar! \n\nDinner provided\nComfy\, festive\, attire (Think fuzzy holiday pjs\, or a sparkly Christmas sweater)\nCookie exchange\nWhite Elephant gift exchange (Bring a gift that is $15 or less)\nHot cocoa\nActivities/games\nChristmas movie\n\nSign-up Here
URL:https://bridgeoflife.org/calendar/womens-christmas-party/
LOCATION:Bridge of Life King’s Room\, 6 South Potomac Street\, Hagerstown\, MD\, 21740\, United States
CATEGORIES:Featured,Women’s Events
ATTACH;FMTTYPE=image/jpeg:https://bridgeoflife.org/wp-content/uploads/IMG_0772.jpeg
END:VEVENT
BEGIN:VEVENT
DTSTART;TZID=America/New_York:20241210T180000
DTEND;TZID=America/New_York:20241210T200000
DTSTAMP:20260425T094500
CREATED:20240915T123836Z
LAST-MODIFIED:20241004T210113Z
UID:36318-1733853600-1733860800@bridgeoflife.org
SUMMARY:The Forge: Hammer Group
DESCRIPTION:Location: Smithsburg\nBlacksmiths: Dan & Julie Young\nPotluck Supper: Main dish provided. Please bring a side dish. \nGo deep into the Word with men and women in challenging discussions and heart connections. \nSign-up\n\n	Notice: JavaScript is required for this content.\nNo Fields Found.\n\n    \n\n\n        \n        \n        \n 
URL:https://bridgeoflife.org/calendar/the-forge-hammer-group-14/
LOCATION:MD
CATEGORIES:The Forge
ATTACH;FMTTYPE=image/jpeg:https://bridgeoflife.org/wp-content/uploads/hammer.jpg
END:VEVENT
BEGIN:VEVENT
DTSTART;TZID=America/New_York:20241208T110000
DTEND;TZID=America/New_York:20241208T120000
DTSTAMP:20260425T094500
CREATED:20241122T145027Z
LAST-MODIFIED:20241122T145027Z
UID:36554-1733655600-1733659200@bridgeoflife.org
SUMMARY:Guest Speaker: John Guido
DESCRIPTION:
URL:https://bridgeoflife.org/calendar/guest-speaker-john-guido/
LOCATION:MD
CATEGORIES:Churchwide Events
ATTACH;FMTTYPE=image/jpeg:https://bridgeoflife.org/wp-content/uploads/IMG_1011.jpeg
END:VEVENT
BEGIN:VEVENT
DTSTART;TZID=America/New_York:20241206T180000
DTEND;TZID=America/New_York:20241206T200000
DTSTAMP:20260425T094500
CREATED:20241122T201925Z
LAST-MODIFIED:20241122T201925Z
UID:36560-1733508000-1733515200@bridgeoflife.org
SUMMARY:The Forge: Anvil Group
DESCRIPTION:Location: Hagerstown\nBlacksmiths: Doug & Theresa Stone\nPotluck Supper: Main dish provided. Please bring a side dish. \nGo deep into the Word with men and women in challenging discussions and heart connections. \n\n	Notice: JavaScript is required for this content.\nNo Fields Found.
URL:https://bridgeoflife.org/calendar/the-forge-anvil-group-12/
LOCATION:MD
CATEGORIES:The Forge
ATTACH;FMTTYPE=image/jpeg:https://bridgeoflife.org/wp-content/uploads/anvil.jpg
END:VEVENT
BEGIN:VEVENT
DTSTART;TZID=America/New_York:20241126T180000
DTEND;TZID=America/New_York:20241126T200000
DTSTAMP:20260425T094500
CREATED:20240915T123656Z
LAST-MODIFIED:20241004T210022Z
UID:36316-1732644000-1732651200@bridgeoflife.org
SUMMARY:The Forge: Hammer Group
DESCRIPTION:Location: Smithsburg\nBlacksmiths: Dan & Julie Young\nPotluck Supper: Main dish provided. Please bring a side dish. \nGo deep into the Word with men and women in challenging discussions and heart connections. \nSign-up\n\n	Notice: JavaScript is required for this content.\nNo Fields Found.\n\n    \n\n\n        \n        \n        \n 
URL:https://bridgeoflife.org/calendar/the-forge-hammer-group-13/
LOCATION:MD
CATEGORIES:The Forge
ATTACH;FMTTYPE=image/jpeg:https://bridgeoflife.org/wp-content/uploads/hammer.jpg
END:VEVENT
BEGIN:VEVENT
DTSTART;TZID=America/New_York:20241123T173000
DTEND;TZID=America/New_York:20241123T193000
DTSTAMP:20260425T094500
CREATED:20241001T154950Z
LAST-MODIFIED:20241001T155022Z
UID:36372-1732383000-1732390200@bridgeoflife.org
SUMMARY:Operation Christmas Child Shoebox Packing
DESCRIPTION:Come and help us pack shoeboxes for Operation Christmas Child! \nPizza is provided\, please signup below so we know how much to get! \n\n	Notice: JavaScript is required for this content.\nNo Fields Found.
URL:https://bridgeoflife.org/calendar/operation-christmas-child-shoebox-packing/
LOCATION:Bridge of Life Baptismal Area\, 14 South Potomac Street\, Hagerstown\, MD\, 21740\, United States
CATEGORIES:Churchwide Events
ATTACH;FMTTYPE=image/png:https://bridgeoflife.org/wp-content/uploads/Monthly-General-Slides.png
END:VEVENT
BEGIN:VEVENT
DTSTART;TZID=America/New_York:20241122T180000
DTEND;TZID=America/New_York:20241122T200000
DTSTAMP:20260425T094500
CREATED:20241122T201852Z
LAST-MODIFIED:20241122T201852Z
UID:36558-1732298400-1732305600@bridgeoflife.org
SUMMARY:The Forge: Anvil Group
DESCRIPTION:Location: Hagerstown\nBlacksmiths: Doug & Theresa Stone\nPotluck Supper: Main dish provided. Please bring a side dish. \nGo deep into the Word with men and women in challenging discussions and heart connections. \n\n	Notice: JavaScript is required for this content.\nNo Fields Found.
URL:https://bridgeoflife.org/calendar/the-forge-anvil-group-11/
LOCATION:MD
CATEGORIES:The Forge
ATTACH;FMTTYPE=image/jpeg:https://bridgeoflife.org/wp-content/uploads/anvil.jpg
END:VEVENT
BEGIN:VEVENT
DTSTART;TZID=America/New_York:20241121T140000
DTEND;TZID=America/New_York:20241121T170000
DTSTAMP:20260425T094500
CREATED:20240920T121730Z
LAST-MODIFIED:20240920T121730Z
UID:36342-1732197600-1732208400@bridgeoflife.org
SUMMARY:Food Bank Distribution
DESCRIPTION:The Bridge of Life Food Bank is touching hundreds of lives; tons of food are distributed each year. A number of our members assist in transporting tons of food to our foodbank\, packaging bags\, and distributing food on the third Thursday of the month. Please pray for this ministry\, for the anointing of the Holy Spirit as our members personally reach out to each individual who comes for food. For more information or to help\, contact Mike Koenig. \n 
URL:https://bridgeoflife.org/calendar/food-bank-distribution-5/
LOCATION:Bridge of Life Food Bank\, 14 Renaissance Way\, Hagerstown\, MD\, 21740
CATEGORIES:Outreach Events
ATTACH;FMTTYPE=image/jpeg:https://bridgeoflife.org/wp-content/uploads/pics-3.jpg
END:VEVENT
BEGIN:VEVENT
DTSTART;TZID=America/New_York:20241116T073000
DTEND;TZID=America/New_York:20241116T093000
DTSTAMP:20260425T094500
CREATED:20240809T113009Z
LAST-MODIFIED:20240809T113009Z
UID:36157-1731742200-1731749400@bridgeoflife.org
SUMMARY:Men's Breakfast & Book Study
DESCRIPTION:Bridge of Life men are invited to attend our monthly men’s breakfast with food and fellowship! We are currently going through the book “The Men We Need” by Brant Hansen. \nNo sign-up is needed for this event!
URL:https://bridgeoflife.org/calendar/mens-breakfast-book-study-3/
LOCATION:Bridge of Life Kitchen\, 6 South Potomac Street\, Hagerstown\, United States
CATEGORIES:Men’s Events
ATTACH;FMTTYPE=image/jpeg:https://bridgeoflife.org/wp-content/uploads/12_Mens-Book-Study.jpg
END:VEVENT
BEGIN:VEVENT
DTSTART;TZID=America/New_York:20241115T180000
DTEND;TZID=America/New_York:20241115T210000
DTSTAMP:20260425T094500
CREATED:20240820T125200Z
LAST-MODIFIED:20241003T124512Z
UID:36196-1731693600-1731704400@bridgeoflife.org
SUMMARY:Potluck Game Night
DESCRIPTION:Bridge of Life men and women and teaming up for a collective event! All are invited to a potluck game night! Bring a dish to share for a meal and then we will be sharing in fellowship with games! Childcare will be provided\, so bring your favorite board game and enjoy yourself! \nSign-up Here\n 
URL:https://bridgeoflife.org/calendar/potluck-game-night/
LOCATION:Bridge of Life King’s Room\, 6 South Potomac Street\, Hagerstown\, MD\, 21740\, United States
CATEGORIES:Churchwide Events,Featured,Men’s Events,Women’s Events
ATTACH;FMTTYPE=image/jpeg:https://bridgeoflife.org/wp-content/uploads/IMG_0928.jpeg
END:VEVENT
BEGIN:VEVENT
DTSTART;TZID=America/New_York:20241115T080000
DTEND;TZID=America/New_York:20241117T170000
DTSTAMP:20260425T094500
CREATED:20240327T122454Z
LAST-MODIFIED:20240404T150038Z
UID:35367-1731657600-1731862800@bridgeoflife.org
SUMMARY:Weekend to Remember
DESCRIPTION:Location: Cambridge\, MD\nCost: $300 per couple \nYou fell in love\, but real life wasn’t far behind. Take this time to invest in and strengthen your marriage. You’re finally getting away–so get back to what matters. \nSign Up Here
URL:https://bridgeoflife.org/calendar/weekend-to-remember/
LOCATION:MD
CATEGORIES:Churchwide Events
ATTACH;FMTTYPE=image/jpeg:https://bridgeoflife.org/wp-content/uploads/Weekend-To-Remember.jpg
END:VEVENT
BEGIN:VEVENT
DTSTART;TZID=America/New_York:20241112T180000
DTEND;TZID=America/New_York:20241112T200000
DTSTAMP:20260425T094500
CREATED:20240915T123540Z
LAST-MODIFIED:20241004T205919Z
UID:36314-1731434400-1731441600@bridgeoflife.org
SUMMARY:The Forge: Hammer Group
DESCRIPTION:Location: Smithsburg\nBlacksmiths: Dan & Julie Young\nPotluck Supper: Main dish provided. Please bring a side dish. \nGo deep into the Word with men and women in challenging discussions and heart connections. \nSign-up\n\n	Notice: JavaScript is required for this content.\nNo Fields Found.\n\n    \n\n\n        \n        \n        \n 
URL:https://bridgeoflife.org/calendar/the-forge-hammer-group-12/
LOCATION:MD
CATEGORIES:The Forge
ATTACH;FMTTYPE=image/jpeg:https://bridgeoflife.org/wp-content/uploads/hammer.jpg
END:VEVENT
BEGIN:VEVENT
DTSTART;TZID=America/New_York:20241109T180000
DTEND;TZID=America/New_York:20241109T213000
DTSTAMP:20260425T094500
CREATED:20241031T204319Z
LAST-MODIFIED:20241031T204319Z
UID:36509-1731175200-1731187800@bridgeoflife.org
SUMMARY:Youth Event
DESCRIPTION:One Accord youth 13+ are invited to our November event: a Taco Eating Contest! Contact Kevin Bere for more info.
URL:https://bridgeoflife.org/calendar/youth-event-2/
LOCATION:Bridge of Life Youth Room\, 6 South Potomac Street\, Hagerstown\, United States
CATEGORIES:Youth Events
ATTACH;FMTTYPE=image/jpeg:https://bridgeoflife.org/wp-content/uploads/Events-Announcements-5.jpg
END:VEVENT
BEGIN:VEVENT
DTSTART;TZID=America/New_York:20241108T180000
DTEND;TZID=America/New_York:20241108T200000
DTSTAMP:20260425T094500
CREATED:20240915T123923Z
LAST-MODIFIED:20240915T123923Z
UID:36320-1731088800-1731096000@bridgeoflife.org
SUMMARY:The Forge: Anvil Group
DESCRIPTION:Location: Hagerstown\nBlacksmiths: Doug & Theresa Stone\nPotluck Supper: Main dish provided. Please bring a side dish. \nGo deep into the Word with men and women in challenging discussions and heart connections. \n\n	Notice: JavaScript is required for this content.\nNo Fields Found.
URL:https://bridgeoflife.org/calendar/the-forge-anvil-group-8/
LOCATION:MD
CATEGORIES:The Forge
ATTACH;FMTTYPE=image/jpeg:https://bridgeoflife.org/wp-content/uploads/anvil.jpg
END:VEVENT
BEGIN:VEVENT
DTSTART;TZID=America/New_York:20241103T123000
DTEND;TZID=America/New_York:20241103T140000
DTSTAMP:20260425T094500
CREATED:20241023T130730Z
LAST-MODIFIED:20241025T151902Z
UID:36467-1730637000-1730642400@bridgeoflife.org
SUMMARY:Thanksgiving Meal
DESCRIPTION:We will be having communion and a special offering on Sunday November 3 to end our fasting and prayer event.\nOn Sunday\, November 3\, we will be having a Thanksgiving Meal after service! The main dish will be provided\, please sign-up below to let us know you’re coming and what side dish you’re bringing! (Food can be dropped off in the kitchen before service) \n\n	Notice: JavaScript is required for this content.\nNo Fields Found.
URL:https://bridgeoflife.org/calendar/thanksgiving-meal/
LOCATION:MD
CATEGORIES:Churchwide Events
ATTACH;FMTTYPE=image/jpeg:https://bridgeoflife.org/wp-content/uploads/IMG_0977.jpeg
END:VEVENT
BEGIN:VEVENT
DTSTART;TZID=America/New_York:20241029T180000
DTEND;TZID=America/New_York:20241029T200000
DTSTAMP:20260425T094500
CREATED:20240915T123421Z
LAST-MODIFIED:20241004T205851Z
UID:36312-1730224800-1730232000@bridgeoflife.org
SUMMARY:The Forge: Hammer Group
DESCRIPTION:Location: Smithsburg\nBlacksmiths: Dan & Julie Young\nPotluck Supper: Main dish provided. Please bring a side dish. \nGo deep into the Word with men and women in challenging discussions and heart connections. \nSign-up\n\n	Notice: JavaScript is required for this content.\nNo Fields Found.\n\n    \n\n\n        \n        \n        \n 
URL:https://bridgeoflife.org/calendar/the-forge-hammer-group-11/
LOCATION:MD
CATEGORIES:The Forge
ATTACH;FMTTYPE=image/jpeg:https://bridgeoflife.org/wp-content/uploads/hammer.jpg
END:VEVENT
BEGIN:VEVENT
DTSTART;TZID=America/New_York:20241026T073000
DTEND;TZID=America/New_York:20241026T093000
DTSTAMP:20260425T094500
CREATED:20240809T112921Z
LAST-MODIFIED:20241018T144154Z
UID:36155-1729927800-1729935000@bridgeoflife.org
SUMMARY:Men's Breakfast & Book Study
DESCRIPTION:Bridge of Life men are invited to attend our monthly men’s breakfast with food and fellowship! We are currently going through the book “The Men We Need” by Brant Hansen. \nNo sign-up is needed for this event!
URL:https://bridgeoflife.org/calendar/mens-breakfast-book-study-2/
LOCATION:Bridge of Life Kitchen\, 6 South Potomac Street\, Hagerstown\, United States
CATEGORIES:Men’s Events
ATTACH;FMTTYPE=image/jpeg:https://bridgeoflife.org/wp-content/uploads/12_Mens-Book-Study.jpg
END:VEVENT
BEGIN:VEVENT
DTSTART;TZID=America/New_York:20241025T180000
DTEND;TZID=America/New_York:20241025T200000
DTSTAMP:20260425T094500
CREATED:20241003T125106Z
LAST-MODIFIED:20241003T125106Z
UID:36385-1729879200-1729886400@bridgeoflife.org
SUMMARY:The Forge: Anvil Group
DESCRIPTION:Location: Hagerstown\nBlacksmiths: Doug & Theresa Stone\nPotluck Supper: Main dish provided. Please bring a side dish. \nGo deep into the Word with men and women in challenging discussions and heart connections. \n\n	Notice: JavaScript is required for this content.\nNo Fields Found.
URL:https://bridgeoflife.org/calendar/the-forge-anvil-group-10/
LOCATION:MD
CATEGORIES:The Forge
ATTACH;FMTTYPE=image/jpeg:https://bridgeoflife.org/wp-content/uploads/anvil.jpg
END:VEVENT
BEGIN:VEVENT
DTSTART;TZID=America/New_York:20241017T140000
DTEND;TZID=America/New_York:20241017T170000
DTSTAMP:20260425T094500
CREATED:20240920T121643Z
LAST-MODIFIED:20240920T121643Z
UID:36340-1729173600-1729184400@bridgeoflife.org
SUMMARY:Food Bank Distribution
DESCRIPTION:The Bridge of Life Food Bank is touching hundreds of lives; tons of food are distributed each year. A number of our members assist in transporting tons of food to our foodbank\, packaging bags\, and distributing food on the third Thursday of the month. Please pray for this ministry\, for the anointing of the Holy Spirit as our members personally reach out to each individual who comes for food. For more information or to help\, contact Mike Koenig. \n 
URL:https://bridgeoflife.org/calendar/food-bank-distribution-4/
LOCATION:Bridge of Life Food Bank\, 14 Renaissance Way\, Hagerstown\, MD\, 21740
CATEGORIES:Outreach Events
ATTACH;FMTTYPE=image/jpeg:https://bridgeoflife.org/wp-content/uploads/pics-3.jpg
END:VEVENT
BEGIN:VEVENT
DTSTART;TZID=America/New_York:20241015T180000
DTEND;TZID=America/New_York:20241015T200000
DTSTAMP:20260425T094500
CREATED:20240906T183937Z
LAST-MODIFIED:20241004T205808Z
UID:36293-1729015200-1729022400@bridgeoflife.org
SUMMARY:The Forge: Hammer Group
DESCRIPTION:Location: Smithsburg\nBlacksmiths: Dan & Julie Young\nPotluck Supper: Main dish provided. Please bring a side dish. \nGo deep into the Word with men and women in challenging discussions and heart connections. \nSign-up\n\n	Notice: JavaScript is required for this content.\nNo Fields Found.\n\n    \n\n\n        \n        \n        \n 
URL:https://bridgeoflife.org/calendar/the-forge-hammer-group-10/
LOCATION:MD
CATEGORIES:The Forge
ATTACH;FMTTYPE=image/jpeg:https://bridgeoflife.org/wp-content/uploads/hammer.jpg
END:VEVENT
END:VCALENDAR