BEGIN:VCALENDAR
VERSION:2.0
PRODID:-//Bridge of Life - ECPv6.15.14//NONSGML v1.0//EN
CALSCALE:GREGORIAN
METHOD:PUBLISH
X-WR-CALNAME:Bridge of Life
X-ORIGINAL-URL:https://bridgeoflife.org
X-WR-CALDESC:Events for Bridge of Life
REFRESH-INTERVAL;VALUE=DURATION:PT1H
X-Robots-Tag:noindex
X-PUBLISHED-TTL:PT1H
BEGIN:VTIMEZONE
TZID:America/New_York
BEGIN:DAYLIGHT
TZOFFSETFROM:-0500
TZOFFSETTO:-0400
TZNAME:EDT
DTSTART:20240310T070000
END:DAYLIGHT
BEGIN:STANDARD
TZOFFSETFROM:-0400
TZOFFSETTO:-0500
TZNAME:EST
DTSTART:20241103T060000
END:STANDARD
BEGIN:DAYLIGHT
TZOFFSETFROM:-0500
TZOFFSETTO:-0400
TZNAME:EDT
DTSTART:20250309T070000
END:DAYLIGHT
BEGIN:STANDARD
TZOFFSETFROM:-0400
TZOFFSETTO:-0500
TZNAME:EST
DTSTART:20251102T060000
END:STANDARD
BEGIN:DAYLIGHT
TZOFFSETFROM:-0500
TZOFFSETTO:-0400
TZNAME:EDT
DTSTART:20260308T070000
END:DAYLIGHT
BEGIN:STANDARD
TZOFFSETFROM:-0400
TZOFFSETTO:-0500
TZNAME:EST
DTSTART:20261101T060000
END:STANDARD
END:VTIMEZONE
BEGIN:VEVENT
DTSTART;TZID=America/New_York:20250202T120000
DTEND;TZID=America/New_York:20250202T140000
DTSTAMP:20260424T084411
CREATED:20250104T133911Z
LAST-MODIFIED:20250104T134400Z
UID:36905-1738497600-1738504800@bridgeoflife.org
SUMMARY:Youth Soup & Sandwich Fundraiser
DESCRIPTION:Help the youth fund their week-long missions trip to Kentucky! Stop by after service for warm soups and cold sandwiches! We will be accepting donations at the door.\nPlease talk to Kevin or Cerey Bere if you are interested in donating a soup for this event.
URL:https://bridgeoflife.org/calendar/youth-soup-sandwich-fundraiser/
LOCATION:Bridge of Life King’s Room\, 6 South Potomac Street\, Hagerstown\, MD\, 21740\, United States
CATEGORIES:Churchwide Events,Youth Events
ATTACH;FMTTYPE=image/jpeg:https://bridgeoflife.org/wp-content/uploads/IMG_1110.jpeg
END:VEVENT
BEGIN:VEVENT
DTSTART;TZID=America/New_York:20250204T180000
DTEND;TZID=America/New_York:20250204T200000
DTSTAMP:20260424T084411
CREATED:20241219T162616Z
LAST-MODIFIED:20241219T162616Z
UID:36725-1738692000-1738699200@bridgeoflife.org
SUMMARY:The Forge: Hammer
DESCRIPTION:Location: Smithsburg\nBlacksmiths: Dan & Julie Young\nPotluck Supper: Main dish provided. Please bring a side dish. \nGo deep into the Word with men and women in challenging discussions and heart connections. \nSign-up\n\n	Notice: JavaScript is required for this content.\nNo Fields Found.\n\n    \n\n\n        \n        \n        \n 
URL:https://bridgeoflife.org/calendar/the-forge-hammer-3/
CATEGORIES:The Forge
ATTACH;FMTTYPE=image/jpeg:https://bridgeoflife.org/wp-content/uploads/hammer.jpg
END:VEVENT
BEGIN:VEVENT
DTSTART;TZID=America/New_York:20250206T090000
DTEND;TZID=America/New_York:20250206T120000
DTSTAMP:20260424T084411
CREATED:20250126T132243Z
LAST-MODIFIED:20250228T150659Z
UID:36991-1738832400-1738843200@bridgeoflife.org
SUMMARY:Prayer & Presence at Hagerstown Area Pregnancy Clinic
DESCRIPTION:Bridge of Life’s monthly outreach event will be having a group of people present at the pregnancy clinic in Hagerstown. Our goal is to intercede and pray for the women going into the abortion clinic\, and offer the HAPC service of free sonograms. Justin shared his heart for this at the Member’s Meeting 2025\, saying it is an emotionally hostile environment for these women making life-changing decisions.\nPlease join us on the first Thursday of every month at BOL\, where we will meet and pray before walking over to the pregnancy clinic.
URL:https://bridgeoflife.org/calendar/prayer-presence-at-hagerstown-area-pregnancy-clinic/
LOCATION:Hagerstown Area Pregnancy Clinic\, 152 W Washington St.\, Hagerstown\, 21740\, United States
CATEGORIES:Churchwide Events,Outreach Events
ATTACH;FMTTYPE=image/jpeg:https://bridgeoflife.org/wp-content/uploads/IMG_1177.jpeg
END:VEVENT
BEGIN:VEVENT
DTSTART;TZID=America/New_York:20250208T180000
DTEND;TZID=America/New_York:20250208T213000
DTSTAMP:20260424T084411
CREATED:20250103T235139Z
LAST-MODIFIED:20250103T235139Z
UID:36895-1739037600-1739050200@bridgeoflife.org
SUMMARY:Youth Event
DESCRIPTION:One Accord Youth ages 13+ are invited to a youth event! Contact Kevin Bere for more info!
URL:https://bridgeoflife.org/calendar/youth-event-5/
LOCATION:Bridge of Life Youth Room\, 6 South Potomac Street\, Hagerstown\, United States
CATEGORIES:Youth Events
ATTACH;FMTTYPE=image/jpeg:https://bridgeoflife.org/wp-content/uploads/Events-Announcements-5.jpg
END:VEVENT
BEGIN:VEVENT
DTSTART;TZID=America/New_York:20250214T180000
DTEND;TZID=America/New_York:20250214T200000
DTSTAMP:20260424T084411
CREATED:20241219T162918Z
LAST-MODIFIED:20241219T162918Z
UID:36737-1739556000-1739563200@bridgeoflife.org
SUMMARY:The Forge: Anvil
DESCRIPTION:Location: Hagerstown\nBlacksmiths: Doug & Theresa Stone\nPotluck Supper: Main dish provided. Please bring a side dish. \nGo deep into the Word with men and women in challenging discussions and heart connections. \n\n	Notice: JavaScript is required for this content.\nNo Fields Found.
URL:https://bridgeoflife.org/calendar/the-forge-anvil-2/
CATEGORIES:The Forge
ATTACH;FMTTYPE=image/jpeg:https://bridgeoflife.org/wp-content/uploads/anvil.jpg
END:VEVENT
BEGIN:VEVENT
DTSTART;TZID=America/New_York:20250215T073000
DTEND;TZID=America/New_York:20250215T093000
DTSTAMP:20260424T084411
CREATED:20241210T193329Z
LAST-MODIFIED:20250110T150954Z
UID:36611-1739604600-1739611800@bridgeoflife.org
SUMMARY:Men's Breakfast & Book Study
DESCRIPTION:Bridge of Life men are invited to attend our monthly men’s breakfast with food and fellowship! Meetings are at 7:30am in the BOL Kitchen every 3rd Saturday. We are currently going through the book “Stepping Up” by Dennis Rainey. \nNo sign-up is needed for this event!
URL:https://bridgeoflife.org/calendar/mens-breakfast-book-study-4/
LOCATION:Bridge of Life Kitchen\, 6 South Potomac Street\, Hagerstown\, United States
CATEGORIES:Men’s Events
ATTACH;FMTTYPE=image/jpeg:https://bridgeoflife.org/wp-content/uploads/IMG_1124.jpeg
END:VEVENT
BEGIN:VEVENT
DTSTART;TZID=America/New_York:20250215T170000
DTEND;TZID=America/New_York:20250215T210000
DTSTAMP:20260424T084411
CREATED:20241223T183332Z
LAST-MODIFIED:20250211T200846Z
UID:36830-1739638800-1739653200@bridgeoflife.org
SUMMARY:Valentine’s Day Dinner
DESCRIPTION:
URL:https://bridgeoflife.org/calendar/valentines-day-dinner/
LOCATION:Bridge of Life King’s Room\, 6 South Potomac Street\, Hagerstown\, MD\, 21740\, United States
CATEGORIES:Churchwide Events
ATTACH;FMTTYPE=image/jpeg:https://bridgeoflife.org/wp-content/uploads/IMG_1077.jpeg
END:VEVENT
BEGIN:VEVENT
DTSTART;TZID=America/New_York:20250218T180000
DTEND;TZID=America/New_York:20250218T200000
DTSTAMP:20260424T084411
CREATED:20241219T162635Z
LAST-MODIFIED:20241219T162635Z
UID:36727-1739901600-1739908800@bridgeoflife.org
SUMMARY:The Forge: Hammer
DESCRIPTION:Location: Smithsburg\nBlacksmiths: Dan & Julie Young\nPotluck Supper: Main dish provided. Please bring a side dish. \nGo deep into the Word with men and women in challenging discussions and heart connections. \nSign-up\n\n	Notice: JavaScript is required for this content.\nNo Fields Found.\n\n    \n\n\n        \n        \n        \n 
URL:https://bridgeoflife.org/calendar/the-forge-hammer-4/
CATEGORIES:The Forge
ATTACH;FMTTYPE=image/jpeg:https://bridgeoflife.org/wp-content/uploads/hammer.jpg
END:VEVENT
BEGIN:VEVENT
DTSTART;TZID=America/New_York:20250220T140000
DTEND;TZID=America/New_York:20250220T170000
DTSTAMP:20260424T084411
CREATED:20241203T235905Z
LAST-MODIFIED:20241203T235905Z
UID:36589-1740060000-1740070800@bridgeoflife.org
SUMMARY:Food Bank Distribution
DESCRIPTION:The Bridge of Life Food Bank is touching hundreds of lives; tons of food are distributed each year. A number of our members assist in transporting tons of food to our foodbank\, packaging bags\, and distributing food on the third Thursday of the month. Please pray for this ministry\, for the anointing of the Holy Spirit as our members personally reach out to each individual who comes for food. For more information or to help\, contact Mike Koenig. \n 
URL:https://bridgeoflife.org/calendar/food-bank-distribution-8/
LOCATION:Bridge of Life Food Bank\, 14 Renaissance Way\, Hagerstown\, MD\, 21740
CATEGORIES:Outreach Events
ATTACH;FMTTYPE=image/jpeg:https://bridgeoflife.org/wp-content/uploads/pics-3.jpg
END:VEVENT
BEGIN:VEVENT
DTSTART;TZID=America/New_York:20250223T123000
DTEND;TZID=America/New_York:20250223T140000
DTSTAMP:20260424T084411
CREATED:20250204T224527Z
LAST-MODIFIED:20250204T224648Z
UID:37066-1740313800-1740319200@bridgeoflife.org
SUMMARY:VBS Planning Meeting
DESCRIPTION:Notice: JavaScript is required for this content.\nNo Fields Found.
URL:https://bridgeoflife.org/calendar/vbs-planning-meeting-4/
LOCATION:Bridge of Life King’s Room\, 6 South Potomac Street\, Hagerstown\, MD\, 21740\, United States
ATTACH;FMTTYPE=image/jpeg:https://bridgeoflife.org/wp-content/uploads/IMG_1206.jpeg
END:VEVENT
BEGIN:VEVENT
DTSTART;VALUE=DATE:20250228
DTEND;VALUE=DATE:20250302
DTSTAMP:20260424T084411
CREATED:20241223T175140Z
LAST-MODIFIED:20250226T131020Z
UID:36769-1740700800-1740873599@bridgeoflife.org
SUMMARY:Men’s Retreat: Strengthened Through Christ
DESCRIPTION:Bridge of Life Men are invited to our first ever men’s retreat! Join us for fellowship\, teachings\, ministry\, and food! It will take place in the BOL King’s Room on Friday from 6-8pm and Saturday from 8am-3pm. Contact Doug Stone with any questions.
URL:https://bridgeoflife.org/calendar/mens-retreat/
LOCATION:Bridge of Life King’s Room\, 6 South Potomac Street\, Hagerstown\, MD\, 21740\, United States
CATEGORIES:Men’s Events
ATTACH;FMTTYPE=image/jpeg:https://bridgeoflife.org/wp-content/uploads/IMG_1178.jpeg
END:VEVENT
BEGIN:VEVENT
DTSTART;TZID=America/New_York:20250228T180000
DTEND;TZID=America/New_York:20250228T200000
DTSTAMP:20260424T084411
CREATED:20241219T162939Z
LAST-MODIFIED:20241219T162939Z
UID:36739-1740765600-1740772800@bridgeoflife.org
SUMMARY:The Forge: Anvil
DESCRIPTION:Location: Hagerstown\nBlacksmiths: Doug & Theresa Stone\nPotluck Supper: Main dish provided. Please bring a side dish. \nGo deep into the Word with men and women in challenging discussions and heart connections. \n\n	Notice: JavaScript is required for this content.\nNo Fields Found.
URL:https://bridgeoflife.org/calendar/the-forge-anvil-3/
CATEGORIES:The Forge
ATTACH;FMTTYPE=image/jpeg:https://bridgeoflife.org/wp-content/uploads/anvil.jpg
END:VEVENT
END:VCALENDAR