BEGIN:VCALENDAR
VERSION:2.0
PRODID:-//Bridge of Life - ECPv6.15.14//NONSGML v1.0//EN
CALSCALE:GREGORIAN
METHOD:PUBLISH
X-WR-CALNAME:Bridge of Life
X-ORIGINAL-URL:https://bridgeoflife.org
X-WR-CALDESC:Events for Bridge of Life
REFRESH-INTERVAL;VALUE=DURATION:PT1H
X-Robots-Tag:noindex
X-PUBLISHED-TTL:PT1H
BEGIN:VTIMEZONE
TZID:America/New_York
BEGIN:DAYLIGHT
TZOFFSETFROM:-0500
TZOFFSETTO:-0400
TZNAME:EDT
DTSTART:20240310T070000
END:DAYLIGHT
BEGIN:STANDARD
TZOFFSETFROM:-0400
TZOFFSETTO:-0500
TZNAME:EST
DTSTART:20241103T060000
END:STANDARD
BEGIN:DAYLIGHT
TZOFFSETFROM:-0500
TZOFFSETTO:-0400
TZNAME:EDT
DTSTART:20250309T070000
END:DAYLIGHT
BEGIN:STANDARD
TZOFFSETFROM:-0400
TZOFFSETTO:-0500
TZNAME:EST
DTSTART:20251102T060000
END:STANDARD
BEGIN:DAYLIGHT
TZOFFSETFROM:-0500
TZOFFSETTO:-0400
TZNAME:EDT
DTSTART:20260308T070000
END:DAYLIGHT
BEGIN:STANDARD
TZOFFSETFROM:-0400
TZOFFSETTO:-0500
TZNAME:EST
DTSTART:20261101T060000
END:STANDARD
END:VTIMEZONE
BEGIN:VEVENT
DTSTART;VALUE=DATE:20250228
DTEND;VALUE=DATE:20250302
DTSTAMP:20260424T071255
CREATED:20241223T175140Z
LAST-MODIFIED:20250226T131020Z
UID:36769-1740700800-1740873599@bridgeoflife.org
SUMMARY:Men’s Retreat: Strengthened Through Christ
DESCRIPTION:Bridge of Life Men are invited to our first ever men’s retreat! Join us for fellowship\, teachings\, ministry\, and food! It will take place in the BOL King’s Room on Friday from 6-8pm and Saturday from 8am-3pm. Contact Doug Stone with any questions.
URL:https://bridgeoflife.org/calendar/mens-retreat/
LOCATION:Bridge of Life King’s Room\, 6 South Potomac Street\, Hagerstown\, MD\, 21740\, United States
CATEGORIES:Men’s Events
ATTACH;FMTTYPE=image/jpeg:https://bridgeoflife.org/wp-content/uploads/IMG_1178.jpeg
END:VEVENT
BEGIN:VEVENT
DTSTART;TZID=America/New_York:20250302T110000
DTEND;TZID=America/New_York:20250302T120000
DTSTAMP:20260424T071255
CREATED:20250220T120329Z
LAST-MODIFIED:20250228T152840Z
UID:37120-1740913200-1740916800@bridgeoflife.org
SUMMARY:Guest Speaker: Jessica Klick from HAPC
DESCRIPTION:
URL:https://bridgeoflife.org/calendar/guest-speaker-jessica-klick-from-hapc/
LOCATION:Bridge of Life Sanctuary\, 14 South Potomac Street\, Hagerstown\, MD\, 21740\, United States
CATEGORIES:Churchwide Events
ATTACH;FMTTYPE=image/jpeg:https://bridgeoflife.org/wp-content/uploads/IMG_0228.jpeg
END:VEVENT
BEGIN:VEVENT
DTSTART;TZID=America/New_York:20250304T180000
DTEND;TZID=America/New_York:20250304T200000
DTSTAMP:20260424T071255
CREATED:20241219T162704Z
LAST-MODIFIED:20241219T162704Z
UID:36729-1741111200-1741118400@bridgeoflife.org
SUMMARY:The Forge: Hammer
DESCRIPTION:Location: Smithsburg\nBlacksmiths: Dan & Julie Young\nPotluck Supper: Main dish provided. Please bring a side dish. \nGo deep into the Word with men and women in challenging discussions and heart connections. \nSign-up\n\n	Notice: JavaScript is required for this content.\nNo Fields Found.\n\n    \n\n\n        \n        \n        \n 
URL:https://bridgeoflife.org/calendar/the-forge-hammer-5/
CATEGORIES:The Forge
ATTACH;FMTTYPE=image/jpeg:https://bridgeoflife.org/wp-content/uploads/hammer.jpg
END:VEVENT
BEGIN:VEVENT
DTSTART;TZID=America/New_York:20250306T090000
DTEND;TZID=America/New_York:20250306T120000
DTSTAMP:20260424T071255
CREATED:20250126T132351Z
LAST-MODIFIED:20250301T150503Z
UID:36994-1741251600-1741262400@bridgeoflife.org
SUMMARY:Prayer & Presence at Hagerstown Area Pregnancy Clinic
DESCRIPTION:Bridge of Life’s monthly outreach event will be having a group of people present at the pregnancy clinic in Hagerstown. Our goal is to intercede and pray for the women going into the abortion clinic\, and offer the HAPC service of free sonograms. Justin shared his heart for this at the Member’s Meeting 2025\, saying it is an emotionally hostile environment for these women making life-changing decisions.\nPlease join us on the first Thursday of every month at BOL\, where we will meet and pray before walking over to the pregnancy clinic.
URL:https://bridgeoflife.org/calendar/prayer-presence-at-hagerstown-area-pregnancy-clinic-2/
LOCATION:Hagerstown Area Pregnancy Clinic\, 152 W Washington St.\, Hagerstown\, 21740\, United States
CATEGORIES:Churchwide Events,Outreach Events
ATTACH;FMTTYPE=image/jpeg:https://bridgeoflife.org/wp-content/uploads/IMG_1177.jpeg
END:VEVENT
BEGIN:VEVENT
DTSTART;TZID=America/New_York:20250307T180000
DTEND;TZID=America/New_York:20250307T200000
DTSTAMP:20260424T071255
CREATED:20250124T141653Z
LAST-MODIFIED:20250220T122155Z
UID:36970-1741370400-1741377600@bridgeoflife.org
SUMMARY:The Forge: Bellows
DESCRIPTION:Location: Hagerstown\nBlacksmiths: Ray & Lisa Phillips\nPotluck Supper: Main dish provided. Please bring a side dish. \nGo deep into the Word with men and women in challenging discussions and heart connections. \nSign-up\n\n	Notice: JavaScript is required for this content.\nNo Fields Found.\n\n    \n\n\n        \n        \n        \n 
URL:https://bridgeoflife.org/calendar/the-forge-bellow/
CATEGORIES:The Forge
ATTACH;FMTTYPE=image/jpeg:https://bridgeoflife.org/wp-content/uploads/IMG_1172.jpeg
END:VEVENT
BEGIN:VEVENT
DTSTART;TZID=America/New_York:20250308T130000
DTEND;TZID=America/New_York:20250308T160000
DTSTAMP:20260424T071255
CREATED:20241223T174659Z
LAST-MODIFIED:20250102T162406Z
UID:36761-1741438800-1741449600@bridgeoflife.org
SUMMARY:Women’s Craft Event
DESCRIPTION:Sign-up here 
URL:https://bridgeoflife.org/calendar/womens-craft-event/
LOCATION:Bridge of Life King’s Room\, 6 South Potomac Street\, Hagerstown\, MD\, 21740\, United States
CATEGORIES:Women’s Events
ATTACH;FMTTYPE=image/jpeg:https://bridgeoflife.org/wp-content/uploads/IMG_1094.jpeg
END:VEVENT
BEGIN:VEVENT
DTSTART;TZID=America/New_York:20250308T180000
DTEND;TZID=America/New_York:20250308T213000
DTSTAMP:20260424T071255
CREATED:20250103T235247Z
LAST-MODIFIED:20250103T235303Z
UID:36897-1741456800-1741469400@bridgeoflife.org
SUMMARY:Youth Event
DESCRIPTION:One Accord Youth ages 13+ are invited to a youth event! Contact Kevin Bere for more info!
URL:https://bridgeoflife.org/calendar/youth-event-6/
LOCATION:Bridge of Life Youth Room\, 6 South Potomac Street\, Hagerstown\, United States
CATEGORIES:Youth Events
ATTACH;FMTTYPE=image/jpeg:https://bridgeoflife.org/wp-content/uploads/Events-Announcements-5.jpg
END:VEVENT
BEGIN:VEVENT
DTSTART;TZID=America/New_York:20250314T180000
DTEND;TZID=America/New_York:20250314T200000
DTSTAMP:20260424T071255
CREATED:20241219T162959Z
LAST-MODIFIED:20241219T162959Z
UID:36741-1741975200-1741982400@bridgeoflife.org
SUMMARY:The Forge: Anvil
DESCRIPTION:Location: Hagerstown\nBlacksmiths: Doug & Theresa Stone\nPotluck Supper: Main dish provided. Please bring a side dish. \nGo deep into the Word with men and women in challenging discussions and heart connections. \n\n	Notice: JavaScript is required for this content.\nNo Fields Found.
URL:https://bridgeoflife.org/calendar/the-forge-anvil-4/
CATEGORIES:The Forge
ATTACH;FMTTYPE=image/jpeg:https://bridgeoflife.org/wp-content/uploads/anvil.jpg
END:VEVENT
BEGIN:VEVENT
DTSTART;TZID=America/New_York:20250315T073000
DTEND;TZID=America/New_York:20250315T093000
DTSTAMP:20260424T071255
CREATED:20241219T163102Z
LAST-MODIFIED:20250110T151121Z
UID:36747-1742023800-1742031000@bridgeoflife.org
SUMMARY:Men's Breakfast & Book Study
DESCRIPTION:Bridge of Life men are invited to attend our monthly men’s breakfast with food and fellowship! Meetings are at 7:30am in the BOL Kitchen every 3rd Saturday. We are currently going through the book “Stepping Up” by Dennis Rainey. \nNo sign-up is needed for this event!
URL:https://bridgeoflife.org/calendar/mens-breakfast-book-study-5/
LOCATION:Bridge of Life Kitchen\, 6 South Potomac Street\, Hagerstown\, United States
CATEGORIES:Men’s Events
ATTACH;FMTTYPE=image/jpeg:https://bridgeoflife.org/wp-content/uploads/IMG_1124.jpeg
END:VEVENT
BEGIN:VEVENT
DTSTART;TZID=America/New_York:20250318T180000
DTEND;TZID=America/New_York:20250318T200000
DTSTAMP:20260424T071255
CREATED:20241219T162800Z
LAST-MODIFIED:20241219T162800Z
UID:36731-1742320800-1742328000@bridgeoflife.org
SUMMARY:The Forge: Hammer
DESCRIPTION:Location: Smithsburg\nBlacksmiths: Dan & Julie Young\nPotluck Supper: Main dish provided. Please bring a side dish. \nGo deep into the Word with men and women in challenging discussions and heart connections. \nSign-up\n\n	Notice: JavaScript is required for this content.\nNo Fields Found.\n\n    \n\n\n        \n        \n        \n 
URL:https://bridgeoflife.org/calendar/the-forge-hammer-6/
CATEGORIES:The Forge
ATTACH;FMTTYPE=image/jpeg:https://bridgeoflife.org/wp-content/uploads/hammer.jpg
END:VEVENT
BEGIN:VEVENT
DTSTART;TZID=America/New_York:20250320T140000
DTEND;TZID=America/New_York:20250320T170000
DTSTAMP:20260424T071255
CREATED:20241203T235942Z
LAST-MODIFIED:20241203T235942Z
UID:36591-1742479200-1742490000@bridgeoflife.org
SUMMARY:Food Bank Distribution
DESCRIPTION:The Bridge of Life Food Bank is touching hundreds of lives; tons of food are distributed each year. A number of our members assist in transporting tons of food to our foodbank\, packaging bags\, and distributing food on the third Thursday of the month. Please pray for this ministry\, for the anointing of the Holy Spirit as our members personally reach out to each individual who comes for food. For more information or to help\, contact Mike Koenig. \n 
URL:https://bridgeoflife.org/calendar/food-bank-distribution-9/
LOCATION:Bridge of Life Food Bank\, 14 Renaissance Way\, Hagerstown\, MD\, 21740
CATEGORIES:Outreach Events
ATTACH;FMTTYPE=image/jpeg:https://bridgeoflife.org/wp-content/uploads/pics-3.jpg
END:VEVENT
BEGIN:VEVENT
DTSTART;TZID=America/New_York:20250320T180000
DTEND;TZID=America/New_York:20250320T203000
DTSTAMP:20260424T071255
CREATED:20250306T202233Z
LAST-MODIFIED:20250319T113222Z
UID:37229-1742493600-1742502600@bridgeoflife.org
SUMMARY:Men’s Wing Night
DESCRIPTION:Bridge of Life Men are invited to a Wing Night! Bring your own sauce! \nEntry is by donation.
URL:https://bridgeoflife.org/calendar/wing-night/
LOCATION:Bridge of Life King’s Room\, 6 South Potomac Street\, Hagerstown\, MD\, 21740\, United States
CATEGORIES:Men’s Events
ATTACH;FMTTYPE=image/jpeg:https://bridgeoflife.org/wp-content/uploads/25.jpg
END:VEVENT
BEGIN:VEVENT
DTSTART;TZID=America/New_York:20250321T180000
DTEND;TZID=America/New_York:20250321T200000
DTSTAMP:20260424T071255
CREATED:20250124T141934Z
LAST-MODIFIED:20250220T122201Z
UID:36974-1742580000-1742587200@bridgeoflife.org
SUMMARY:The Forge: Bellows
DESCRIPTION:Location: Hagerstown\nBlacksmiths: Ray & Lisa Phillips\nPotluck Supper: Main dish provided. Please bring a side dish. \nGo deep into the Word with men and women in challenging discussions and heart connections. \nSign-up\n\n	Notice: JavaScript is required for this content.\nNo Fields Found.\n\n    \n\n\n        \n        \n        \n 
URL:https://bridgeoflife.org/calendar/the-forge-bellow-2/
CATEGORIES:The Forge
ATTACH;FMTTYPE=image/jpeg:https://bridgeoflife.org/wp-content/uploads/IMG_1172.jpeg
END:VEVENT
BEGIN:VEVENT
DTSTART;TZID=America/New_York:20250322T080000
DTEND;TZID=America/New_York:20250322T120000
DTSTAMP:20260424T071255
CREATED:20250125T204758Z
LAST-MODIFIED:20250320T112721Z
UID:36988-1742630400-1742644800@bridgeoflife.org
SUMMARY:Work Day
DESCRIPTION:Come out and help fix up the building!
URL:https://bridgeoflife.org/calendar/work-day/
LOCATION:Bridge of Life Church\, 14 South Potomac Street\, Hagerstown\, 21740\, United States
CATEGORIES:Men’s Events
ATTACH;FMTTYPE=image/jpeg:https://bridgeoflife.org/wp-content/uploads/IMG_1235.jpeg
END:VEVENT
BEGIN:VEVENT
DTSTART;TZID=America/New_York:20250324T180000
DTEND;TZID=America/New_York:20250324T200000
DTSTAMP:20260424T071255
CREATED:20250220T115721Z
LAST-MODIFIED:20250220T115835Z
UID:37115-1742839200-1742846400@bridgeoflife.org
SUMMARY:Washington County FCA Impact Night
DESCRIPTION:We invite you to join us for an elevated night of sharing\, celebration\, and vision. \nThere will be hors d’oeuvres served as well as other light refreshments form 6pm – 7pm. Guests will be free to walk around the MD Theatre talking with one another as well as our FCA staff and volunteers. There will be a silent auction during this time as well. \nAt 7pm we will gather in the main theatre as we share all that God has done through FCA these past two years to impact Washington County\, MD. We will also be sharing our vision for the future and what that looks like for you and your family. \nPlease RSVP here.
URL:https://bridgeoflife.org/calendar/washington-county-fca-impact-night/
ATTACH;FMTTYPE=image/jpeg:https://bridgeoflife.org/wp-content/uploads/IMG_1225-1-scaled.jpeg
END:VEVENT
BEGIN:VEVENT
DTSTART;TZID=America/New_York:20250328T180000
DTEND;TZID=America/New_York:20250328T200000
DTSTAMP:20260424T071255
CREATED:20241219T163019Z
LAST-MODIFIED:20241219T163019Z
UID:36743-1743184800-1743192000@bridgeoflife.org
SUMMARY:The Forge: Anvil
DESCRIPTION:Location: Hagerstown\nBlacksmiths: Doug & Theresa Stone\nPotluck Supper: Main dish provided. Please bring a side dish. \nGo deep into the Word with men and women in challenging discussions and heart connections. \n\n	Notice: JavaScript is required for this content.\nNo Fields Found.
URL:https://bridgeoflife.org/calendar/the-forge-anvil-5/
CATEGORIES:The Forge
ATTACH;FMTTYPE=image/jpeg:https://bridgeoflife.org/wp-content/uploads/anvil.jpg
END:VEVENT
BEGIN:VEVENT
DTSTART;TZID=America/New_York:20250329T170000
DTEND;TZID=America/New_York:20250329T170000
DTSTAMP:20260424T071255
CREATED:20241223T174528Z
LAST-MODIFIED:20250327T164807Z
UID:36757-1743267600-1743267600@bridgeoflife.org
SUMMARY:Chili Cookoff & Cornhole Tournament
DESCRIPTION:
URL:https://bridgeoflife.org/calendar/chili-cookoff-cornhole-tournament/
LOCATION:Bridge of Life King’s Room\, 6 South Potomac Street\, Hagerstown\, MD\, 21740\, United States
CATEGORIES:Churchwide Events
ATTACH;FMTTYPE=image/jpeg:https://bridgeoflife.org/wp-content/uploads/IMG_1065.jpeg
END:VEVENT
BEGIN:VEVENT
DTSTART;TZID=America/New_York:20250330T110000
DTEND;TZID=America/New_York:20250330T120000
DTSTAMP:20260424T071255
CREATED:20250220T120539Z
LAST-MODIFIED:20250220T120539Z
UID:37122-1743332400-1743336000@bridgeoflife.org
SUMMARY:Speaker: Elder Doug Stone
DESCRIPTION:
URL:https://bridgeoflife.org/calendar/speaker-elder-doug-stone/
CATEGORIES:Churchwide Events
ATTACH;FMTTYPE=image/jpeg:https://bridgeoflife.org/wp-content/uploads/IMG_0228.jpeg
END:VEVENT
BEGIN:VEVENT
DTSTART;TZID=America/New_York:20250330T123000
DTEND;TZID=America/New_York:20250330T140000
DTSTAMP:20260424T071255
CREATED:20250204T224745Z
LAST-MODIFIED:20250204T224745Z
UID:37069-1743337800-1743343200@bridgeoflife.org
SUMMARY:VBS Planning Meeting
DESCRIPTION:Notice: JavaScript is required for this content.\nNo Fields Found.
URL:https://bridgeoflife.org/calendar/vbs-planning-meeting-5/
LOCATION:Bridge of Life King’s Room\, 6 South Potomac Street\, Hagerstown\, MD\, 21740\, United States
ATTACH;FMTTYPE=image/jpeg:https://bridgeoflife.org/wp-content/uploads/IMG_1206.jpeg
END:VEVENT
END:VCALENDAR