BEGIN:VCALENDAR
VERSION:2.0
PRODID:-//Bridge of Life - ECPv6.15.14//NONSGML v1.0//EN
CALSCALE:GREGORIAN
METHOD:PUBLISH
X-WR-CALNAME:Bridge of Life
X-ORIGINAL-URL:https://bridgeoflife.org
X-WR-CALDESC:Events for Bridge of Life
REFRESH-INTERVAL;VALUE=DURATION:PT1H
X-Robots-Tag:noindex
X-PUBLISHED-TTL:PT1H
BEGIN:VTIMEZONE
TZID:America/New_York
BEGIN:DAYLIGHT
TZOFFSETFROM:-0500
TZOFFSETTO:-0400
TZNAME:EDT
DTSTART:20240310T070000
END:DAYLIGHT
BEGIN:STANDARD
TZOFFSETFROM:-0400
TZOFFSETTO:-0500
TZNAME:EST
DTSTART:20241103T060000
END:STANDARD
BEGIN:DAYLIGHT
TZOFFSETFROM:-0500
TZOFFSETTO:-0400
TZNAME:EDT
DTSTART:20250309T070000
END:DAYLIGHT
BEGIN:STANDARD
TZOFFSETFROM:-0400
TZOFFSETTO:-0500
TZNAME:EST
DTSTART:20251102T060000
END:STANDARD
BEGIN:DAYLIGHT
TZOFFSETFROM:-0500
TZOFFSETTO:-0400
TZNAME:EDT
DTSTART:20260308T070000
END:DAYLIGHT
BEGIN:STANDARD
TZOFFSETFROM:-0400
TZOFFSETTO:-0500
TZNAME:EST
DTSTART:20261101T060000
END:STANDARD
END:VTIMEZONE
BEGIN:VEVENT
DTSTART;TZID=America/New_York:20251102T120000
DTEND;TZID=America/New_York:20251102T133000
DTSTAMP:20260423T190617
CREATED:20251010T170135Z
LAST-MODIFIED:20251010T170212Z
UID:37705-1762084800-1762090200@bridgeoflife.org
SUMMARY:Christmas Eve Dinner Planning Meeting
DESCRIPTION:
URL:https://bridgeoflife.org/calendar/christmas-eve-dinner-planning-meeting/
LOCATION:Bridge of Life Church\, 14 South Potomac Street\, Hagerstown\, 21740\, United States
ATTACH;FMTTYPE=image/png:https://bridgeoflife.org/wp-content/uploads/christmas-eve-dinner.png
END:VEVENT
BEGIN:VEVENT
DTSTART;VALUE=DATE:20251103
DTEND;VALUE=DATE:20251124
DTSTAMP:20260423T190617
CREATED:20251003T143511Z
LAST-MODIFIED:20251003T143511Z
UID:37696-1762128000-1763942399@bridgeoflife.org
SUMMARY:Thanksgiving Prayer & Fasting
DESCRIPTION:
URL:https://bridgeoflife.org/calendar/thanksgiving-prayer-fasting/
ATTACH;FMTTYPE=image/jpeg:https://bridgeoflife.org/wp-content/uploads/thanksgiving.jpg
END:VEVENT
BEGIN:VEVENT
DTSTART;TZID=America/New_York:20251106T090000
DTEND;TZID=America/New_York:20251106T120000
DTSTAMP:20260423T190617
CREATED:20250126T133700Z
LAST-MODIFIED:20250301T145936Z
UID:37007-1762419600-1762430400@bridgeoflife.org
SUMMARY:Prayer & Presence at Hagerstown Area Pregnancy Clinic
DESCRIPTION:Bridge of Life’s monthly outreach event will be having a group of people present at the pregnancy clinic in Hagerstown. Our goal is to intercede and pray for the women going into the abortion clinic\, and offer the HAPC service of free sonograms. Justin shared his heart for this at the Member’s Meeting 2025\, saying it is an emotionally hostile environment for these women making life-changing decisions.\nPlease join us on the first Thursday of every month at BOL\, where we will meet and pray before walking over to the pregnancy clinic.
URL:https://bridgeoflife.org/calendar/prayer-presence-at-hagerstown-area-pregnancy-clinic-8/
LOCATION:Hagerstown Area Pregnancy Clinic\, 152 W Washington St.\, Hagerstown\, 21740\, United States
CATEGORIES:Churchwide Events,Outreach Events
ATTACH;FMTTYPE=image/jpeg:https://bridgeoflife.org/wp-content/uploads/IMG_1177.jpeg
END:VEVENT
BEGIN:VEVENT
DTSTART;TZID=America/New_York:20251107T180000
DTEND;TZID=America/New_York:20251107T200000
DTSTAMP:20260423T190617
CREATED:20250806T151212Z
LAST-MODIFIED:20250806T151212Z
UID:37647-1762538400-1762545600@bridgeoflife.org
SUMMARY:The Forge: Bellows
DESCRIPTION:Location: State Line\nBlacksmiths: Ray & Lisa Phillips\nPotluck Supper: Main dish provided. Please bring a side dish. \nGo deep into the Word with men and women in challenging discussions and heart connections. \nSign-up
URL:https://bridgeoflife.org/calendar/the-forge-bellows-6/
CATEGORIES:The Forge
ATTACH;FMTTYPE=image/jpeg:https://bridgeoflife.org/wp-content/uploads/IMG_1172.jpeg
END:VEVENT
BEGIN:VEVENT
DTSTART;TZID=America/New_York:20251109T100000
DTEND;TZID=America/New_York:20251123T120000
DTSTAMP:20260423T190617
CREATED:20250220T121751Z
LAST-MODIFIED:20250220T122027Z
UID:37129-1762682400-1763899200@bridgeoflife.org
SUMMARY:Thanksgiving Prayer & Fasting Event
DESCRIPTION:
URL:https://bridgeoflife.org/calendar/thanksgiving-prayer-fasting-event-2/
CATEGORIES:Churchwide Events
ATTACH;FMTTYPE=image/jpeg:https://bridgeoflife.org/wp-content/uploads/IMG_1075.jpeg
END:VEVENT
BEGIN:VEVENT
DTSTART;TZID=America/New_York:20251110T180000
DTEND;TZID=America/New_York:20251110T200000
DTSTAMP:20260423T190617
CREATED:20250806T145836Z
LAST-MODIFIED:20250829T133218Z
UID:37623-1762797600-1762804800@bridgeoflife.org
SUMMARY:The Forge: Hammer
DESCRIPTION:Location: Smithsburg\nBlacksmiths: Dan & Julie Young\nPotluck Supper: Main dish provided. Please bring a side dish. \nGo deep into the Word with men and women in challenging discussions and heart connections. \nSign-up\n 
URL:https://bridgeoflife.org/calendar/the-forge-hammer-18/
CATEGORIES:The Forge
ATTACH;FMTTYPE=image/jpeg:https://bridgeoflife.org/wp-content/uploads/hammer.jpg
END:VEVENT
BEGIN:VEVENT
DTSTART;TZID=America/New_York:20251114T180000
DTEND;TZID=America/New_York:20251114T200000
DTSTAMP:20260423T190617
CREATED:20250806T150313Z
LAST-MODIFIED:20250806T150313Z
UID:37633-1763143200-1763150400@bridgeoflife.org
SUMMARY:The Forge: Anvil
DESCRIPTION:Location: Hagerstown\nBlacksmiths: Doug & Theresa Stone\nPotluck Supper: Main dish provided. Please bring a side dish.\n\nGo deep into the Word with men and women in challenging discussions and heart connections.
URL:https://bridgeoflife.org/calendar/the-forge-anvil-12/
CATEGORIES:The Forge
ATTACH;FMTTYPE=image/jpeg:https://bridgeoflife.org/wp-content/uploads/anvil.jpg
END:VEVENT
BEGIN:VEVENT
DTSTART;TZID=America/New_York:20251115T073000
DTEND;TZID=America/New_York:20251115T093000
DTSTAMP:20260423T190617
CREATED:20250805T150815Z
LAST-MODIFIED:20250805T150815Z
UID:37602-1763191800-1763199000@bridgeoflife.org
SUMMARY:Men's Breakfast & Book Study
DESCRIPTION:Bridge of Life men are invited to attend our monthly men’s breakfast with food and fellowship! Meetings are at 7:30am in the BOL Kitchen every 3rd Saturday. We are currently going through the book “Stepping Up” by Dennis Rainey. \nNo sign-up is needed for this event!
URL:https://bridgeoflife.org/calendar/mens-breakfast-book-study-11/
LOCATION:Bridge of Life Kitchen\, 6 South Potomac Street\, Hagerstown\, United States
CATEGORIES:Men’s Events
ATTACH;FMTTYPE=image/jpeg:https://bridgeoflife.org/wp-content/uploads/IMG_1124.jpeg
END:VEVENT
BEGIN:VEVENT
DTSTART;TZID=America/New_York:20251121T180000
DTEND;TZID=America/New_York:20251121T200000
DTSTAMP:20260423T190617
CREATED:20250806T151631Z
LAST-MODIFIED:20250806T151631Z
UID:37653-1763748000-1763755200@bridgeoflife.org
SUMMARY:The Forge: Bellows
DESCRIPTION:Location: State Line\nBlacksmiths: Ray & Lisa Phillips\nPotluck Supper: Main dish provided. Please bring a side dish. \nGo deep into the Word with men and women in challenging discussions and heart connections. \nSign-up
URL:https://bridgeoflife.org/calendar/the-forge-bellows-9/
CATEGORIES:The Forge
ATTACH;FMTTYPE=image/jpeg:https://bridgeoflife.org/wp-content/uploads/IMG_1172.jpeg
END:VEVENT
BEGIN:VEVENT
DTSTART;TZID=America/New_York:20251122T173000
DTEND;TZID=America/New_York:20251122T193000
DTSTAMP:20260423T190617
CREATED:20241223T174411Z
LAST-MODIFIED:20251024T155639Z
UID:36755-1763832600-1763839800@bridgeoflife.org
SUMMARY:Operation Christmas Child Shoebox Packing
DESCRIPTION:Come and help us pack shoeboxes for Operation Christmas Child! \n  \nSignup here
URL:https://bridgeoflife.org/calendar/operation-christmas-child-shoebox-packing-2/
LOCATION:Bridge of Life Baptismal Area\, 14 South Potomac Street\, Hagerstown\, MD\, 21740\, United States
CATEGORIES:Churchwide Events
ATTACH;FMTTYPE=image/jpeg:https://bridgeoflife.org/wp-content/uploads/shoebox-packing.jpg
END:VEVENT
BEGIN:VEVENT
DTSTART;TZID=America/New_York:20251123T120000
DTEND;TZID=America/New_York:20251123T150000
DTSTAMP:20260423T190617
CREATED:20241223T174751Z
LAST-MODIFIED:20241223T174751Z
UID:36763-1763899200-1763910000@bridgeoflife.org
SUMMARY:Thanksgiving Meal & Offering
DESCRIPTION:
URL:https://bridgeoflife.org/calendar/thanksgiving-meal-offering/
LOCATION:Bridge of Life King’s Room\, 6 South Potomac Street\, Hagerstown\, MD\, 21740\, United States
CATEGORIES:Churchwide Events
ATTACH;FMTTYPE=image/jpeg:https://bridgeoflife.org/wp-content/uploads/IMG_1074.jpeg
END:VEVENT
BEGIN:VEVENT
DTSTART;TZID=America/New_York:20251124T180000
DTEND;TZID=America/New_York:20251124T200000
DTSTAMP:20260423T190617
CREATED:20250806T145924Z
LAST-MODIFIED:20250829T133147Z
UID:37625-1764007200-1764014400@bridgeoflife.org
SUMMARY:The Forge: Hammer
DESCRIPTION:Location: Smithsburg\nBlacksmiths: Dan & Julie Young\nPotluck Supper: Main dish provided. Please bring a side dish. \nGo deep into the Word with men and women in challenging discussions and heart connections. \nSign-up\n 
URL:https://bridgeoflife.org/calendar/the-forge-hammer-19/
CATEGORIES:The Forge
ATTACH;FMTTYPE=image/jpeg:https://bridgeoflife.org/wp-content/uploads/hammer.jpg
END:VEVENT
BEGIN:VEVENT
DTSTART;VALUE=DATE:20251127
DTEND;VALUE=DATE:20251129
DTSTAMP:20260423T190617
CREATED:20250711T135924Z
LAST-MODIFIED:20250711T135924Z
UID:37567-1764201600-1764374399@bridgeoflife.org
SUMMARY:Church Offices Closed
DESCRIPTION:
URL:https://bridgeoflife.org/calendar/church-offices-closed-2/
ATTACH;FMTTYPE=image/jpeg:https://bridgeoflife.org/wp-content/uploads/Offices.jpg
END:VEVENT
BEGIN:VEVENT
DTSTART;TZID=America/New_York:20251128T180000
DTEND;TZID=America/New_York:20251128T200000
DTSTAMP:20260423T190617
CREATED:20250806T150342Z
LAST-MODIFIED:20250806T150342Z
UID:37635-1764352800-1764360000@bridgeoflife.org
SUMMARY:The Forge: Anvil
DESCRIPTION:Location: Hagerstown\nBlacksmiths: Doug & Theresa Stone\nPotluck Supper: Main dish provided. Please bring a side dish.\n\nGo deep into the Word with men and women in challenging discussions and heart connections.
URL:https://bridgeoflife.org/calendar/the-forge-anvil-13/
CATEGORIES:The Forge
ATTACH;FMTTYPE=image/jpeg:https://bridgeoflife.org/wp-content/uploads/anvil.jpg
END:VEVENT
END:VCALENDAR