BEGIN:VCALENDAR
VERSION:2.0
PRODID:-//Bridge of Life - ECPv6.15.14//NONSGML v1.0//EN
CALSCALE:GREGORIAN
METHOD:PUBLISH
X-ORIGINAL-URL:https://bridgeoflife.org
X-WR-CALDESC:Events for Bridge of Life
REFRESH-INTERVAL;VALUE=DURATION:PT1H
X-Robots-Tag:noindex
X-PUBLISHED-TTL:PT1H
BEGIN:VTIMEZONE
TZID:America/New_York
BEGIN:DAYLIGHT
TZOFFSETFROM:-0500
TZOFFSETTO:-0400
TZNAME:EDT
DTSTART:20240310T070000
END:DAYLIGHT
BEGIN:STANDARD
TZOFFSETFROM:-0400
TZOFFSETTO:-0500
TZNAME:EST
DTSTART:20241103T060000
END:STANDARD
BEGIN:DAYLIGHT
TZOFFSETFROM:-0500
TZOFFSETTO:-0400
TZNAME:EDT
DTSTART:20250309T070000
END:DAYLIGHT
BEGIN:STANDARD
TZOFFSETFROM:-0400
TZOFFSETTO:-0500
TZNAME:EST
DTSTART:20251102T060000
END:STANDARD
BEGIN:DAYLIGHT
TZOFFSETFROM:-0500
TZOFFSETTO:-0400
TZNAME:EDT
DTSTART:20260308T070000
END:DAYLIGHT
BEGIN:STANDARD
TZOFFSETFROM:-0400
TZOFFSETTO:-0500
TZNAME:EST
DTSTART:20261101T060000
END:STANDARD
BEGIN:DAYLIGHT
TZOFFSETFROM:-0500
TZOFFSETTO:-0400
TZNAME:EDT
DTSTART:20270314T070000
END:DAYLIGHT
BEGIN:STANDARD
TZOFFSETFROM:-0400
TZOFFSETTO:-0500
TZNAME:EST
DTSTART:20271107T060000
END:STANDARD
END:VTIMEZONE
BEGIN:VEVENT
DTSTART;TZID=America/New_York:20251204T090000
DTEND;TZID=America/New_York:20251204T120000
DTSTAMP:20260423T173014
CREATED:20250126T133728Z
LAST-MODIFIED:20250301T145855Z
UID:37009-1764838800-1764849600@bridgeoflife.org
SUMMARY:Prayer & Presence at Hagerstown Area Pregnancy Clinic
DESCRIPTION:Bridge of Life’s monthly outreach event will be having a group of people present at the pregnancy clinic in Hagerstown. Our goal is to intercede and pray for the women going into the abortion clinic\, and offer the HAPC service of free sonograms. Justin shared his heart for this at the Member’s Meeting 2025\, saying it is an emotionally hostile environment for these women making life-changing decisions.\nPlease join us on the first Thursday of every month at BOL\, where we will meet and pray before walking over to the pregnancy clinic.
URL:https://bridgeoflife.org/calendar/prayer-presence-at-hagerstown-area-pregnancy-clinic-9/
LOCATION:Hagerstown Area Pregnancy Clinic\, 152 W Washington St.\, Hagerstown\, 21740\, United States
CATEGORIES:Churchwide Events,Outreach Events
ATTACH;FMTTYPE=image/jpeg:https://bridgeoflife.org/wp-content/uploads/IMG_1177.jpeg
END:VEVENT
BEGIN:VEVENT
DTSTART;TZID=America/New_York:20251205T180000
DTEND;TZID=America/New_York:20251205T200000
DTSTAMP:20260423T173014
CREATED:20250806T151252Z
LAST-MODIFIED:20250806T151329Z
UID:37649-1764957600-1764964800@bridgeoflife.org
SUMMARY:The Forge: Bellows
DESCRIPTION:Location: State Line\nBlacksmiths: Ray & Lisa Phillips\nPotluck Supper: Main dish provided. Please bring a side dish. \nGo deep into the Word with men and women in challenging discussions and heart connections. \nSign-up
URL:https://bridgeoflife.org/calendar/the-forge-bellows-7/
CATEGORIES:The Forge
ATTACH;FMTTYPE=image/jpeg:https://bridgeoflife.org/wp-content/uploads/IMG_1172.jpeg
END:VEVENT
BEGIN:VEVENT
DTSTART;TZID=America/New_York:20251208T180000
DTEND;TZID=America/New_York:20251208T200000
DTSTAMP:20260423T173014
CREATED:20250806T150008Z
LAST-MODIFIED:20250829T133055Z
UID:37627-1765216800-1765224000@bridgeoflife.org
SUMMARY:The Forge: Hammer
DESCRIPTION:Location: Smithsburg\nBlacksmiths: Dan & Julie Young\nPotluck Supper: Main dish provided. Please bring a side dish. \nGo deep into the Word with men and women in challenging discussions and heart connections. \nSign-up\n 
URL:https://bridgeoflife.org/calendar/the-forge-hammer-20/
CATEGORIES:The Forge
ATTACH;FMTTYPE=image/jpeg:https://bridgeoflife.org/wp-content/uploads/hammer.jpg
END:VEVENT
BEGIN:VEVENT
DTSTART;TZID=America/New_York:20251212T180000
DTEND;TZID=America/New_York:20251212T200000
DTSTAMP:20260423T173014
CREATED:20250806T150557Z
LAST-MODIFIED:20250806T150557Z
UID:37637-1765562400-1765569600@bridgeoflife.org
SUMMARY:The Forge: Anvil
DESCRIPTION:Location: Hagerstown\nBlacksmiths: Doug & Theresa Stone\nPotluck Supper: Main dish provided. Please bring a side dish.\n\nGo deep into the Word with men and women in challenging discussions and heart connections.
URL:https://bridgeoflife.org/calendar/the-forge-anvil-14/
CATEGORIES:The Forge
ATTACH;FMTTYPE=image/jpeg:https://bridgeoflife.org/wp-content/uploads/anvil.jpg
END:VEVENT
BEGIN:VEVENT
DTSTART;TZID=America/New_York:20251218T180000
DTEND;TZID=America/New_York:20251218T200000
DTSTAMP:20260423T173014
CREATED:20251126T144259Z
LAST-MODIFIED:20251126T144259Z
UID:37740-1766080800-1766088000@bridgeoflife.org
SUMMARY:Men's Wing Night
DESCRIPTION:Signup here!
URL:https://bridgeoflife.org/calendar/mens-wing-night/
LOCATION:Bridge of Life King’s Room\, 6 South Potomac Street\, Hagerstown\, MD\, 21740\, United States
CATEGORIES:Men’s Events
ATTACH;FMTTYPE=image/jpeg:https://bridgeoflife.org/wp-content/uploads/wing-night.jpg
END:VEVENT
BEGIN:VEVENT
DTSTART;TZID=America/New_York:20251219T180000
DTEND;TZID=America/New_York:20251219T200000
DTSTAMP:20260423T173014
CREATED:20250806T151535Z
LAST-MODIFIED:20250806T151535Z
UID:37651-1766167200-1766174400@bridgeoflife.org
SUMMARY:The Forge: Bellows
DESCRIPTION:Location: State Line\nBlacksmiths: Ray & Lisa Phillips\nPotluck Supper: Main dish provided. Please bring a side dish. \nGo deep into the Word with men and women in challenging discussions and heart connections. \nSign-up
URL:https://bridgeoflife.org/calendar/the-forge-bellows-8/
CATEGORIES:The Forge
ATTACH;FMTTYPE=image/jpeg:https://bridgeoflife.org/wp-content/uploads/IMG_1172.jpeg
END:VEVENT
BEGIN:VEVENT
DTSTART;TZID=America/New_York:20251220T180000
DTEND;TZID=America/New_York:20251221T090000
DTSTAMP:20260423T173014
CREATED:20251126T145240Z
LAST-MODIFIED:20251126T145240Z
UID:37744-1766253600-1766307600@bridgeoflife.org
SUMMARY:Youth Christmas Party & Allnighter
DESCRIPTION:
URL:https://bridgeoflife.org/calendar/youth-christmas-party-allnighter/
LOCATION:Bridge of Life Youth Room\, 6 South Potomac Street\, Hagerstown\, United States
CATEGORIES:Youth Events
ATTACH;FMTTYPE=image/jpeg:https://bridgeoflife.org/wp-content/uploads/youth-1.jpg
END:VEVENT
BEGIN:VEVENT
DTSTART;VALUE=DATE:20251224
DTEND;VALUE=DATE:20260103
DTSTAMP:20260423T173014
CREATED:20250711T135945Z
LAST-MODIFIED:20250711T135945Z
UID:37569-1766534400-1767398399@bridgeoflife.org
SUMMARY:Church Offices Closed
DESCRIPTION:
URL:https://bridgeoflife.org/calendar/church-offices-closed-3/
ATTACH;FMTTYPE=image/jpeg:https://bridgeoflife.org/wp-content/uploads/Offices.jpg
END:VEVENT
BEGIN:VEVENT
DTSTART;TZID=America/New_York:20251224T150000
DTEND;TZID=America/New_York:20251224T190000
DTSTAMP:20260423T173014
CREATED:20241203T235657Z
LAST-MODIFIED:20241227T191207Z
UID:36585-1766588400-1766602800@bridgeoflife.org
SUMMARY:Christmas Eve Dinner
DESCRIPTION:Bridge of Life’s Annual Christmas Eve Dinner is a free meal to the public from 4-6pm. More than 250 people walk through our doors that night\, we need assistance providing them with hearty meals! \nVolunteer segments are from 3-7pm! \nIf you are unable to attend on Christmas Eve\, you can assist by cooking a turkey or ham and delivering it to the church that afternoon. \nThe church will be handing out turkeys and hams after service to be brought back cooked on Christmas Eve! Just designate below if you will be doing that. \n\n	Notice: JavaScript is required for this content.\nNo Fields Found.
URL:https://bridgeoflife.org/calendar/christmas-eve-dinner-2/
LOCATION:Bridge of Life King’s Room\, 6 South Potomac Street\, Hagerstown\, MD\, 21740\, United States
CATEGORIES:Churchwide Events,Outreach Events
ATTACH;FMTTYPE=image/jpeg:https://bridgeoflife.org/wp-content/uploads/IMG_1087.jpeg
END:VEVENT
BEGIN:VEVENT
DTSTART;TZID=America/New_York:20251224T190000
DTEND;TZID=America/New_York:20251224T200000
DTSTAMP:20260423T173014
CREATED:20241213T152723Z
LAST-MODIFIED:20241213T152829Z
UID:36653-1766602800-1766606400@bridgeoflife.org
SUMMARY:Christmas Eve Service
DESCRIPTION:
URL:https://bridgeoflife.org/calendar/christmas-eve-service-2/
CATEGORIES:Churchwide Events
ATTACH;FMTTYPE=image/jpeg:https://bridgeoflife.org/wp-content/uploads/23.jpg
END:VEVENT
BEGIN:VEVENT
DTSTART;TZID=America/New_York:20251228T110000
DTEND;TZID=America/New_York:20251228T120000
DTSTAMP:20260423T173014
CREATED:20241223T181253Z
LAST-MODIFIED:20241223T181253Z
UID:36809-1766919600-1766923200@bridgeoflife.org
SUMMARY:Speaker: Associate Pastor Ray Phillips
DESCRIPTION:
URL:https://bridgeoflife.org/calendar/speaker-associate-pastor-ray-phillips-6/
CATEGORIES:Churchwide Events
ATTACH;FMTTYPE=image/jpeg:https://bridgeoflife.org/wp-content/uploads/IMG_0228.jpeg
END:VEVENT
END:VCALENDAR